BEGIN:VCALENDAR
VERSION:2.0
PRODID:-//The Forge Tavern - ECPv6.15.20//NONSGML v1.0//EN
CALSCALE:GREGORIAN
METHOD:PUBLISH
X-ORIGINAL-URL:https://theforgetavern.com
X-WR-CALDESC:Events for The Forge Tavern
REFRESH-INTERVAL;VALUE=DURATION:PT1H
X-Robots-Tag:noindex
X-PUBLISHED-TTL:PT1H
BEGIN:VTIMEZONE
TZID:America/New_York
BEGIN:DAYLIGHT
TZOFFSETFROM:-0500
TZOFFSETTO:-0400
TZNAME:EDT
DTSTART:20230312T070000
END:DAYLIGHT
BEGIN:STANDARD
TZOFFSETFROM:-0400
TZOFFSETTO:-0500
TZNAME:EST
DTSTART:20231105T060000
END:STANDARD
BEGIN:DAYLIGHT
TZOFFSETFROM:-0500
TZOFFSETTO:-0400
TZNAME:EDT
DTSTART:20240310T070000
END:DAYLIGHT
BEGIN:STANDARD
TZOFFSETFROM:-0400
TZOFFSETTO:-0500
TZNAME:EST
DTSTART:20241103T060000
END:STANDARD
BEGIN:DAYLIGHT
TZOFFSETFROM:-0500
TZOFFSETTO:-0400
TZNAME:EDT
DTSTART:20250309T070000
END:DAYLIGHT
BEGIN:STANDARD
TZOFFSETFROM:-0400
TZOFFSETTO:-0500
TZNAME:EST
DTSTART:20251102T060000
END:STANDARD
END:VTIMEZONE
BEGIN:VEVENT
DTSTART;TZID=America/New_York:20240329T190000
DTEND;TZID=America/New_York:20240329T230000
DTSTAMP:20260425T214618
CREATED:20240204T061304Z
LAST-MODIFIED:20240324T033526Z
UID:12627-1711738800-1711753200@theforgetavern.com
SUMMARY:Pirate Party Featuring Pirates Creed
DESCRIPTION:Pirate Party! \nPirate’s Creed takes the stage from 8-10pm \nThe Forge Tavern is excited to welcome Pirate’s Creed back to our venue! Dress in your best Pirate Attire and join us for another fantastic Pirate Party! \nThis is a ticketed event. Grab your tickets now! This event always sells out. \nFOOD AND DRINKS:\nWe will have a special drink menu for this event with themed drinks. Our regular menu options may not be available in order to bring to you our specialty themed menu.
URL:https://theforgetavern.com/event/pirate-party-featuring-pirates-creed-4/
LOCATION:OH
END:VEVENT
END:VCALENDAR