BEGIN:VCALENDAR
VERSION:2.0
PRODID:-//The Forge Tavern - ECPv6.15.20//NONSGML v1.0//EN
CALSCALE:GREGORIAN
METHOD:PUBLISH
X-ORIGINAL-URL:https://theforgetavern.com
X-WR-CALDESC:Events for The Forge Tavern
REFRESH-INTERVAL;VALUE=DURATION:PT1H
X-Robots-Tag:noindex
X-PUBLISHED-TTL:PT1H
BEGIN:VTIMEZONE
TZID:America/New_York
BEGIN:DAYLIGHT
TZOFFSETFROM:-0500
TZOFFSETTO:-0400
TZNAME:EDT
DTSTART:20230312T070000
END:DAYLIGHT
BEGIN:STANDARD
TZOFFSETFROM:-0400
TZOFFSETTO:-0500
TZNAME:EST
DTSTART:20231105T060000
END:STANDARD
BEGIN:DAYLIGHT
TZOFFSETFROM:-0500
TZOFFSETTO:-0400
TZNAME:EDT
DTSTART:20240310T070000
END:DAYLIGHT
BEGIN:STANDARD
TZOFFSETFROM:-0400
TZOFFSETTO:-0500
TZNAME:EST
DTSTART:20241103T060000
END:STANDARD
BEGIN:DAYLIGHT
TZOFFSETFROM:-0500
TZOFFSETTO:-0400
TZNAME:EDT
DTSTART:20250309T070000
END:DAYLIGHT
BEGIN:STANDARD
TZOFFSETFROM:-0400
TZOFFSETTO:-0500
TZNAME:EST
DTSTART:20251102T060000
END:STANDARD
END:VTIMEZONE
BEGIN:VEVENT
DTSTART;TZID=America/New_York:20240420T180000
DTEND;TZID=America/New_York:20240420T235000
DTSTAMP:20260425T214619
CREATED:20240401T055031Z
LAST-MODIFIED:20240401T055114Z
UID:13527-1713636000-1713657000@theforgetavern.com
SUMMARY:Celebrity D&D  Charity Livestream Viewing Party
DESCRIPTION:Join us at The Forge Tavern for a viewing party featuring Todd Stashwick’s Nerd Circus and Legends of Eleanora – A D&D Livestream event.\n\n\n \n\n\nWhat you’ll be part of:\n\n\nLivestream viewing party\nDress as your favorite D&D Character OR just come as yourself.\n\n\nA chance to participate in the Charity benefitting The Pablove Foundation.\n\n\nThis is a ticketed event – 100% of ticket sales will be donated directly to The Pablove Foundation through this event.\n\n\n\nSpecialty Cocktails – Some directly from Todd Stashwick’s book “Mystic Libations”  Find your copy here: https://www.traderbrandon.com/products/mystic-libations-1\n\n\n\nRaffle – Forge Tavern Merch will be raffled off. 100% of raffle proceeds will go to The Pablove Foundation through this event.\n\n\n \n\n\nThe Forge Tavern is also donating a portion of food/drink sales to this Charity.\n\n\n \n\n\nThe livestream starts promptly at 8pm EDT \n\n\n \n\n\nCan’t make it the night of the livestream? You do not have to be present to donate! The Forge Tavern will start a donation jar and raffle information this week! You can also purchase a non-attendee ticket.  100% of all ticket sales are donation ONLY.   Ticket sales are 100% donated to the charity.\n\n\nCheck out who will be part of the D&D Livestream!\n\n\nIf the livestream exceeds our business hours\, we will stay open until the livestream ends.\n\nWe’re offering two types of tickets\, Attendee and Non-Attendee.  If you’re attending the viewing party\, please choose Attendee.  If you just want to donate through The Forge Tavern\, select Non-Attendee.  Feel free to donate as many Non-Attendee tickets as you like.  Again\, 100% of ticket sales will be donated to The Pablove Foundation\, a non-profit pediatric cancer foundation through this event.
URL:https://theforgetavern.com/event/celebrity-dd-charity-livestream-viewing-party/
LOCATION:OH
ATTACH;FMTTYPE=image/jpeg:https://theforgetavern.com/wp-content/uploads/2024/04/tstashwick-livestream.jpg
END:VEVENT
END:VCALENDAR