BEGIN:VCALENDAR
VERSION:2.0
PRODID:-//The Forge Tavern - ECPv6.15.20//NONSGML v1.0//EN
CALSCALE:GREGORIAN
METHOD:PUBLISH
X-WR-CALNAME:The Forge Tavern
X-ORIGINAL-URL:https://theforgetavern.com
X-WR-CALDESC:Events for The Forge Tavern
REFRESH-INTERVAL;VALUE=DURATION:PT1H
X-Robots-Tag:noindex
X-PUBLISHED-TTL:PT1H
BEGIN:VTIMEZONE
TZID:America/New_York
BEGIN:DAYLIGHT
TZOFFSETFROM:-0500
TZOFFSETTO:-0400
TZNAME:EDT
DTSTART:20230312T070000
END:DAYLIGHT
BEGIN:STANDARD
TZOFFSETFROM:-0400
TZOFFSETTO:-0500
TZNAME:EST
DTSTART:20231105T060000
END:STANDARD
BEGIN:DAYLIGHT
TZOFFSETFROM:-0500
TZOFFSETTO:-0400
TZNAME:EDT
DTSTART:20240310T070000
END:DAYLIGHT
BEGIN:STANDARD
TZOFFSETFROM:-0400
TZOFFSETTO:-0500
TZNAME:EST
DTSTART:20241103T060000
END:STANDARD
BEGIN:DAYLIGHT
TZOFFSETFROM:-0500
TZOFFSETTO:-0400
TZNAME:EDT
DTSTART:20250309T070000
END:DAYLIGHT
BEGIN:STANDARD
TZOFFSETFROM:-0400
TZOFFSETTO:-0500
TZNAME:EST
DTSTART:20251102T060000
END:STANDARD
END:VTIMEZONE
BEGIN:VEVENT
DTSTART;TZID=America/New_York:20240531T190000
DTEND;TZID=America/New_York:20240531T230000
DTSTAMP:20260425T144414
CREATED:20240509T145746Z
LAST-MODIFIED:20240509T145746Z
UID:14037-1717182000-1717196400@theforgetavern.com
SUMMARY:2d6 in the House
DESCRIPTION:2d6 -2d6 is the fusion of two gigantic nerds that learned to rap by finding magical 6-sided dice. Fo Reel \nThey are performing a FREE SHOW at The Forge Tavern! \nStop in and check them out! \nAdmission is FREE! \n2d6 takes the stage at 8pm \nRules: 2 drink minimum OR food/drink equivalent per person. We will still have open gaming while you enjoy the entertainment. 18 and over unless accompanied by a parent/guardian. Enjoy the show\, stay for the games! – Every Great Adventure begins at the Tavern! \nSpace is limited. Call 614-815-0205 during business hours and put your name on our reservation list!  Seating will be first come\, first seated.
URL:https://theforgetavern.com/event/2d6-in-the-house-2/
END:VEVENT
END:VCALENDAR