BEGIN:VCALENDAR
VERSION:2.0
PRODID:-//The Forge Tavern - ECPv6.15.20//NONSGML v1.0//EN
CALSCALE:GREGORIAN
METHOD:PUBLISH
X-WR-CALNAME:The Forge Tavern
X-ORIGINAL-URL:https://theforgetavern.com
X-WR-CALDESC:Events for The Forge Tavern
REFRESH-INTERVAL;VALUE=DURATION:PT1H
X-Robots-Tag:noindex
X-PUBLISHED-TTL:PT1H
BEGIN:VTIMEZONE
TZID:America/New_York
BEGIN:DAYLIGHT
TZOFFSETFROM:-0500
TZOFFSETTO:-0400
TZNAME:EDT
DTSTART:20230312T070000
END:DAYLIGHT
BEGIN:STANDARD
TZOFFSETFROM:-0400
TZOFFSETTO:-0500
TZNAME:EST
DTSTART:20231105T060000
END:STANDARD
BEGIN:DAYLIGHT
TZOFFSETFROM:-0500
TZOFFSETTO:-0400
TZNAME:EDT
DTSTART:20240310T070000
END:DAYLIGHT
BEGIN:STANDARD
TZOFFSETFROM:-0400
TZOFFSETTO:-0500
TZNAME:EST
DTSTART:20241103T060000
END:STANDARD
BEGIN:DAYLIGHT
TZOFFSETFROM:-0500
TZOFFSETTO:-0400
TZNAME:EDT
DTSTART:20250309T070000
END:DAYLIGHT
BEGIN:STANDARD
TZOFFSETFROM:-0400
TZOFFSETTO:-0500
TZNAME:EST
DTSTART:20251102T060000
END:STANDARD
END:VTIMEZONE
BEGIN:VEVENT
DTSTART;TZID=America/New_York:20240605T190000
DTEND;TZID=America/New_York:20240605T220000
DTSTAMP:20260425T182404
CREATED:20240524T181633Z
LAST-MODIFIED:20240605T180601Z
UID:14183-1717614000-1717624800@theforgetavern.com
SUMMARY:Wire and Wine Jewelry Class
DESCRIPTION:Beginner level class. \nFor those of you who love making jewelry or want to try it for the first time\, this class is for you! Perfect for beginners or skilled jewelry makers. \nJoin us as we enjoy a glass of wine and learn how to make the timeless tree of life pendant. All materials and tools provided. \nEvent starts promptly at 7pm. \n$35.00 includes all the materials and hands on instruction to complete 2 pendants. Keep one for yourself and give one as a gift. Bonus! It also includes a glass of wine or summer sangria! \nWe hope to see you there!
URL:https://theforgetavern.com/event/wire-and-wine-jewelry-class/
LOCATION:OH
ATTACH;FMTTYPE=image/jpeg:https://theforgetavern.com/wp-content/uploads/2024/05/wire-and-wine2.jpg
END:VEVENT
END:VCALENDAR