BEGIN:VCALENDAR
VERSION:2.0
PRODID:-//The Forge Tavern - ECPv6.15.20//NONSGML v1.0//EN
CALSCALE:GREGORIAN
METHOD:PUBLISH
X-WR-CALNAME:The Forge Tavern
X-ORIGINAL-URL:https://theforgetavern.com
X-WR-CALDESC:Events for The Forge Tavern
REFRESH-INTERVAL;VALUE=DURATION:PT1H
X-Robots-Tag:noindex
X-PUBLISHED-TTL:PT1H
BEGIN:VTIMEZONE
TZID:America/New_York
BEGIN:DAYLIGHT
TZOFFSETFROM:-0500
TZOFFSETTO:-0400
TZNAME:EDT
DTSTART:20230312T070000
END:DAYLIGHT
BEGIN:STANDARD
TZOFFSETFROM:-0400
TZOFFSETTO:-0500
TZNAME:EST
DTSTART:20231105T060000
END:STANDARD
BEGIN:DAYLIGHT
TZOFFSETFROM:-0500
TZOFFSETTO:-0400
TZNAME:EDT
DTSTART:20240310T070000
END:DAYLIGHT
BEGIN:STANDARD
TZOFFSETFROM:-0400
TZOFFSETTO:-0500
TZNAME:EST
DTSTART:20241103T060000
END:STANDARD
BEGIN:DAYLIGHT
TZOFFSETFROM:-0500
TZOFFSETTO:-0400
TZNAME:EDT
DTSTART:20250309T070000
END:DAYLIGHT
BEGIN:STANDARD
TZOFFSETFROM:-0400
TZOFFSETTO:-0500
TZNAME:EST
DTSTART:20251102T060000
END:STANDARD
END:VTIMEZONE
BEGIN:VEVENT
DTSTART;TZID=America/New_York:20240620T183000
DTEND;TZID=America/New_York:20240620T213000
DTSTAMP:20260425T182405
CREATED:20240604T144850Z
LAST-MODIFIED:20240620T162818Z
UID:14286-1718908200-1718919000@theforgetavern.com
SUMMARY:A Night of D&D with Luke Gygax
DESCRIPTION:Join Luke Gygax as he runs a special D&D game at The Forge Tavern! YOU and 7 other players can join story-teller Luke Gygax in this special event. \nThis is a ticketed event\, so purchase yours now. There are only 8 available. \nGet in early and join for a meet & greet signing!  Signing starts at 5:30 pm. \nAbout Luke:\nLucion (“Luke”) Gygax is an American game designer\, enthusiast\, and entrepreneur in the fantasy and dieselpunk genres. His latest work is the world of Okkorim. Luke founded the annual Gary Con gaming convention\, launched the publishing company Gaxx Worx\, and successfully funded several Kickstarters. He is also a military veteran\, and contributes to helping veterans recover from wounds sustained from serving in combat via the Wounded Warrior Project.
URL:https://theforgetavern.com/event/a-night-of-dd-with-luke-gygax/
LOCATION:OH
END:VEVENT
BEGIN:VEVENT
DTSTART;TZID=America/New_York:20240620T200000
DTEND;TZID=America/New_York:20240620T220000
DTSTAMP:20260425T182405
CREATED:20240517T021310Z
LAST-MODIFIED:20240605T023213Z
UID:14137-1718913600-1718920800@theforgetavern.com
SUMMARY:Thursday Trivia - Final Fantasy
DESCRIPTION:Do you know the square root of an isosceles triangle? Or how many pigs fit in a blanket? Or how many cow farts it takes to fuel a combustion engine? Well\, we don’t either\, but if you know some actual general knowledge trivial things and/or some cool and nerdy themed trivial things\, then The Forge Tavern Trivia Night is for you. \nAll you need to join is a smartphone or tablet\, a team (or just yourself\, you plucky trivia adventurer)\, and the taste for some great food and drinks. We have cool trophies and prizes\, so you really don’t have any excuse not to join us. Unless you’re chicken\, McFly. \nGeneral Knowledge trivia starts at 8pm. The main event\, Final Fantasy trivia\, rides a chocobo at 9pm. \nRemember! We’re serving great food and drinks\, so arrive hungry (and thirsty!) and leave satisfied. \nOur trivia fills up fast! A reservation can guarantee that your team gets a seat. Make your reservations now before they’re all gone! Reservations held until 8:05 pm. \nThere is a two drink (or food/beverage equivalent) minimum required for all trivia participants. Tickets are not refundable or transferable.
URL:https://theforgetavern.com/event/thursday-trivia-final-fantasy/
LOCATION:The Forge Tavern\, 1375 Bethel Rd\, Columbus\, OH\, 43220\, United States
CATEGORIES:Trivia
ATTACH;FMTTYPE=image/jpeg:https://theforgetavern.com/wp-content/uploads/2024/05/Final-Fantasy-6-29-24-FB-e1715911941515.jpg
END:VEVENT
END:VCALENDAR