BEGIN:VCALENDAR
VERSION:2.0
PRODID:-//The Forge Tavern - ECPv6.15.20//NONSGML v1.0//EN
CALSCALE:GREGORIAN
METHOD:PUBLISH
X-WR-CALNAME:The Forge Tavern
X-ORIGINAL-URL:https://theforgetavern.com
X-WR-CALDESC:Events for The Forge Tavern
REFRESH-INTERVAL;VALUE=DURATION:PT1H
X-Robots-Tag:noindex
X-PUBLISHED-TTL:PT1H
BEGIN:VTIMEZONE
TZID:America/New_York
BEGIN:DAYLIGHT
TZOFFSETFROM:-0500
TZOFFSETTO:-0400
TZNAME:EDT
DTSTART:20230312T070000
END:DAYLIGHT
BEGIN:STANDARD
TZOFFSETFROM:-0400
TZOFFSETTO:-0500
TZNAME:EST
DTSTART:20231105T060000
END:STANDARD
BEGIN:DAYLIGHT
TZOFFSETFROM:-0500
TZOFFSETTO:-0400
TZNAME:EDT
DTSTART:20240310T070000
END:DAYLIGHT
BEGIN:STANDARD
TZOFFSETFROM:-0400
TZOFFSETTO:-0500
TZNAME:EST
DTSTART:20241103T060000
END:STANDARD
BEGIN:DAYLIGHT
TZOFFSETFROM:-0500
TZOFFSETTO:-0400
TZNAME:EDT
DTSTART:20250309T070000
END:DAYLIGHT
BEGIN:STANDARD
TZOFFSETFROM:-0400
TZOFFSETTO:-0500
TZNAME:EST
DTSTART:20251102T060000
END:STANDARD
END:VTIMEZONE
BEGIN:VEVENT
DTSTART;TZID=America/New_York:20240731T190000
DTEND;TZID=America/New_York:20240731T210000
DTSTAMP:20260425T112106
CREATED:20240721T225614Z
LAST-MODIFIED:20240726T181826Z
UID:14777-1722452400-1722459600@theforgetavern.com
SUMMARY:Wine Wednesday Cocktail Crafting Class
DESCRIPTION:Join us Wednesday\, July 31 for our first in a series of Wine Wednesday!\n\nDiane will teach you how to make a wine cocktail.\n\nWhat’s in a bubbly wine cocktail? Will be teaching how to craft the perfect cocktail. Which ingredients work well together? How to make your cocktails stand out?\n\nWe have a special take on a French 75 crafted for this first one.\n\nTickets are non-refundable and non-transferrable.\n 
URL:https://theforgetavern.com/event/wine-wednesday-cocktail-crafting-class/
END:VEVENT
END:VCALENDAR