BEGIN:VCALENDAR
VERSION:2.0
PRODID:-//The Forge Tavern - ECPv6.15.20//NONSGML v1.0//EN
CALSCALE:GREGORIAN
METHOD:PUBLISH
X-WR-CALNAME:The Forge Tavern
X-ORIGINAL-URL:https://theforgetavern.com
X-WR-CALDESC:Events for The Forge Tavern
REFRESH-INTERVAL;VALUE=DURATION:PT1H
X-Robots-Tag:noindex
X-PUBLISHED-TTL:PT1H
BEGIN:VTIMEZONE
TZID:America/New_York
BEGIN:DAYLIGHT
TZOFFSETFROM:-0500
TZOFFSETTO:-0400
TZNAME:EDT
DTSTART:20230312T070000
END:DAYLIGHT
BEGIN:STANDARD
TZOFFSETFROM:-0400
TZOFFSETTO:-0500
TZNAME:EST
DTSTART:20231105T060000
END:STANDARD
BEGIN:DAYLIGHT
TZOFFSETFROM:-0500
TZOFFSETTO:-0400
TZNAME:EDT
DTSTART:20240310T070000
END:DAYLIGHT
BEGIN:STANDARD
TZOFFSETFROM:-0400
TZOFFSETTO:-0500
TZNAME:EST
DTSTART:20241103T060000
END:STANDARD
BEGIN:DAYLIGHT
TZOFFSETFROM:-0500
TZOFFSETTO:-0400
TZNAME:EDT
DTSTART:20250309T070000
END:DAYLIGHT
BEGIN:STANDARD
TZOFFSETFROM:-0400
TZOFFSETTO:-0500
TZNAME:EST
DTSTART:20251102T060000
END:STANDARD
END:VTIMEZONE
BEGIN:VEVENT
DTSTART;TZID=America/New_York:20240804T160000
DTEND;TZID=America/New_York:20240804T230000
DTSTAMP:20260425T113014
CREATED:20240720T022502Z
LAST-MODIFIED:20240720T022502Z
UID:14755-1722787200-1722812400@theforgetavern.com
SUMMARY:Open Gaming - Front room
DESCRIPTION:Open gaming in the front room. \nYes\, karaoke is going on in the back room.  We try to keep sound levels down so the front room has open gaming.  Feel free to put your favorite song in while you game! \nHope to see you.
URL:https://theforgetavern.com/event/open-gaming-front-room/
END:VEVENT
BEGIN:VEVENT
DTSTART;TZID=America/New_York:20240804T193000
DTEND;TZID=America/New_York:20240804T230000
DTSTAMP:20260425T113014
CREATED:20240714T220937Z
LAST-MODIFIED:20240714T220937Z
UID:14686-1722799800-1722812400@theforgetavern.com
SUMMARY:Sunday Karaoke
DESCRIPTION:Join our hosts Tim or Adriana every Sunday night from 7:30 – 11pm \nPut in your favorite song!
URL:https://theforgetavern.com/event/sunday-karaoke-3/
END:VEVENT
END:VCALENDAR