BEGIN:VCALENDAR
VERSION:2.0
PRODID:-//The Forge Tavern - ECPv6.15.20//NONSGML v1.0//EN
CALSCALE:GREGORIAN
METHOD:PUBLISH
X-ORIGINAL-URL:https://theforgetavern.com
X-WR-CALDESC:Events for The Forge Tavern
REFRESH-INTERVAL;VALUE=DURATION:PT1H
X-Robots-Tag:noindex
X-PUBLISHED-TTL:PT1H
BEGIN:VTIMEZONE
TZID:America/New_York
BEGIN:DAYLIGHT
TZOFFSETFROM:-0500
TZOFFSETTO:-0400
TZNAME:EDT
DTSTART:20230312T070000
END:DAYLIGHT
BEGIN:STANDARD
TZOFFSETFROM:-0400
TZOFFSETTO:-0500
TZNAME:EST
DTSTART:20231105T060000
END:STANDARD
BEGIN:DAYLIGHT
TZOFFSETFROM:-0500
TZOFFSETTO:-0400
TZNAME:EDT
DTSTART:20240310T070000
END:DAYLIGHT
BEGIN:STANDARD
TZOFFSETFROM:-0400
TZOFFSETTO:-0500
TZNAME:EST
DTSTART:20241103T060000
END:STANDARD
BEGIN:DAYLIGHT
TZOFFSETFROM:-0500
TZOFFSETTO:-0400
TZNAME:EDT
DTSTART:20250309T070000
END:DAYLIGHT
BEGIN:STANDARD
TZOFFSETFROM:-0400
TZOFFSETTO:-0500
TZNAME:EST
DTSTART:20251102T060000
END:STANDARD
END:VTIMEZONE
BEGIN:VEVENT
DTSTART;TZID=America/New_York:20240821T180000
DTEND;TZID=America/New_York:20240821T220000
DTSTAMP:20260425T113011
CREATED:20240724T160638Z
LAST-MODIFIED:20240724T160638Z
UID:14811-1724263200-1724277600@theforgetavern.com
SUMMARY:Dungeons and Dragons - One Shot
DESCRIPTION:Join game master Matt! \nMatt is a seasoned DM and is partnering with us at the Forge Tavern to run some D&D sessions! \nSingle evening of D&D in a self-contained adventure. \nProvided:  Pre-generated character sheets & pencils for use. \nWhat you’ll need to bring:  Your own dice.  Players handbook if you have one\, but not required. (We do have them for sale if you want to purchase dice or the handbook) \nRequired:  2 cocktail minimum OR Food/drink equivalent for any event. \nTickets are non-refundable and non-transferrable.
URL:https://theforgetavern.com/event/dungeons-and-dragons-one-shot-2/
END:VEVENT
BEGIN:VEVENT
DTSTART;TZID=America/New_York:20240821T190000
DTEND;TZID=America/New_York:20240821T220000
DTSTAMP:20260425T113011
CREATED:20240719T225859Z
LAST-MODIFIED:20240821T202908Z
UID:14743-1724266800-1724277600@theforgetavern.com
SUMMARY:Wire & Wine - Vintage Inspired Necklace
DESCRIPTION:Wire and Wine – Renaissance / Steampunk necklace \nBeginner Level \nBeginner level class. \nJoin Diane as we enjoy a glass of wine and learn how to make the timeless renaissance/victorian inspired necklace. \nAll materials and tools provided. Stones shown are not necessarily the ones we will be using in class. \nEvent starts promptly at 7 pm. \nTickets required.  Invite your friends!  Great way to prepare for the upcoming Ohio Renaissance Festival! \n$39.00 includes all the materials and hands on instruction to create a pendant in the style shown. Bonus! It also includes a glass of wine!
URL:https://theforgetavern.com/event/wire-wine-vintage-inspired-necklace/
ATTACH;FMTTYPE=image/jpeg:https://theforgetavern.com/wp-content/uploads/2024/07/renaissance-necklace-1.jpg
END:VEVENT
END:VCALENDAR