BEGIN:VCALENDAR
VERSION:2.0
PRODID:-//The Forge Tavern - ECPv6.15.20//NONSGML v1.0//EN
CALSCALE:GREGORIAN
METHOD:PUBLISH
X-ORIGINAL-URL:https://theforgetavern.com
X-WR-CALDESC:Events for The Forge Tavern
REFRESH-INTERVAL;VALUE=DURATION:PT1H
X-Robots-Tag:noindex
X-PUBLISHED-TTL:PT1H
BEGIN:VTIMEZONE
TZID:America/New_York
BEGIN:DAYLIGHT
TZOFFSETFROM:-0500
TZOFFSETTO:-0400
TZNAME:EDT
DTSTART:20230312T070000
END:DAYLIGHT
BEGIN:STANDARD
TZOFFSETFROM:-0400
TZOFFSETTO:-0500
TZNAME:EST
DTSTART:20231105T060000
END:STANDARD
BEGIN:DAYLIGHT
TZOFFSETFROM:-0500
TZOFFSETTO:-0400
TZNAME:EDT
DTSTART:20240310T070000
END:DAYLIGHT
BEGIN:STANDARD
TZOFFSETFROM:-0400
TZOFFSETTO:-0500
TZNAME:EST
DTSTART:20241103T060000
END:STANDARD
BEGIN:DAYLIGHT
TZOFFSETFROM:-0500
TZOFFSETTO:-0400
TZNAME:EDT
DTSTART:20250309T070000
END:DAYLIGHT
BEGIN:STANDARD
TZOFFSETFROM:-0400
TZOFFSETTO:-0500
TZNAME:EST
DTSTART:20251102T060000
END:STANDARD
END:VTIMEZONE
BEGIN:VEVENT
DTSTART;TZID=America/New_York:20240828T190000
DTEND;TZID=America/New_York:20240828T203000
DTSTAMP:20260425T094732
CREATED:20240712T032217Z
LAST-MODIFIED:20240712T033144Z
UID:14650-1724871600-1724877000@theforgetavern.com
SUMMARY:Reading and Q&A with Christopher Buehlman
DESCRIPTION:We are celebrating the release of Christopher Buehlman’s new fantasy novel\, The Daughter’s War\, with a reading and Q&A at Forge Tavern! \nThe Daughters’ War\, a prequel to The Blacktongue Thief\, is a war novel. Set a decade before Galva and Kirch’s adventure\, this tells the story of Galva heading to war with her brothers\, and their struggles to fend off the most relentless of adversaries\, the goblins. Galva’s story is full of love and loss\, sacrifice and struggle\, and is beautifully written. You also take a deep dive into more of the history of Buehlman’s world\, and learn more of Galva’s motivations and drive. \nWe’re excited to welcome Christopher Buehlman back to Forge Tavern as to support his new novel! He will read from the book\, as well as conduct a Q&A session with fans. Books will be available for purchase. \nRSVP here: \nReading and Q&A with Christopher Buehlman | Get Tickets | Ticketbud
URL:https://theforgetavern.com/event/reading-and-qa-with-christopher-buehlman/
ATTACH;FMTTYPE=image/png:https://theforgetavern.com/wp-content/uploads/2024/07/Christopher_Buehlman1.png
END:VEVENT
END:VCALENDAR