BEGIN:VCALENDAR
VERSION:2.0
PRODID:-//The Forge Tavern - ECPv6.15.20//NONSGML v1.0//EN
CALSCALE:GREGORIAN
METHOD:PUBLISH
X-ORIGINAL-URL:https://theforgetavern.com
X-WR-CALDESC:Events for The Forge Tavern
REFRESH-INTERVAL;VALUE=DURATION:PT1H
X-Robots-Tag:noindex
X-PUBLISHED-TTL:PT1H
BEGIN:VTIMEZONE
TZID:America/New_York
BEGIN:DAYLIGHT
TZOFFSETFROM:-0500
TZOFFSETTO:-0400
TZNAME:EDT
DTSTART:20230312T070000
END:DAYLIGHT
BEGIN:STANDARD
TZOFFSETFROM:-0400
TZOFFSETTO:-0500
TZNAME:EST
DTSTART:20231105T060000
END:STANDARD
BEGIN:DAYLIGHT
TZOFFSETFROM:-0500
TZOFFSETTO:-0400
TZNAME:EDT
DTSTART:20240310T070000
END:DAYLIGHT
BEGIN:STANDARD
TZOFFSETFROM:-0400
TZOFFSETTO:-0500
TZNAME:EST
DTSTART:20241103T060000
END:STANDARD
BEGIN:DAYLIGHT
TZOFFSETFROM:-0500
TZOFFSETTO:-0400
TZNAME:EDT
DTSTART:20250309T070000
END:DAYLIGHT
BEGIN:STANDARD
TZOFFSETFROM:-0400
TZOFFSETTO:-0500
TZNAME:EST
DTSTART:20251102T060000
END:STANDARD
END:VTIMEZONE
BEGIN:VEVENT
DTSTART;TZID=America/New_York:20241119T190000
DTEND;TZID=America/New_York:20241119T220000
DTSTAMP:20260425T064504
CREATED:20241110T233110Z
LAST-MODIFIED:20241120T200551Z
UID:16179-1732042800-1732053600@theforgetavern.com
SUMMARY:Wire and Wine - Dragonflies - Date TBA
DESCRIPTION:Join us for a holiday installment of Wire and Wine! \nI found these fun dragonflies to deconstruct and make into beaded necklaces.  We’ll be making holiday gift sets with matching bracelet and earrings for your gift giving pleasure. \nSupplies are limited\, so grab your ticket while you can. \nTicket includes 1 Dragonfly pendant and beads to create your own charming necklace\, earrings and bracelet.  We’ll teach you to do a simple wire-wrapped link.  These links are virtually indestructible\, creating a piece that will last a very long time. – We do supply the tools for you to use during these classes.  BONUS:  Enjoy a glass of wine while you learn. \nBeginner level class\, anyone can join.
URL:https://theforgetavern.com/event/wire-and-wine-dragonflies/
END:VEVENT
END:VCALENDAR