BEGIN:VCALENDAR
VERSION:2.0
PRODID:-//The Forge Tavern - ECPv6.15.20//NONSGML v1.0//EN
CALSCALE:GREGORIAN
METHOD:PUBLISH
X-WR-CALNAME:The Forge Tavern
X-ORIGINAL-URL:https://theforgetavern.com
X-WR-CALDESC:Events for The Forge Tavern
REFRESH-INTERVAL;VALUE=DURATION:PT1H
X-Robots-Tag:noindex
X-PUBLISHED-TTL:PT1H
BEGIN:VTIMEZONE
TZID:America/New_York
BEGIN:DAYLIGHT
TZOFFSETFROM:-0500
TZOFFSETTO:-0400
TZNAME:EDT
DTSTART:20240310T070000
END:DAYLIGHT
BEGIN:STANDARD
TZOFFSETFROM:-0400
TZOFFSETTO:-0500
TZNAME:EST
DTSTART:20241103T060000
END:STANDARD
BEGIN:DAYLIGHT
TZOFFSETFROM:-0500
TZOFFSETTO:-0400
TZNAME:EDT
DTSTART:20250309T070000
END:DAYLIGHT
BEGIN:STANDARD
TZOFFSETFROM:-0400
TZOFFSETTO:-0500
TZNAME:EST
DTSTART:20251102T060000
END:STANDARD
BEGIN:DAYLIGHT
TZOFFSETFROM:-0500
TZOFFSETTO:-0400
TZNAME:EDT
DTSTART:20260308T070000
END:DAYLIGHT
BEGIN:STANDARD
TZOFFSETFROM:-0400
TZOFFSETTO:-0500
TZNAME:EST
DTSTART:20261101T060000
END:STANDARD
END:VTIMEZONE
BEGIN:VEVENT
DTSTART;TZID=America/New_York:20250323T163000
DTEND;TZID=America/New_York:20250323T190000
DTSTAMP:20260424T235254
CREATED:20250211T210449Z
LAST-MODIFIED:20250211T210449Z
UID:17380-1742747400-1742756400@theforgetavern.com
SUMMARY:Tales of Vicious Mockery - RPG Comedy
DESCRIPTION:Comedians and performers play an unhinged role-playing game with the most dangerous of monsters\, a live audience! \nJoin Laughing Pint Comedy for a night of unhinged fun! \n  \n“At The Laughing Pint\, we believe in the power of comedy to brighten your day\, uplift your spirits\, and create unforgettable memories. We curate an incredible lineup of talented comedians from around the United States\, ensuring a diverse and dynamic experience for our audiences. From seasoned veterans to rising stars\, our roster features a wide range of comedic styles\, ensuring there’s something for everyone.”
URL:https://theforgetavern.com/event/tales-of-vicious-mockery-rpg-comedy/
ATTACH;FMTTYPE=application/pdf:https://theforgetavern.com/wp-content/uploads/2025/02/TVM_3-23-Forge_4x6_nightclub_flyer_323-3-3.pdf
END:VEVENT
BEGIN:VEVENT
DTSTART;TZID=America/New_York:20250323T193000
DTEND;TZID=America/New_York:20250323T230000
DTSTAMP:20260424T235254
CREATED:20250222T035022Z
LAST-MODIFIED:20250222T035022Z
UID:17579-1742758200-1742770800@theforgetavern.com
SUMMARY:Sunday Karaoke
DESCRIPTION:Join us every Sunday from 7:30 – 11:00 pm for Karaoke fun! \nHosts Tim or Adriana will get the party started! \nOpen gaming in the front room. \nSee you soon!
URL:https://theforgetavern.com/event/sunday-karaoke-25/
END:VEVENT
END:VCALENDAR