BEGIN:VCALENDAR
VERSION:2.0
PRODID:-//The Forge Tavern - ECPv6.15.20//NONSGML v1.0//EN
CALSCALE:GREGORIAN
METHOD:PUBLISH
X-WR-CALNAME:The Forge Tavern
X-ORIGINAL-URL:https://theforgetavern.com
X-WR-CALDESC:Events for The Forge Tavern
REFRESH-INTERVAL;VALUE=DURATION:PT1H
X-Robots-Tag:noindex
X-PUBLISHED-TTL:PT1H
BEGIN:VTIMEZONE
TZID:America/New_York
BEGIN:DAYLIGHT
TZOFFSETFROM:-0500
TZOFFSETTO:-0400
TZNAME:EDT
DTSTART:20240310T070000
END:DAYLIGHT
BEGIN:STANDARD
TZOFFSETFROM:-0400
TZOFFSETTO:-0500
TZNAME:EST
DTSTART:20241103T060000
END:STANDARD
BEGIN:DAYLIGHT
TZOFFSETFROM:-0500
TZOFFSETTO:-0400
TZNAME:EDT
DTSTART:20250309T070000
END:DAYLIGHT
BEGIN:STANDARD
TZOFFSETFROM:-0400
TZOFFSETTO:-0500
TZNAME:EST
DTSTART:20251102T060000
END:STANDARD
BEGIN:DAYLIGHT
TZOFFSETFROM:-0500
TZOFFSETTO:-0400
TZNAME:EDT
DTSTART:20260308T070000
END:DAYLIGHT
BEGIN:STANDARD
TZOFFSETFROM:-0400
TZOFFSETTO:-0500
TZNAME:EST
DTSTART:20261101T060000
END:STANDARD
END:VTIMEZONE
BEGIN:VEVENT
DTSTART;TZID=America/New_York:20250330T163000
DTEND;TZID=America/New_York:20250330T193000
DTSTAMP:20260424T235255
CREATED:20250301T035455Z
LAST-MODIFIED:20250301T232128Z
UID:17689-1743352200-1743363000@theforgetavern.com
SUMMARY:Room at the Table with the Game Designer - Bluff Your Way Out
DESCRIPTION:Bluff Your Way Out! \nJoin Jacob as he walks you through his newly designed game! \nBluff Your Way Out is an easy to learn strategy game where you have to move around the mansion to collect keys to escape. \nCheck out the video: \nBluff Your Way Out \n$5 for unlimited game play! \n2 cocktail minimum or food/drink equivalent during the event. \nTickets are non-refundable and non-transferable. (This keeps scammers from scamming!) \nSee you there! \n 
URL:https://theforgetavern.com/event/room-at-the-table-with-the-game-designer-bluff-your-way-out/
ATTACH;FMTTYPE=image/jpeg:https://theforgetavern.com/wp-content/uploads/2025/02/bluff-your-way-out-2.jpg
END:VEVENT
BEGIN:VEVENT
DTSTART;TZID=America/New_York:20250330T180000
DTEND;TZID=America/New_York:20250330T220000
DTSTAMP:20260424T235255
CREATED:20250211T221104Z
LAST-MODIFIED:20250323T164655Z
UID:17383-1743357600-1743372000@theforgetavern.com
SUMMARY:Goblonia - Room at the Table with the Designer
DESCRIPTION:Goblonia! \nOne-shot RPG with Game Designer Robert Turk of Wicked Clever \nEverything you need will be provided. \nJoin us for an evening of goblins\, trolls and fairies.  Let the chaos begin. \n  \nThis is a game about goblins… \nGoblonia is a story-focused role-playing game about the hijinks of modern-day goblins pushing back against the rotten\, evil Faetriarchy. Set in a ramshackle city\, against the backdrop of an absurd war\, this is a game of secret rebellion\, chaotic missions\, underhanded exploits\, risky ventures\, and random explosions. \nNobody actually expects you to save the day… \nYour stories are destined to jump off the rails\, burst into flames\, and crash face first into the gutter. So buckle up and embrace the mayhem! Plot your plots\, scheme your schemes\, bribe your friends\, thwart your enemies\, skulk past spriggans\, tangle with trolls\, hound the hobgoblins\, and stick it to Titania every chance you get. \n 
URL:https://theforgetavern.com/event/goblonia-room-at-the-table-with-the-designer/
ATTACH;FMTTYPE=image/jpeg:https://theforgetavern.com/wp-content/uploads/2025/02/local-game-designer.jpg
END:VEVENT
BEGIN:VEVENT
DTSTART;TZID=America/New_York:20250330T193000
DTEND;TZID=America/New_York:20250330T230000
DTSTAMP:20260424T235255
CREATED:20250222T035122Z
LAST-MODIFIED:20250222T035122Z
UID:17581-1743363000-1743375600@theforgetavern.com
SUMMARY:Sunday Karaoke
DESCRIPTION:Join us every Sunday from 7:30 – 11:00 pm for Karaoke fun! \nHosts Tim or Adriana will get the party started! \nOpen gaming in the front room. \nSee you soon!
URL:https://theforgetavern.com/event/sunday-karaoke-26/
END:VEVENT
END:VCALENDAR