BEGIN:VCALENDAR
VERSION:2.0
PRODID:-//The Forge Tavern - ECPv6.15.20//NONSGML v1.0//EN
CALSCALE:GREGORIAN
METHOD:PUBLISH
X-WR-CALNAME:The Forge Tavern
X-ORIGINAL-URL:https://theforgetavern.com
X-WR-CALDESC:Events for The Forge Tavern
REFRESH-INTERVAL;VALUE=DURATION:PT1H
X-Robots-Tag:noindex
X-PUBLISHED-TTL:PT1H
BEGIN:VTIMEZONE
TZID:America/New_York
BEGIN:DAYLIGHT
TZOFFSETFROM:-0500
TZOFFSETTO:-0400
TZNAME:EDT
DTSTART:20240310T070000
END:DAYLIGHT
BEGIN:STANDARD
TZOFFSETFROM:-0400
TZOFFSETTO:-0500
TZNAME:EST
DTSTART:20241103T060000
END:STANDARD
BEGIN:DAYLIGHT
TZOFFSETFROM:-0500
TZOFFSETTO:-0400
TZNAME:EDT
DTSTART:20250309T070000
END:DAYLIGHT
BEGIN:STANDARD
TZOFFSETFROM:-0400
TZOFFSETTO:-0500
TZNAME:EST
DTSTART:20251102T060000
END:STANDARD
BEGIN:DAYLIGHT
TZOFFSETFROM:-0500
TZOFFSETTO:-0400
TZNAME:EDT
DTSTART:20260308T070000
END:DAYLIGHT
BEGIN:STANDARD
TZOFFSETFROM:-0400
TZOFFSETTO:-0500
TZNAME:EST
DTSTART:20261101T060000
END:STANDARD
END:VTIMEZONE
BEGIN:VEVENT
DTSTART;TZID=America/New_York:20250717T180000
DTEND;TZID=America/New_York:20250717T220000
DTSTAMP:20260424T162313
CREATED:20250627T233348Z
LAST-MODIFIED:20250628T001005Z
UID:19344-1752775200-1752789600@theforgetavern.com
SUMMARY:Indie TTRPG Takeover: The Quiet Year
DESCRIPTION:Thursday TTRPG Series: \nTo participate:  Show up!  Order food/drink.  Our  Game Specialist will take care of the rest. \nFeaturing: \nIndie TTRPG Takeover: The Quiet Year \nBuild community after civilization’s collapse in this innovative map-making game by designer Avery Adler. You have one quiet year to reflect\, rebuild\, and prepare for the return of the enigmatic and destructive Frost Shepherds that inevitably end the game. Face the tension of every decision and action set against dwindling time\, limited resources\, and mounting danger. \nEnjoy a meaningful journey through the narrative players build together\, grapple with tough choices and complex themes\, and bond over a poetic shared experience as you view the final map you’ve made together. \nCore Mechanics: Diceless gameplay focuses on narrative and creating the map. A special deck of 52 cards correspond to each week of the year and each card brings bad news\, showers the community with good omens\, levels a new disaster\, or introduces other surprising challenges. \nPublisher Website: https://buriedwithoutceremony.com/the-quiet-year
URL:https://theforgetavern.com/event/indie-ttrpg-takeover-the-quiet-year/
END:VEVENT
BEGIN:VEVENT
DTSTART;TZID=America/New_York:20250717T200000
DTEND;TZID=America/New_York:20250717T220000
DTSTAMP:20260424T162313
CREATED:20250620T043502Z
LAST-MODIFIED:20250717T211850Z
UID:19216-1752782400-1752789600@theforgetavern.com
SUMMARY:Thursday Trivia - Summer Blockbusters
DESCRIPTION:Do you know the square root of an isosceles triangle? Or how many pigs fit in a blanket? Or how many cow farts it takes to fuel a combustion engine? Well\, we don’t either\, but if you know some actual general knowledge trivial things and/or some cool and nerdy themed trivial things\, then The Forge Tavern Trivia Night is for you. \nAll you need to join is a smartphone or tablet\, a team (or just yourself\, you plucky trivia adventurer)\, and the taste for some great food and drinks. We have cool trophies and prizes\, so you really don’t have any excuse not to join us. Unless you’re chicken\, McFly. \nGeneral Knowledge trivia starts at 8pm. The main event\, Summer Blockbusters trivia\, gets its popcorn at 9pm. \nRemember! We’re serving great food and drinks\, so arrive hungry (and thirsty!) and leave satisfied. \nOur trivia fills up fast! A reservation can guarantee that your team gets a seat. Make your reservations now before they’re all gone! Reservations held until 8:05 pm. \nThere is a two drink (or food/beverage equivalent) minimum required for all trivia participants. Tickets are not refundable or transferable.
URL:https://theforgetavern.com/event/thursday-trivia-summer-blockbusters/
LOCATION:The Forge Tavern\, 1375 Bethel Rd\, Columbus\, OH\, 43220\, United States
CATEGORIES:Trivia
ATTACH;FMTTYPE=image/jpeg:https://theforgetavern.com/wp-content/uploads/2025/06/Summer-Blockbusters-7-17-25-FB-e1750392436353.jpg
END:VEVENT
END:VCALENDAR