BEGIN:VCALENDAR
VERSION:2.0
PRODID:-//The Forge Tavern - ECPv6.15.20//NONSGML v1.0//EN
CALSCALE:GREGORIAN
METHOD:PUBLISH
X-WR-CALNAME:The Forge Tavern
X-ORIGINAL-URL:https://theforgetavern.com
X-WR-CALDESC:Events for The Forge Tavern
REFRESH-INTERVAL;VALUE=DURATION:PT1H
X-Robots-Tag:noindex
X-PUBLISHED-TTL:PT1H
BEGIN:VTIMEZONE
TZID:America/New_York
BEGIN:DAYLIGHT
TZOFFSETFROM:-0500
TZOFFSETTO:-0400
TZNAME:EDT
DTSTART:20240310T070000
END:DAYLIGHT
BEGIN:STANDARD
TZOFFSETFROM:-0400
TZOFFSETTO:-0500
TZNAME:EST
DTSTART:20241103T060000
END:STANDARD
BEGIN:DAYLIGHT
TZOFFSETFROM:-0500
TZOFFSETTO:-0400
TZNAME:EDT
DTSTART:20250309T070000
END:DAYLIGHT
BEGIN:STANDARD
TZOFFSETFROM:-0400
TZOFFSETTO:-0500
TZNAME:EST
DTSTART:20251102T060000
END:STANDARD
BEGIN:DAYLIGHT
TZOFFSETFROM:-0500
TZOFFSETTO:-0400
TZNAME:EDT
DTSTART:20260308T070000
END:DAYLIGHT
BEGIN:STANDARD
TZOFFSETFROM:-0400
TZOFFSETTO:-0500
TZNAME:EST
DTSTART:20261101T060000
END:STANDARD
END:VTIMEZONE
BEGIN:VEVENT
DTSTART;TZID=America/New_York:20250731T180000
DTEND;TZID=America/New_York:20250731T200000
DTSTAMP:20260424T145319
CREATED:20250607T220429Z
LAST-MODIFIED:20250731T174622Z
UID:19050-1753984800-1753992000@theforgetavern.com
SUMMARY:Mead Tasting - With McAlpine Meadery
DESCRIPTION:Join us and try some of the delicious honey meads from McAlpine Meadery. \nMcAlpine Meadery offers traditional European-style meads crafted with pure honey\, fruits\, and spices. If you’re looking for a tasting experience\, this event is for you!  We’ll be tasting 5 meads with a representative from McAlpine Meadery and we’ll include a sample of a mead cocktail. \nThis is a ticketed event. \nTickets are non-refundable and non-transferable. \n 
URL:https://theforgetavern.com/event/mead-tasting-with-mcalpine-meadery/
END:VEVENT
BEGIN:VEVENT
DTSTART;TZID=America/New_York:20250731T180000
DTEND;TZID=America/New_York:20250731T220000
DTSTAMP:20260424T145319
CREATED:20250627T234931Z
LAST-MODIFIED:20250731T174319Z
UID:19349-1753984800-1753999200@theforgetavern.com
SUMMARY:D&D Workshop: Character Creation - CANCELLED
DESCRIPTION:Our deepest apologies.  Our Game Specialist\, Erin has been ill and wants to keep our patrons safe and well.  She isn’t available for this event tonight.  This event has been cancelled due to illness.   \nWe are hosting a Dungeons & Dragons Character Creation Workshop\, from 6:00 PM to 10:00 PM EDT. Whether you’re brand new to tabletop RPGs or just want to fine-tune your next hero\, our game specialist will guide you through the process of building your own character. \nAre you ready to roll initiative? \nTo participate:  Show up!  Order food/drink.  Our  Game Specialist will take care of the rest. \n  \n 
URL:https://theforgetavern.com/event/dd-workshop-character-creation/
END:VEVENT
BEGIN:VEVENT
DTSTART;TZID=America/New_York:20250731T200000
DTEND;TZID=America/New_York:20250731T220000
DTSTAMP:20260424T145319
CREATED:20250703T223404Z
LAST-MODIFIED:20250703T223404Z
UID:19382-1753992000-1753999200@theforgetavern.com
SUMMARY:Thursday Trivia - Lego
DESCRIPTION:Do you know the square root of an isosceles triangle? Or how many pigs fit in a blanket? Or how many cow farts it takes to fuel a combustion engine? Well\, we don’t either\, but if you know some actual general knowledge trivial things and/or some cool and nerdy themed trivial things\, then The Forge Tavern Trivia Night is for you. \nAll you need to join is a smartphone or tablet\, a team (or just yourself\, you plucky trivia adventurer)\, and the taste for some great food and drinks. We have cool trophies and prizes\, so you really don’t have any excuse not to join us. Unless you’re chicken\, McFly. \nGeneral Knowledge trivia starts at 8pm. The main event\, Lego trivia\, snaps together at 9pm. \nRemember! We’re serving great food and drinks\, so arrive hungry (and thirsty!) and leave satisfied. \nOur trivia fills up fast! A reservation can guarantee that your team gets a seat. Make your reservations now before they’re all gone! Reservations held until 8:05 pm. \nThere is a two drink (or food/beverage equivalent) minimum required for all trivia participants. Tickets are not refundable or transferable.
URL:https://theforgetavern.com/event/thursday-trivia-lego-2/
LOCATION:The Forge Tavern\, 1375 Bethel Rd\, Columbus\, OH\, 43220\, United States
CATEGORIES:Trivia
ATTACH;FMTTYPE=image/jpeg:https://theforgetavern.com/wp-content/uploads/2025/07/lego-7-31-25-FB-e1751581695648.jpg
END:VEVENT
END:VCALENDAR