BEGIN:VCALENDAR
VERSION:2.0
PRODID:-//The Forge Tavern - ECPv6.15.20//NONSGML v1.0//EN
CALSCALE:GREGORIAN
METHOD:PUBLISH
X-ORIGINAL-URL:https://theforgetavern.com
X-WR-CALDESC:Events for The Forge Tavern
REFRESH-INTERVAL;VALUE=DURATION:PT1H
X-Robots-Tag:noindex
X-PUBLISHED-TTL:PT1H
BEGIN:VTIMEZONE
TZID:America/New_York
BEGIN:DAYLIGHT
TZOFFSETFROM:-0500
TZOFFSETTO:-0400
TZNAME:EDT
DTSTART:20240310T070000
END:DAYLIGHT
BEGIN:STANDARD
TZOFFSETFROM:-0400
TZOFFSETTO:-0500
TZNAME:EST
DTSTART:20241103T060000
END:STANDARD
BEGIN:DAYLIGHT
TZOFFSETFROM:-0500
TZOFFSETTO:-0400
TZNAME:EDT
DTSTART:20250309T070000
END:DAYLIGHT
BEGIN:STANDARD
TZOFFSETFROM:-0400
TZOFFSETTO:-0500
TZNAME:EST
DTSTART:20251102T060000
END:STANDARD
BEGIN:DAYLIGHT
TZOFFSETFROM:-0500
TZOFFSETTO:-0400
TZNAME:EDT
DTSTART:20260308T070000
END:DAYLIGHT
BEGIN:STANDARD
TZOFFSETFROM:-0400
TZOFFSETTO:-0500
TZNAME:EST
DTSTART:20261101T060000
END:STANDARD
END:VTIMEZONE
BEGIN:VEVENT
DTSTART;TZID=America/New_York:20250808T190000
DTEND;TZID=America/New_York:20250808T233000
DTSTAMP:20260424T145426
CREATED:20250613T223343Z
LAST-MODIFIED:20250613T223343Z
UID:19148-1754679600-1754695800@theforgetavern.com
SUMMARY:The Muckers & Brave the Sea
DESCRIPTION:Celtic rock powerhouses The Muckers (Atlanta) and Brave The Sea (Columbus) join forces at The Forge Tavern in Columbus\, Ohio! \nYou won’t want to miss this high energy Celtic Rock show! \nWhat to know about The Forge Tavern:  We’re Columbus’ Exclusive Board Game Bar (full service). \nSeating is limited. \nGrab your tickets while they last! \n2 cocktail minimum or food/drink equivalent applies to any event. \nTickets are non-refundable and non-transferrable ( this keeps scammers from scamming!)  If your cancellation is 8 days prior to the event date\, feel free to call us at 614-815-0205. \n 
URL:https://theforgetavern.com/event/the-muckers-brave-the-sea/
END:VEVENT
END:VCALENDAR