BEGIN:VCALENDAR
VERSION:2.0
PRODID:-//The Forge Tavern - ECPv6.15.20//NONSGML v1.0//EN
CALSCALE:GREGORIAN
METHOD:PUBLISH
X-WR-CALNAME:The Forge Tavern
X-ORIGINAL-URL:https://theforgetavern.com
X-WR-CALDESC:Events for The Forge Tavern
REFRESH-INTERVAL;VALUE=DURATION:PT1H
X-Robots-Tag:noindex
X-PUBLISHED-TTL:PT1H
BEGIN:VTIMEZONE
TZID:America/New_York
BEGIN:DAYLIGHT
TZOFFSETFROM:-0500
TZOFFSETTO:-0400
TZNAME:EDT
DTSTART:20240310T070000
END:DAYLIGHT
BEGIN:STANDARD
TZOFFSETFROM:-0400
TZOFFSETTO:-0500
TZNAME:EST
DTSTART:20241103T060000
END:STANDARD
BEGIN:DAYLIGHT
TZOFFSETFROM:-0500
TZOFFSETTO:-0400
TZNAME:EDT
DTSTART:20250309T070000
END:DAYLIGHT
BEGIN:STANDARD
TZOFFSETFROM:-0400
TZOFFSETTO:-0500
TZNAME:EST
DTSTART:20251102T060000
END:STANDARD
BEGIN:DAYLIGHT
TZOFFSETFROM:-0500
TZOFFSETTO:-0400
TZNAME:EDT
DTSTART:20260308T070000
END:DAYLIGHT
BEGIN:STANDARD
TZOFFSETFROM:-0400
TZOFFSETTO:-0500
TZNAME:EST
DTSTART:20261101T060000
END:STANDARD
END:VTIMEZONE
BEGIN:VEVENT
DTSTART;TZID=America/New_York:20250824T163000
DTEND;TZID=America/New_York:20250824T193000
DTSTAMP:20260424T145321
CREATED:20250719T015522Z
LAST-MODIFIED:20250719T015522Z
UID:19544-1756053000-1756063800@theforgetavern.com
SUMMARY:D&D One Shot with GM Matt
DESCRIPTION:Join game master Matt! \nMatt is a seasoned DM and is partnering with us at the Forge Tavern to run some D&D sessions! \nSingle evening of D&D in a self-contained adventure. \nProvided: Pre-generated character sheets & pencils for use. \nWhat you’ll need to bring: Your own dice. Players handbook if you have one\, but not required. (We do have them for sale if you want to purchase dice or the handbook) \nRequired: 2 cocktail minimum OR Food/drink equivalent for any event. \nTickets are non-refundable and non-transferrable.
URL:https://theforgetavern.com/event/dd-one-shot-with-gm-matt/
END:VEVENT
BEGIN:VEVENT
DTSTART;TZID=America/New_York:20250824T163000
DTEND;TZID=America/New_York:20250824T203000
DTSTAMP:20260424T145321
CREATED:20250627T231613Z
LAST-MODIFIED:20250627T231613Z
UID:19324-1756053000-1756067400@theforgetavern.com
SUMMARY:Sunday Social (Deception Games)
DESCRIPTION:Our In-House Board Game Specialist is brewing up some social Sunday games! \nLet’s get social! \nTo participate:  Show up!  Order food/drink.  Our  Game Specialist will take care of the rest. \nDoors open at 4pm.
URL:https://theforgetavern.com/event/sunday-social-deception-games-12/
END:VEVENT
BEGIN:VEVENT
DTSTART;TZID=America/New_York:20250824T193000
DTEND;TZID=America/New_York:20250824T230000
DTSTAMP:20260424T145321
CREATED:20250627T232142Z
LAST-MODIFIED:20250627T232142Z
UID:19340-1756063800-1756076400@theforgetavern.com
SUMMARY:Sunday Karaoke
DESCRIPTION:Join our house KJ’s every Sunday for a night of karaoke fun! \nKaraoke starts at 7:30 and runs until 11pm (close).
URL:https://theforgetavern.com/event/sunday-karaoke-44/
END:VEVENT
END:VCALENDAR