BEGIN:VCALENDAR
VERSION:2.0
PRODID:-//The Forge Tavern - ECPv6.15.20//NONSGML v1.0//EN
CALSCALE:GREGORIAN
METHOD:PUBLISH
X-ORIGINAL-URL:https://theforgetavern.com
X-WR-CALDESC:Events for The Forge Tavern
REFRESH-INTERVAL;VALUE=DURATION:PT1H
X-Robots-Tag:noindex
X-PUBLISHED-TTL:PT1H
BEGIN:VTIMEZONE
TZID:America/New_York
BEGIN:DAYLIGHT
TZOFFSETFROM:-0500
TZOFFSETTO:-0400
TZNAME:EDT
DTSTART:20240310T070000
END:DAYLIGHT
BEGIN:STANDARD
TZOFFSETFROM:-0400
TZOFFSETTO:-0500
TZNAME:EST
DTSTART:20241103T060000
END:STANDARD
BEGIN:DAYLIGHT
TZOFFSETFROM:-0500
TZOFFSETTO:-0400
TZNAME:EDT
DTSTART:20250309T070000
END:DAYLIGHT
BEGIN:STANDARD
TZOFFSETFROM:-0400
TZOFFSETTO:-0500
TZNAME:EST
DTSTART:20251102T060000
END:STANDARD
BEGIN:DAYLIGHT
TZOFFSETFROM:-0500
TZOFFSETTO:-0400
TZNAME:EDT
DTSTART:20260308T070000
END:DAYLIGHT
BEGIN:STANDARD
TZOFFSETFROM:-0400
TZOFFSETTO:-0500
TZNAME:EST
DTSTART:20261101T060000
END:STANDARD
END:VTIMEZONE
BEGIN:VEVENT
DTSTART;TZID=America/New_York:20251101T190000
DTEND;TZID=America/New_York:20251101T220000
DTSTAMP:20260424T100142
CREATED:20250823T212629Z
LAST-MODIFIED:20251031T231233Z
UID:20177-1762023600-1762034400@theforgetavern.com
SUMMARY:Forge Tavern Spooktacular Halloween Bash!
DESCRIPTION:Spooktacular Halloween Bash!Date: November 1\, 2025Time: 7pm – 10pm \nGet ready for a frightfully fun night at our annual Halloween Bash! \nJoin our host Robert Turk of Wicked Clever for games! \nCome in costume and compete for killer prizes in our Costume Contest Enjoy ghoulish games\, creepy cocktails. \nWhether you’re scary\, silly\, or downright spooky—this is the place to be on Halloween night. \nDon’t ghost us—be there!
URL:https://theforgetavern.com/event/forge-tavern-halloween-bash/
CATEGORIES:Holiday event
ATTACH;FMTTYPE=image/jpeg:https://theforgetavern.com/wp-content/uploads/2025/08/Halloween-Spooktacular-Bash-e1761952296289.jpg
END:VEVENT
END:VCALENDAR