BEGIN:VCALENDAR
VERSION:2.0
PRODID:-//The Forge Tavern - ECPv6.15.20//NONSGML v1.0//EN
CALSCALE:GREGORIAN
METHOD:PUBLISH
X-WR-CALNAME:The Forge Tavern
X-ORIGINAL-URL:https://theforgetavern.com
X-WR-CALDESC:Events for The Forge Tavern
REFRESH-INTERVAL;VALUE=DURATION:PT1H
X-Robots-Tag:noindex
X-PUBLISHED-TTL:PT1H
BEGIN:VTIMEZONE
TZID:America/New_York
BEGIN:DAYLIGHT
TZOFFSETFROM:-0500
TZOFFSETTO:-0400
TZNAME:EDT
DTSTART:20240310T070000
END:DAYLIGHT
BEGIN:STANDARD
TZOFFSETFROM:-0400
TZOFFSETTO:-0500
TZNAME:EST
DTSTART:20241103T060000
END:STANDARD
BEGIN:DAYLIGHT
TZOFFSETFROM:-0500
TZOFFSETTO:-0400
TZNAME:EDT
DTSTART:20250309T070000
END:DAYLIGHT
BEGIN:STANDARD
TZOFFSETFROM:-0400
TZOFFSETTO:-0500
TZNAME:EST
DTSTART:20251102T060000
END:STANDARD
BEGIN:DAYLIGHT
TZOFFSETFROM:-0500
TZOFFSETTO:-0400
TZNAME:EDT
DTSTART:20260308T070000
END:DAYLIGHT
BEGIN:STANDARD
TZOFFSETFROM:-0400
TZOFFSETTO:-0500
TZNAME:EST
DTSTART:20261101T060000
END:STANDARD
END:VTIMEZONE
BEGIN:VEVENT
DTSTART;TZID=America/New_York:20251221T193000
DTEND;TZID=America/New_York:20251221T230000
DTSTAMP:20260424T081311
CREATED:20251112T201420Z
LAST-MODIFIED:20251112T201600Z
UID:21068-1766345400-1766358000@theforgetavern.com
SUMMARY:UGLY Sweater Karaoke Party!
DESCRIPTION:Wear your favorite Ugly Sweater and join us for a night of Holiday Fun! \nWe’ll be serving up warm drinks! \nThe mic is hot and the vibes are high! Join our house KJs every Sunday night for a karaoke party you won’t forget. From power ballads to guilty pleasures\, we’ve got the tunes—just bring your voice. Music starts at 7:30 and rolls ’til close. Let’s hear what you’ve got!
URL:https://theforgetavern.com/event/ugly-sweater-karaoke-party/
ATTACH;FMTTYPE=image/jpeg:https://theforgetavern.com/wp-content/uploads/2025/11/karaoke-e1769295674763.jpg
END:VEVENT
END:VCALENDAR