BEGIN:VCALENDAR
VERSION:2.0
PRODID:-//The Forge Tavern - ECPv6.15.20//NONSGML v1.0//EN
CALSCALE:GREGORIAN
METHOD:PUBLISH
X-WR-CALNAME:The Forge Tavern
X-ORIGINAL-URL:https://theforgetavern.com
X-WR-CALDESC:Events for The Forge Tavern
REFRESH-INTERVAL;VALUE=DURATION:PT1H
X-Robots-Tag:noindex
X-PUBLISHED-TTL:PT1H
BEGIN:VTIMEZONE
TZID:America/New_York
BEGIN:DAYLIGHT
TZOFFSETFROM:-0500
TZOFFSETTO:-0400
TZNAME:EDT
DTSTART:20250309T070000
END:DAYLIGHT
BEGIN:STANDARD
TZOFFSETFROM:-0400
TZOFFSETTO:-0500
TZNAME:EST
DTSTART:20251102T060000
END:STANDARD
BEGIN:DAYLIGHT
TZOFFSETFROM:-0500
TZOFFSETTO:-0400
TZNAME:EDT
DTSTART:20260308T070000
END:DAYLIGHT
BEGIN:STANDARD
TZOFFSETFROM:-0400
TZOFFSETTO:-0500
TZNAME:EST
DTSTART:20261101T060000
END:STANDARD
BEGIN:DAYLIGHT
TZOFFSETFROM:-0500
TZOFFSETTO:-0400
TZNAME:EDT
DTSTART:20270314T070000
END:DAYLIGHT
BEGIN:STANDARD
TZOFFSETFROM:-0400
TZOFFSETTO:-0500
TZNAME:EST
DTSTART:20271107T060000
END:STANDARD
END:VTIMEZONE
BEGIN:VEVENT
DTSTART;TZID=America/New_York:20260109T193000
DTEND;TZID=America/New_York:20260109T223000
DTSTAMP:20260424T062632
CREATED:20251118T063930Z
LAST-MODIFIED:20260109T233123Z
UID:21245-1767987000-1767997800@theforgetavern.com
SUMMARY:Potions and Embers- A Cocktail Tasting/S'mores Pairing
DESCRIPTION:Gather round\, travelers.\nTonight we embark on a cozy\, enchanted evening where firelight meets fantasy. Join us for a curated flight of magical cocktails\, each inspired by realms of myth and lore\, crafted to pair perfectly with tabletop roasted s’mores. \nAs the embers glow\, you’ll sip potions infused with chocolate\, bourbon cream\, marshmallow\, and enchanted flavors fit for fae courts\, wandering wizards\, and halfling heroes alike. Create your own roasted masterpiece at our mini campfire stations\, then raise a glass to warm nights\, good company\, and a little bit of mischief. \nWhether you come seeking sweet comfort\, bold spirits\, or a taste of adventure\, this will be a night of cocktails\, campfire magic\, and fantasy indulgence. \nWelcome to Potions and Embers\,  the fireside fantasy roast. \n21+ Only \n 
URL:https://theforgetavern.com/event/potions-and-embers-a-cocktail-tasting-smores-pairing/
ATTACH;FMTTYPE=image/jpeg:https://theforgetavern.com/wp-content/uploads/2025/11/dreamstime_xxl_73590980-scaled.jpg
END:VEVENT
END:VCALENDAR