BEGIN:VCALENDAR
VERSION:2.0
PRODID:-//The Forge Tavern - ECPv6.15.20//NONSGML v1.0//EN
CALSCALE:GREGORIAN
METHOD:PUBLISH
X-WR-CALNAME:The Forge Tavern
X-ORIGINAL-URL:https://theforgetavern.com
X-WR-CALDESC:Events for The Forge Tavern
REFRESH-INTERVAL;VALUE=DURATION:PT1H
X-Robots-Tag:noindex
X-PUBLISHED-TTL:PT1H
BEGIN:VTIMEZONE
TZID:America/New_York
BEGIN:DAYLIGHT
TZOFFSETFROM:-0500
TZOFFSETTO:-0400
TZNAME:EDT
DTSTART:20250309T070000
END:DAYLIGHT
BEGIN:STANDARD
TZOFFSETFROM:-0400
TZOFFSETTO:-0500
TZNAME:EST
DTSTART:20251102T060000
END:STANDARD
BEGIN:DAYLIGHT
TZOFFSETFROM:-0500
TZOFFSETTO:-0400
TZNAME:EDT
DTSTART:20260308T070000
END:DAYLIGHT
BEGIN:STANDARD
TZOFFSETFROM:-0400
TZOFFSETTO:-0500
TZNAME:EST
DTSTART:20261101T060000
END:STANDARD
BEGIN:DAYLIGHT
TZOFFSETFROM:-0500
TZOFFSETTO:-0400
TZNAME:EDT
DTSTART:20270314T070000
END:DAYLIGHT
BEGIN:STANDARD
TZOFFSETFROM:-0400
TZOFFSETTO:-0500
TZNAME:EST
DTSTART:20271107T060000
END:STANDARD
END:VTIMEZONE
BEGIN:VEVENT
DTSTART;TZID=America/New_York:20260306T193000
DTEND;TZID=America/New_York:20260306T220000
DTSTAMP:20260424T030225
CREATED:20260204T225553Z
LAST-MODIFIED:20260306T224229Z
UID:22247-1772825400-1772834400@theforgetavern.com
SUMMARY:Mead Tasting Featuring Brothers Drake
DESCRIPTION:Join us for an evening of flavor\, craft\, and conversation as we welcome Lisa\, the master mead maker of Brothers Drake Meadery. With her passion for the art of fermentation and her deep knowledge of honey‑based wines\, Lisa will guide guests through a curated tasting of six distinctive meads\, each with its own story\, character\, and charm. \nDiscover how ingredients\, technique\, and tradition come together to create the unique profiles that make Brother’s Drake a local favorite. Whether you’re a longtime mead lover or brand‑new to the world of honey wine\, this tasting promises a relaxed\, flavorful\, and engaging experience. \nTickets available for $20 – bottles will be available for purchase. \nTicket Policy\nTickets for this event are non‑refundable and non‑transferable. If something comes up within 2 weeks of the event and you’re unable to attend\, we’re always happy to work with you directly to find a solution. You can reach us at 614‑815‑0205.  \nTo keep our community safe from scams\, please purchase tickets only through the Forge Tavern’s official website. Buying directly from us ensures your reservation is secure and protects you from fraudulent resellers. \n 
URL:https://theforgetavern.com/event/mead-tasting-featuring-brothers-drake/
ATTACH;FMTTYPE=image/webp:https://theforgetavern.com/wp-content/uploads/2026/02/brothers-drake.webp
END:VEVENT
END:VCALENDAR