BEGIN:VCALENDAR
VERSION:2.0
PRODID:-//The Forge Tavern - ECPv6.15.20//NONSGML v1.0//EN
CALSCALE:GREGORIAN
METHOD:PUBLISH
X-WR-CALNAME:The Forge Tavern
X-ORIGINAL-URL:https://theforgetavern.com
X-WR-CALDESC:Events for The Forge Tavern
REFRESH-INTERVAL;VALUE=DURATION:PT1H
X-Robots-Tag:noindex
X-PUBLISHED-TTL:PT1H
BEGIN:VTIMEZONE
TZID:America/New_York
BEGIN:DAYLIGHT
TZOFFSETFROM:-0500
TZOFFSETTO:-0400
TZNAME:EDT
DTSTART:20250309T070000
END:DAYLIGHT
BEGIN:STANDARD
TZOFFSETFROM:-0400
TZOFFSETTO:-0500
TZNAME:EST
DTSTART:20251102T060000
END:STANDARD
BEGIN:DAYLIGHT
TZOFFSETFROM:-0500
TZOFFSETTO:-0400
TZNAME:EDT
DTSTART:20260308T070000
END:DAYLIGHT
BEGIN:STANDARD
TZOFFSETFROM:-0400
TZOFFSETTO:-0500
TZNAME:EST
DTSTART:20261101T060000
END:STANDARD
BEGIN:DAYLIGHT
TZOFFSETFROM:-0500
TZOFFSETTO:-0400
TZNAME:EDT
DTSTART:20270314T070000
END:DAYLIGHT
BEGIN:STANDARD
TZOFFSETFROM:-0400
TZOFFSETTO:-0500
TZNAME:EST
DTSTART:20271107T060000
END:STANDARD
END:VTIMEZONE
BEGIN:VEVENT
DTSTART;TZID=America/New_York:20260423T200000
DTEND;TZID=America/New_York:20260423T220000
DTSTAMP:20260422T144312
CREATED:20260327T230309Z
LAST-MODIFIED:20260327T230309Z
UID:22978-1776974400-1776981600@theforgetavern.com
SUMMARY:Thursday Trivia - Spongebob
DESCRIPTION:Do you know the square root of an isosceles triangle? Or how many pigs fit in a blanket? Or how many cow farts it takes to fuel a combustion engine? Well\, we don’t either\, but if you know some actual general knowledge trivial things and/or some cool and nerdy themed trivial things\, then The Forge Tavern Trivia Night is for you. \nAll you need to join is a smartphone or tablet\, a team (or just yourself\, you plucky trivia adventurer)\, and the taste for some great food and drinks. We have cool trophies and prizes\, so you really don’t have any excuse not to join us. Unless you’re chicken\, McFly. \nGeneral Knowledge trivia starts at 8pm. The main event\, Spongebob trivia\, flips your Krabby Patty at 9pm. \nRemember! We’re serving great food and drinks\, so arrive hungry (and thirsty!) and leave satisfied. \nOur trivia fills up fast! A reservation can guarantee that your team gets a seat. Make your reservations now before they’re all gone! Reservations held until 8:05 pm. \nThere is a two drink (or food/beverage equivalent) minimum required for all trivia participants. Tickets are not refundable or transferable.
URL:https://theforgetavern.com/event/thursday-trivia-spongebob-3/
LOCATION:The Forge Tavern\, 1375 Bethel Rd\, Columbus\, OH\, 43220\, United States
CATEGORIES:Trivia
ATTACH;FMTTYPE=image/jpeg:https://theforgetavern.com/wp-content/uploads/2026/03/spongebob-4-23-26-FB-e1774649975156.jpg
END:VEVENT
BEGIN:VEVENT
DTSTART;TZID=America/New_York:20260426T160000
DTEND;TZID=America/New_York:20260426T193000
DTSTAMP:20260422T144312
CREATED:20260228T003731Z
LAST-MODIFIED:20260306T155213Z
UID:22630-1777219200-1777231800@theforgetavern.com
SUMMARY:Ladies’ Night DnD with Lindsay
DESCRIPTION:Ladies’ Night RPG at the Forge Tavern\nFeaturing Game Master Lindsay\nGather your courage\, adventurers—on this enchanted evening\, the Forge Tavern opens its doors to a realm shaped by wit\, wonder\, and women who refuse to roll anything less than destiny. \nStep into a world where Lindsay weaves quests with the flick of a quill and summons chaos with a single raised eyebrow. Whether you’re a seasoned heroine\, a first‑time adventurer\, or simply curious about the mysteries of the dice\, this night is crafted for camaraderie\, creativity\, and a touch of tavern‑born magic. \nWhat Awaits You\n\nA welcoming table of fellow ladies ready to quest\, scheme\, and laugh together\nA one‑shot adventure spun by Lindsay—equal parts daring\, delightful\, and delightfully unhinged\nCharacters forged on the spot or brought from your own legend (pre-generated character sheets provided)\nOrder food/drinks from our themed fantasy menus and roll for initiative! (Food/drink purchase required for participation)\n\nThe Vibe\nThink: a cozy fantasy inn and every woman at the table is the hero of her own tale. Expect supportive energy\, epic moments\, and the kind of storytelling that becomes tavern lore. \nWhy Ladies Night?  We want each woman (or woman presenting) to enjoy the empowerment of playing their character in their own way.  The decisions are completely yours. \nTickets are non-transferable and non-refundable.  Space is extremely limited for this event!
URL:https://theforgetavern.com/event/ladies-night-dnd-with-lindsay/
CATEGORIES:Dungeons & Dragons,Game event,Learn to Play
END:VEVENT
BEGIN:VEVENT
DTSTART;TZID=America/New_York:20260426T193000
DTEND;TZID=America/New_York:20260426T230000
DTSTAMP:20260422T144312
CREATED:20260414T043139Z
LAST-MODIFIED:20260414T043139Z
UID:23180-1777231800-1777244400@theforgetavern.com
SUMMARY:Open Gaming & Karaoke
DESCRIPTION:Join us for Open Gaming all night and Karaoke starting at 7:30!
URL:https://theforgetavern.com/event/open-gaming-karaoke/
END:VEVENT
BEGIN:VEVENT
DTSTART;TZID=America/New_York:20260430T200000
DTEND;TZID=America/New_York:20260430T220000
DTSTAMP:20260422T144312
CREATED:20260409T230405Z
LAST-MODIFIED:20260409T230405Z
UID:23114-1777579200-1777586400@theforgetavern.com
SUMMARY:Thursday Trivia - Dreamworks Animation
DESCRIPTION:Do you know the square root of an isosceles triangle? Or how many pigs fit in a blanket? Or how many cow farts it takes to fuel a combustion engine? Well\, we don’t either\, but if you know some actual general knowledge trivial things and/or some cool and nerdy themed trivial things\, then The Forge Tavern Trivia Night is for you. \nAll you need to join is a smartphone or tablet\, a team (or just yourself\, you plucky trivia adventurer)\, and the taste for some great food and drinks. We have cool trophies and prizes\, so you really don’t have any excuse not to join us. Unless you’re chicken\, McFly. \nGeneral Knowledge trivia starts at 8pm. The main event\, Dreamworks Animation trivia\, trains its dragon at 9pm. \nRemember! We’re serving great food and drinks\, so arrive hungry (and thirsty!) and leave satisfied. \nOur trivia fills up fast! A reservation can guarantee that your team gets a seat. Make your reservations now before they’re all gone! Reservations held until 8:05 pm. \nThere is a two drink (or food/beverage equivalent) minimum required for all trivia participants. Tickets are not refundable or transferable.
URL:https://theforgetavern.com/event/thursday-trivia-dreamworks-animation-2/
LOCATION:The Forge Tavern\, 1375 Bethel Rd\, Columbus\, OH\, 43220\, United States
CATEGORIES:Trivia
ATTACH;FMTTYPE=image/jpeg:https://theforgetavern.com/wp-content/uploads/2026/04/dreamworks-4-30-26-FB-e1775773286519.jpg
END:VEVENT
END:VCALENDAR