BEGIN:VCALENDAR
VERSION:2.0
PRODID:-//The Forge Tavern - ECPv6.15.20//NONSGML v1.0//EN
CALSCALE:GREGORIAN
METHOD:PUBLISH
X-WR-CALNAME:The Forge Tavern
X-ORIGINAL-URL:https://theforgetavern.com
X-WR-CALDESC:Events for The Forge Tavern
REFRESH-INTERVAL;VALUE=DURATION:PT1H
X-Robots-Tag:noindex
X-PUBLISHED-TTL:PT1H
BEGIN:VTIMEZONE
TZID:America/New_York
BEGIN:DAYLIGHT
TZOFFSETFROM:-0500
TZOFFSETTO:-0400
TZNAME:EDT
DTSTART:20180311T070000
END:DAYLIGHT
BEGIN:STANDARD
TZOFFSETFROM:-0400
TZOFFSETTO:-0500
TZNAME:EST
DTSTART:20181104T060000
END:STANDARD
BEGIN:DAYLIGHT
TZOFFSETFROM:-0500
TZOFFSETTO:-0400
TZNAME:EDT
DTSTART:20190310T070000
END:DAYLIGHT
BEGIN:STANDARD
TZOFFSETFROM:-0400
TZOFFSETTO:-0500
TZNAME:EST
DTSTART:20191103T060000
END:STANDARD
BEGIN:DAYLIGHT
TZOFFSETFROM:-0500
TZOFFSETTO:-0400
TZNAME:EDT
DTSTART:20200308T070000
END:DAYLIGHT
BEGIN:STANDARD
TZOFFSETFROM:-0400
TZOFFSETTO:-0500
TZNAME:EST
DTSTART:20201101T060000
END:STANDARD
BEGIN:DAYLIGHT
TZOFFSETFROM:-0500
TZOFFSETTO:-0400
TZNAME:EDT
DTSTART:20210314T070000
END:DAYLIGHT
BEGIN:STANDARD
TZOFFSETFROM:-0400
TZOFFSETTO:-0500
TZNAME:EST
DTSTART:20211107T060000
END:STANDARD
BEGIN:DAYLIGHT
TZOFFSETFROM:-0500
TZOFFSETTO:-0400
TZNAME:EDT
DTSTART:20220313T070000
END:DAYLIGHT
BEGIN:STANDARD
TZOFFSETFROM:-0400
TZOFFSETTO:-0500
TZNAME:EST
DTSTART:20221106T060000
END:STANDARD
BEGIN:DAYLIGHT
TZOFFSETFROM:-0500
TZOFFSETTO:-0400
TZNAME:EDT
DTSTART:20230312T070000
END:DAYLIGHT
BEGIN:STANDARD
TZOFFSETFROM:-0400
TZOFFSETTO:-0500
TZNAME:EST
DTSTART:20231105T060000
END:STANDARD
BEGIN:DAYLIGHT
TZOFFSETFROM:-0500
TZOFFSETTO:-0400
TZNAME:EDT
DTSTART:20240310T070000
END:DAYLIGHT
BEGIN:STANDARD
TZOFFSETFROM:-0400
TZOFFSETTO:-0500
TZNAME:EST
DTSTART:20241103T060000
END:STANDARD
BEGIN:DAYLIGHT
TZOFFSETFROM:-0500
TZOFFSETTO:-0400
TZNAME:EDT
DTSTART:20250309T070000
END:DAYLIGHT
BEGIN:STANDARD
TZOFFSETFROM:-0400
TZOFFSETTO:-0500
TZNAME:EST
DTSTART:20251102T060000
END:STANDARD
BEGIN:DAYLIGHT
TZOFFSETFROM:-0500
TZOFFSETTO:-0400
TZNAME:EDT
DTSTART:20260308T070000
END:DAYLIGHT
BEGIN:STANDARD
TZOFFSETFROM:-0400
TZOFFSETTO:-0500
TZNAME:EST
DTSTART:20261101T060000
END:STANDARD
END:VTIMEZONE
BEGIN:VEVENT
DTSTART;TZID=America/New_York:20250226T170000
DTEND;TZID=America/New_York:20250226T230000
DTSTAMP:20260423T020033
CREATED:20250130T165054Z
LAST-MODIFIED:20250130T165237Z
UID:17153-1740589200-1740610800@theforgetavern.com
SUMMARY:Magic the Gathering - Casual Commander
DESCRIPTION:Magic the Gathering \nWe offer a fun space for you to play casual commander!  It’s easy to join\, just bring your decks.  We have a great selection of cocktails\, beers and food for you to enjoy while you play. \nCards and accessories available in our retail portion if you’re looking for boosters\, card sleeves or deck boxes. \n2-Cocktail minimum or food/drink equivalent. (Yes\, you can include retail for your minimum!) \nEvery Great Adventure begins at the Tavern — The Forge Tavern \nLet your adventure begin!
URL:https://theforgetavern.com/event/magic-the-gathering-casual-commander-14/
CATEGORIES:Magic the Gathering
END:VEVENT
BEGIN:VEVENT
DTSTART;TZID=America/New_York:20250219T170000
DTEND;TZID=America/New_York:20250219T230000
DTSTAMP:20260423T020033
CREATED:20250130T164843Z
LAST-MODIFIED:20250130T164945Z
UID:17151-1739984400-1740006000@theforgetavern.com
SUMMARY:Magic the Gathering - Casual Commander
DESCRIPTION:Magic the Gathering \nWe offer a fun space for you to play casual commander!  It’s easy to join\, just bring your decks.  We have a great selection of cocktails\, beers and food for you to enjoy while you play. \nCards and accessories available in our retail portion if you’re looking for boosters\, card sleeves or deck boxes. \n2-Cocktail minimum or food/drink equivalent. (Yes\, you can include retail for your minimum!) \nEvery Great Adventure begins at the Tavern — The Forge Tavern \nLet your adventure begin!
URL:https://theforgetavern.com/event/magic-the-gathering-casual-commander-13/
CATEGORIES:Magic the Gathering
END:VEVENT
BEGIN:VEVENT
DTSTART;TZID=America/New_York:20241231T190000
DTEND;TZID=America/New_York:20250101T010000
DTSTAMP:20260423T020033
CREATED:20241104T033226Z
LAST-MODIFIED:20250101T001353Z
UID:16000-1735671600-1735693200@theforgetavern.com
SUMMARY:A Night at the Tavern- A DND Themed New Year's
DESCRIPTION:Good Day and well met Traveler! The Forge Tavern invites you to embark on this evening of drink and merriment as we quest through the fantasy realm of… well\, we’ll not give too much away! \nJoin storyteller\, author\, & game designer Robert Turk of Wicked Clever as he guides you through some fun adventures! \nFeel free to dress as your favorite fantasy roleplaying character. Elf\, fairy\, gnome\, giant\, orc or perhaps you are a human ranger\, cleric\, fighter or other fun class. It’s your chance to shine! \nSmall plate foods provided for your snacking pleasure. A midnight bubbly toast also included in your ticket price. \nThemed cocktail menu along with our fun\, house-created D20 shots! You won’t want to miss this fun time of adventuring fun. \nKeep in mind\, not everyone has to be an adventurer! We welcome folks who just want to sit back\, enjoy a cocktail or two and play some board games. \nDON’T MISS THIS NIGHT OF MERRIMENT!! We don’t plan on having another like it anytime soon. \nTickets are non-refundable and non-transferrable. (This keeps 3rd party sellers from scamming folks).
URL:https://theforgetavern.com/event/a-night-at-the-tavern-a-dnd-themed-new-years/
CATEGORIES:Game event,Holiday event,Holidays
ATTACH;FMTTYPE=image/jpeg:https://theforgetavern.com/wp-content/uploads/2024/11/Night-at-the-Tavern-EP-e1734073759412.jpg
END:VEVENT
BEGIN:VEVENT
DTSTART;TZID=America/New_York:20220710T163000
DTEND;TZID=America/New_York:20220710T210000
DTSTAMP:20260423T020033
CREATED:20220529T234014Z
LAST-MODIFIED:20220614T231257Z
UID:5252-1657470600-1657486800@theforgetavern.com
SUMMARY:Mystery at the Space Port Cantina! (Mystery Dinner)
DESCRIPTION:Mystery at the Space Port Cantina! (A Mystery Dinner)\n\n\n \n\n\n\n\n\nJoin us in solving the case of Mystery at the Space Port Cantina!\n\n\n \n\n\nSurrounded by bounty hunters freighter bums and smugglers\, you find yourself in a space cantina in a far off galaxy. \n\n\n \n\n\nTickets are $40.00 each person and include a 3 course (appetizer\, entree’ and dessert) dinner and your participation in the murder mystery. Food TBA.  We will start promptly at 5pm so arrive early.  \n\n\n \n\n\nFood allergies or sensitivities please call 614-815-0205 with questions or concerns at least 2 weeks prior to the event.\n\n\n \n\n\nWe offer a fully themed cocktail menu. Cocktails and beverages not included in the ticket price.\n\n\n\nWe will have a few acting parts available.  Email diane@forgetavern.com to inquire on parts.\n\n\nTickets are non-refundable.  If you’ve chosen an acting part\, please be sure you will be able to attend.  We only do a couple of these a year\, so get your tickets while you can!  This event will sell out before the date.
URL:https://theforgetavern.com/event/mystery-at-the-space-port-cantina-mystery-dinner/
LOCATION:The Forge Tavern\, 1375 Bethel Rd\, Columbus\, OH\, 43220\, United States
CATEGORIES:Game event,Mystery Dinner
ATTACH;FMTTYPE=image/jpeg:https://theforgetavern.com/wp-content/uploads/2022/05/Forge-Cantina-Mystery-ELG-e1655248049637.jpg
END:VEVENT
BEGIN:VEVENT
DTSTART;TZID=America/New_York:20200118T140000
DTEND;TZID=America/New_York:20200118T180000
DTSTAMP:20260423T020033
CREATED:20191226T054502Z
LAST-MODIFIED:20200104T225202Z
UID:1576-1579356000-1579370400@theforgetavern.com
SUMMARY:Learn to Play Kids on Bikes RPG
DESCRIPTION:Kids on Bikes is a Collaborative Storytelling RPG set in small towns with big adventure!** \nThe door to the old house creaks open\, the rust on the hinges groaning as you see the dust floating like spores in the air inside. By the faint light of your cheap flashlights\, you see the stairs to the upper floor\, its railings gnarled and broken like crooked teeth. Their curve makes the stairs seem almost like a hungry grin\, and you wonder if their age will support your weight. Still\, you must go in. \nThe only question is who will go first? \nIn Kids on Bikes\, you’ll take on the roles of everyday people grappling with strange\, terrifying\, and very\, very powerful forces that they cannot defeat\, control\, or even fully understand. The only way to face them is to work together\, use your strengths\, and know when you just have to run as fast as you can. \n**This is a ticketed event. Be sure to get yours in advance. Space is limited.\nAdmission includes a free set of dice.
URL:https://theforgetavern.com/event/learn-to-play-kids-on-bikes-rpg/
CATEGORIES:Game event,Learn to Play
ATTACH;FMTTYPE=image/jpeg:https://theforgetavern.com/wp-content/uploads/2019/12/Kids-on-Bikes-Learn-to-play-e1578178194763.jpg
END:VEVENT
BEGIN:VEVENT
DTSTART;TZID=America/New_York:20200104T140000
DTEND;TZID=America/New_York:20200104T180000
DTSTAMP:20260423T020033
CREATED:20191204T065050Z
LAST-MODIFIED:20191207T231958Z
UID:1419-1578146400-1578160800@theforgetavern.com
SUMMARY:Learn to Play Dungeons and Dragons
DESCRIPTION:Ever wanted to play D&D but didn’t know where to start? No need to feel overwhelmed; instead\, join us for our Learn to Play D&D event. \nBegin with step by step guidance through character creation\, followed by a rules tutorial\, then finish with a mini adventure to get into the action. \nEntry to the event is $10 and includes a free set of premium dice on game day. \nPurchase your tickets below!  We have limited seating. \n 
URL:https://theforgetavern.com/event/learn-to-play-dungeons-and-dragons/
CATEGORIES:Dungeons & Dragons,Game event,Learn to Play
ATTACH;FMTTYPE=image/jpeg:https://theforgetavern.com/wp-content/uploads/2019/12/learn-to-play-DD-TFT.jpg
END:VEVENT
BEGIN:VEVENT
DTSTART;TZID=America/New_York:20191218T180000
DTEND;TZID=America/New_York:20191218T235900
DTSTAMP:20260423T020033
CREATED:20191117T072539Z
LAST-MODIFIED:20191123T001036Z
UID:1235-1576692000-1576713540@theforgetavern.com
SUMMARY:MTG Commander Wednesday
DESCRIPTION:Come out and join our growing Magic the Gathering community on Wednesday evenings! This is casual so come in anytime between the hours it’s running. \nCommander is an exciting\, unique way to play Magic that is all about awesome legendary creatures\, big plays\, and battling your friends in epic multiplayer games! In Commander\, each player chooses a legendary creature as the commander of their deck. They then play with a 99-card deck that contains only cards of their commander’s colors. Also\, other than basic lands\, each deck can only use one copy of any card. During the game\, you can cast your commander multiple times\, meaning your favorite Legendary Creature can come back again and again to lead the charge as you battle for victory! \nThese Commander decks introduce an ability called eminence that lets your commander lead from the command zone\, even before they have entered the battlefield. The eminence ability appears on characters from all parts of Magic lore\, allowing you to call on the power and skill of some of the best leaders in the Multiverse. \nThe Commander format is all about picking your hero and building a deck around them. In this casual\, multiplayer format\, you choose a legendary creature to serve as your commander and build the rest of your deck around their color identity.
URL:https://theforgetavern.com/event/mtg-commander-wednesday-32/
CATEGORIES:Game event,Magic the Gathering
END:VEVENT
BEGIN:VEVENT
DTSTART;TZID=America/New_York:20191211T180000
DTEND;TZID=America/New_York:20191211T235900
DTSTAMP:20260423T020033
CREATED:20191117T072455Z
LAST-MODIFIED:20191123T001233Z
UID:1233-1576087200-1576108740@theforgetavern.com
SUMMARY:MTG Commander Wednesday
DESCRIPTION:Come out and join our growing Magic the Gathering community on Wednesday evenings! This is casual so come in anytime between the hours it’s running. \nCommander is an exciting\, unique way to play Magic that is all about awesome legendary creatures\, big plays\, and battling your friends in epic multiplayer games! In Commander\, each player chooses a legendary creature as the commander of their deck. They then play with a 99-card deck that contains only cards of their commander’s colors. Also\, other than basic lands\, each deck can only use one copy of any card. During the game\, you can cast your commander multiple times\, meaning your favorite Legendary Creature can come back again and again to lead the charge as you battle for victory! \nThese Commander decks introduce an ability called eminence that lets your commander lead from the command zone\, even before they have entered the battlefield. The eminence ability appears on characters from all parts of Magic lore\, allowing you to call on the power and skill of some of the best leaders in the Multiverse. \nThe Commander format is all about picking your hero and building a deck around them. In this casual\, multiplayer format\, you choose a legendary creature to serve as your commander and build the rest of your deck around their color identity.
URL:https://theforgetavern.com/event/mtg-commander-wednesday-31/
CATEGORIES:Game event,Magic the Gathering
END:VEVENT
BEGIN:VEVENT
DTSTART;TZID=America/New_York:20191129T150000
DTEND;TZID=America/New_York:20191130T235900
DTSTAMP:20260423T020033
CREATED:20191126T050952Z
LAST-MODIFIED:20191127T002952Z
UID:1321-1575039600-1575158340@theforgetavern.com
SUMMARY:Black Friday Gaming Extravaganza and Extra Life Fundraiser
DESCRIPTION:Leave the leftovers and doorbuster madness behind and come relax at The Forge Tavern with your favorite food\, beverages\, and games. We’re opening early at 3pm to welcome bedraggled holiday survivors in need of reviving. \nWe’re also hosting the Black Friday Charity Gaming Fundraiser for Extra Life organized by Beers & Board Games and Central Ohio Social Deception Gamers. \nHelp raise money for Extra Life and Nationwide Children’s Hospital by playing board and social deception games! \nThe Forge Tavern will be donating $1 from every cocktail and craft beer sold along with 10% of all sales of food\, new games and accessories to Extra Life. \nIn addition to Food and Beverage sales\, Beers & Board Games and Columbus Area Social Deception Gamers are holding a Gently Used Games Silent Auction. Game donations are needed and welcome\, so bring 1-2 of your gently used or unopened games to donate to the cause. 100% of the Silent Auction proceeds go to Extra Life. The auction will run from 3:30pm-7:30pm. Gently used or new games only please. \nDon’t know the games? No Problem! Beers & Board Games and Central Ohio Social Deception Gamers are on hand to help. \nJoin in on a game\, choose from our extensive board game library\, or bring your own. Or just come in\, hang out and enjoy the atmosphere. \nCheck our online menu for all our great food and beverages. \nWe’ll see you at The Tavern! \nFor more information on Extra Life or how to donate\, check out the link here: Extra Life
URL:https://theforgetavern.com/event/black-friday-gaming-extravaganza-and-extra-life-fundraiser/
CATEGORIES:Game event,Holiday event,Holidays
ATTACH;FMTTYPE=image/jpeg:https://theforgetavern.com/wp-content/uploads/2019/11/TFT-Black-Friday-scaled-e1574744612511.jpg
END:VEVENT
BEGIN:VEVENT
DTSTART;TZID=America/New_York:20191127T180000
DTEND;TZID=America/New_York:20191127T230000
DTSTAMP:20260423T020033
CREATED:20191117T072243Z
LAST-MODIFIED:20191123T001537Z
UID:1229-1574877600-1574895600@theforgetavern.com
SUMMARY:MTG Commander Wednesday
DESCRIPTION:Come out and join our growing Magic the Gathering community on Wednesday evenings! This is casual so come in anytime between the hours it’s running. \nCommander is an exciting\, unique way to play Magic that is all about awesome legendary creatures\, big plays\, and battling your friends in epic multiplayer games! In Commander\, each player chooses a legendary creature as the commander of their deck. They then play with a 99-card deck that contains only cards of their commander’s colors. Also\, other than basic lands\, each deck can only use one copy of any card. During the game\, you can cast your commander multiple times\, meaning your favorite Legendary Creature can come back again and again to lead the charge as you battle for victory! \nThese Commander decks introduce an ability called eminence that lets your commander lead from the command zone\, even before they have entered the battlefield. The eminence ability appears on characters from all parts of Magic lore\, allowing you to call on the power and skill of some of the best leaders in the Multiverse. \nThe Commander format is all about picking your hero and building a deck around them. In this casual\, multiplayer format\, you choose a legendary creature to serve as your commander and build the rest of your deck around their color identity.
URL:https://theforgetavern.com/event/mtg-commander-wednesday-29/
CATEGORIES:Game event,Magic the Gathering
END:VEVENT
BEGIN:VEVENT
DTSTART;TZID=America/New_York:20190713T170000
DTEND;TZID=America/New_York:20190713T220000
DTSTAMP:20260423T020033
CREATED:20190710T195440Z
LAST-MODIFIED:20190710T195440Z
UID:842-1563037200-1563055200@theforgetavern.com
SUMMARY:MtG Core 2020 Sealed Event
DESCRIPTION:Miss the Core 2020 Prelease event? Just want another chance play some more? Join us at The Forge Tavern for our first sealed tournament! Build your deck from an MtG Core 2020 Prerelease kit and see if you have what it takes to reach the top!\n\n\n \n\n\nEntry to the event is $25 and includes a Core 2020 Prerelease box.\n\n\n \n\n\nSignup for the event begins at 4pm and deck-building begins at 5pm.\n\n\n \n\n\nCome thirsty and hungry; we have great drinks and food!
URL:https://theforgetavern.com/event/mtg-core-2020-sealed-event/
CATEGORIES:Game event,Tournament
ATTACH;FMTTYPE=image/jpeg:https://theforgetavern.com/wp-content/uploads/2019/07/m20_sma_fb_1640x680_en.jpg
END:VEVENT
END:VCALENDAR