BEGIN:VCALENDAR
VERSION:2.0
PRODID:-//The Forge Tavern - ECPv6.15.20//NONSGML v1.0//EN
CALSCALE:GREGORIAN
METHOD:PUBLISH
X-ORIGINAL-URL:https://theforgetavern.com
X-WR-CALDESC:Events for The Forge Tavern
REFRESH-INTERVAL;VALUE=DURATION:PT1H
X-Robots-Tag:noindex
X-PUBLISHED-TTL:PT1H
BEGIN:VTIMEZONE
TZID:America/New_York
BEGIN:DAYLIGHT
TZOFFSETFROM:-0500
TZOFFSETTO:-0400
TZNAME:EDT
DTSTART:20170312T070000
END:DAYLIGHT
BEGIN:STANDARD
TZOFFSETFROM:-0400
TZOFFSETTO:-0500
TZNAME:EST
DTSTART:20171105T060000
END:STANDARD
BEGIN:DAYLIGHT
TZOFFSETFROM:-0500
TZOFFSETTO:-0400
TZNAME:EDT
DTSTART:20180311T070000
END:DAYLIGHT
BEGIN:STANDARD
TZOFFSETFROM:-0400
TZOFFSETTO:-0500
TZNAME:EST
DTSTART:20181104T060000
END:STANDARD
BEGIN:DAYLIGHT
TZOFFSETFROM:-0500
TZOFFSETTO:-0400
TZNAME:EDT
DTSTART:20190310T070000
END:DAYLIGHT
BEGIN:STANDARD
TZOFFSETFROM:-0400
TZOFFSETTO:-0500
TZNAME:EST
DTSTART:20191103T060000
END:STANDARD
BEGIN:DAYLIGHT
TZOFFSETFROM:-0500
TZOFFSETTO:-0400
TZNAME:EDT
DTSTART:20200308T070000
END:DAYLIGHT
BEGIN:STANDARD
TZOFFSETFROM:-0400
TZOFFSETTO:-0500
TZNAME:EST
DTSTART:20201101T060000
END:STANDARD
BEGIN:DAYLIGHT
TZOFFSETFROM:-0500
TZOFFSETTO:-0400
TZNAME:EDT
DTSTART:20210314T070000
END:DAYLIGHT
BEGIN:STANDARD
TZOFFSETFROM:-0400
TZOFFSETTO:-0500
TZNAME:EST
DTSTART:20211107T060000
END:STANDARD
END:VTIMEZONE
BEGIN:VEVENT
DTSTART;TZID=America/New_York:20191231T180000
DTEND;TZID=America/New_York:20200101T010000
DTSTAMP:20260422T220959
CREATED:20191112T210438Z
LAST-MODIFIED:20191231T201024Z
UID:1173-1577815200-1577840400@theforgetavern.com
SUMMARY:Roaring 20's New Year's Eve Party  - Bring in 2020!
DESCRIPTION:UPDATE: The event is SOLD OUT. We are at capacity at this point\, so if you do not have a ticket\, we will not be able to admit you to the event. \nThank you everyone for your excitement and support! \n$25.00 Admission includes:\nDinner from 7-9 pm\nComplimentary Glass of champagne at midnight.\nUnlimited gaming and use of the board game library. \nCome join us to bring in 2020 with a Roaring 20’s New Year’s Eve Party! \nCostumes welcome but not required. \nMore details to come! \nNo cancellations or refunds issued less than 48 hours prior to the event.
URL:https://theforgetavern.com/event/roaring-20s-new-years-eve-party-bring-in-2020/
LOCATION:The Forge Tavern\, 1375 Bethel Rd\, Columbus\, OH\, 43220\, United States
CATEGORIES:Holiday event,Holidays
ATTACH;FMTTYPE=image/jpeg:https://theforgetavern.com/wp-content/uploads/2019/11/roaring-20s-NYE-party-FB-sold-out-e1577822921424.jpg
END:VEVENT
BEGIN:VEVENT
DTSTART;TZID=America/New_York:20191225T080000
DTEND;TZID=America/New_York:20191225T235900
DTSTAMP:20260422T220959
CREATED:20191117T072716Z
LAST-MODIFIED:20191123T000628Z
UID:1237-1577260800-1577318340@theforgetavern.com
SUMMARY:Closed
DESCRIPTION:Wishing you and yours a very Happy Holiday season!
URL:https://theforgetavern.com/event/closed/
CATEGORIES:Holidays
END:VEVENT
BEGIN:VEVENT
DTSTART;TZID=America/New_York:20191129T150000
DTEND;TZID=America/New_York:20191130T235900
DTSTAMP:20260422T220959
CREATED:20191126T050952Z
LAST-MODIFIED:20191127T002952Z
UID:1321-1575039600-1575158340@theforgetavern.com
SUMMARY:Black Friday Gaming Extravaganza and Extra Life Fundraiser
DESCRIPTION:Leave the leftovers and doorbuster madness behind and come relax at The Forge Tavern with your favorite food\, beverages\, and games. We’re opening early at 3pm to welcome bedraggled holiday survivors in need of reviving. \nWe’re also hosting the Black Friday Charity Gaming Fundraiser for Extra Life organized by Beers & Board Games and Central Ohio Social Deception Gamers. \nHelp raise money for Extra Life and Nationwide Children’s Hospital by playing board and social deception games! \nThe Forge Tavern will be donating $1 from every cocktail and craft beer sold along with 10% of all sales of food\, new games and accessories to Extra Life. \nIn addition to Food and Beverage sales\, Beers & Board Games and Columbus Area Social Deception Gamers are holding a Gently Used Games Silent Auction. Game donations are needed and welcome\, so bring 1-2 of your gently used or unopened games to donate to the cause. 100% of the Silent Auction proceeds go to Extra Life. The auction will run from 3:30pm-7:30pm. Gently used or new games only please. \nDon’t know the games? No Problem! Beers & Board Games and Central Ohio Social Deception Gamers are on hand to help. \nJoin in on a game\, choose from our extensive board game library\, or bring your own. Or just come in\, hang out and enjoy the atmosphere. \nCheck our online menu for all our great food and beverages. \nWe’ll see you at The Tavern! \nFor more information on Extra Life or how to donate\, check out the link here: Extra Life
URL:https://theforgetavern.com/event/black-friday-gaming-extravaganza-and-extra-life-fundraiser/
CATEGORIES:Game event,Holiday event,Holidays
ATTACH;FMTTYPE=image/jpeg:https://theforgetavern.com/wp-content/uploads/2019/11/TFT-Black-Friday-scaled-e1574744612511.jpg
END:VEVENT
BEGIN:VEVENT
DTSTART;TZID=America/New_York:20191128T080000
DTEND;TZID=America/New_York:20191128T235900
DTSTAMP:20260422T220959
CREATED:20190924T170342Z
LAST-MODIFIED:20191124T201013Z
UID:1072-1574928000-1574985540@theforgetavern.com
SUMMARY:Thanksgiving - Closed
DESCRIPTION:We will be closed for Thanksgiving.  Enjoy your special day with family/friends and meet back up with us tomorrow as we host the Beers and Boardgames Black Friday event!
URL:https://theforgetavern.com/event/thanksgiving-closed/
CATEGORIES:Holidays
ATTACH;FMTTYPE=image/jpeg:https://theforgetavern.com/wp-content/uploads/2019/09/T-giving-web-event-image.jpg
END:VEVENT
BEGIN:VEVENT
DTSTART;TZID=America/New_York:20191031T190000
DTEND;TZID=America/New_York:20191031T230000
DTSTAMP:20260422T220959
CREATED:20190924T144630Z
LAST-MODIFIED:20191027T194033Z
UID:1052-1572548400-1572562800@theforgetavern.com
SUMMARY:Traditional Halloween Party
DESCRIPTION:Join us this special Thursday Night for a traditional Halloween Party!  Come dressed in costume!  Enjoy some spooktacular drinks!
URL:https://theforgetavern.com/event/traditional-halloween-party/
CATEGORIES:Holiday event,Holidays
ATTACH;FMTTYPE=image/jpeg:https://theforgetavern.com/wp-content/uploads/2019/09/haloween-party.jpg
END:VEVENT
BEGIN:VEVENT
DTSTART;TZID=America/New_York:20181231T200000
DTEND;TZID=America/New_York:20190101T020000
DTSTAMP:20260422T220959
CREATED:20181227T114911Z
LAST-MODIFIED:20181227T115141Z
UID:57-1546286400-1546308000@theforgetavern.com
SUMMARY:New Years Eve
DESCRIPTION:Come join us at The Forge Tavern and welcome in the new year! \n$20.00 Admission – Dinner\, midnight champagne and party favors included. Drink specials all night! Music\, games and more! Don’t miss our first big event at the Forge Tavern!
URL:https://theforgetavern.com/event/new-years-eve/
LOCATION:The Forge Bar\, 1375 Bethel Road\, Columbus\, OH\, 43220\, United States
CATEGORIES:Holidays
END:VEVENT
END:VCALENDAR