BEGIN:VCALENDAR
VERSION:2.0
PRODID:-//The Forge Tavern - ECPv6.15.20//NONSGML v1.0//EN
CALSCALE:GREGORIAN
METHOD:PUBLISH
X-WR-CALNAME:The Forge Tavern
X-ORIGINAL-URL:https://theforgetavern.com
X-WR-CALDESC:Events for The Forge Tavern
REFRESH-INTERVAL;VALUE=DURATION:PT1H
X-Robots-Tag:noindex
X-PUBLISHED-TTL:PT1H
BEGIN:VTIMEZONE
TZID:America/New_York
BEGIN:DAYLIGHT
TZOFFSETFROM:-0500
TZOFFSETTO:-0400
TZNAME:EDT
DTSTART:20180311T070000
END:DAYLIGHT
BEGIN:STANDARD
TZOFFSETFROM:-0400
TZOFFSETTO:-0500
TZNAME:EST
DTSTART:20181104T060000
END:STANDARD
BEGIN:DAYLIGHT
TZOFFSETFROM:-0500
TZOFFSETTO:-0400
TZNAME:EDT
DTSTART:20190310T070000
END:DAYLIGHT
BEGIN:STANDARD
TZOFFSETFROM:-0400
TZOFFSETTO:-0500
TZNAME:EST
DTSTART:20191103T060000
END:STANDARD
BEGIN:DAYLIGHT
TZOFFSETFROM:-0500
TZOFFSETTO:-0400
TZNAME:EDT
DTSTART:20200308T070000
END:DAYLIGHT
BEGIN:STANDARD
TZOFFSETFROM:-0400
TZOFFSETTO:-0500
TZNAME:EST
DTSTART:20201101T060000
END:STANDARD
BEGIN:DAYLIGHT
TZOFFSETFROM:-0500
TZOFFSETTO:-0400
TZNAME:EDT
DTSTART:20210314T070000
END:DAYLIGHT
BEGIN:STANDARD
TZOFFSETFROM:-0400
TZOFFSETTO:-0500
TZNAME:EST
DTSTART:20211107T060000
END:STANDARD
BEGIN:DAYLIGHT
TZOFFSETFROM:-0500
TZOFFSETTO:-0400
TZNAME:EDT
DTSTART:20220313T070000
END:DAYLIGHT
BEGIN:STANDARD
TZOFFSETFROM:-0400
TZOFFSETTO:-0500
TZNAME:EST
DTSTART:20221106T060000
END:STANDARD
BEGIN:DAYLIGHT
TZOFFSETFROM:-0500
TZOFFSETTO:-0400
TZNAME:EDT
DTSTART:20230312T070000
END:DAYLIGHT
BEGIN:STANDARD
TZOFFSETFROM:-0400
TZOFFSETTO:-0500
TZNAME:EST
DTSTART:20231105T060000
END:STANDARD
BEGIN:DAYLIGHT
TZOFFSETFROM:-0500
TZOFFSETTO:-0400
TZNAME:EDT
DTSTART:20240310T070000
END:DAYLIGHT
BEGIN:STANDARD
TZOFFSETFROM:-0400
TZOFFSETTO:-0500
TZNAME:EST
DTSTART:20241103T060000
END:STANDARD
BEGIN:DAYLIGHT
TZOFFSETFROM:-0500
TZOFFSETTO:-0400
TZNAME:EDT
DTSTART:20250309T070000
END:DAYLIGHT
BEGIN:STANDARD
TZOFFSETFROM:-0400
TZOFFSETTO:-0500
TZNAME:EST
DTSTART:20251102T060000
END:STANDARD
BEGIN:DAYLIGHT
TZOFFSETFROM:-0500
TZOFFSETTO:-0400
TZNAME:EDT
DTSTART:20260308T070000
END:DAYLIGHT
BEGIN:STANDARD
TZOFFSETFROM:-0400
TZOFFSETTO:-0500
TZNAME:EST
DTSTART:20261101T060000
END:STANDARD
END:VTIMEZONE
BEGIN:VEVENT
DTSTART;TZID=America/New_York:20250427T193000
DTEND;TZID=America/New_York:20250427T230000
DTSTAMP:20260422T235426
CREATED:20250417T001927Z
LAST-MODIFIED:20250417T011743Z
UID:18442-1745782200-1745794800@theforgetavern.com
SUMMARY:Sunday Karaoke
DESCRIPTION:Join our house KJ’s every Sunday for a night of karaoke fun! \nKaraoke starts at 7:30 and runs until 11pm (close). \n 
URL:https://theforgetavern.com/event/sunday-karaoke-28/
LOCATION:The Forge Tavern\, 1375 Bethel Rd\, Columbus\, OH\, 43220\, United States
CATEGORIES:Karaoke
END:VEVENT
BEGIN:VEVENT
DTSTART;TZID=America/New_York:20201115T193000
DTEND;TZID=America/New_York:20201115T223000
DTSTAMP:20260422T235426
CREATED:20201101T180727Z
LAST-MODIFIED:20201101T180727Z
UID:2809-1605468600-1605479400@theforgetavern.com
SUMMARY:Sunday Karaoke with One More Round
DESCRIPTION:Join us Sunday for karaoke madness! \nThe Forge Tavern presents your chance to be a star with One More Round Karaoke starting at 7:30 every Sunday.
URL:https://theforgetavern.com/event/sunday-karaoke-with-one-more-round-14/
LOCATION:The Forge Tavern\, 1375 Bethel Rd\, Columbus\, OH\, 43220\, United States
CATEGORIES:Karaoke
ATTACH;FMTTYPE=image/png:https://theforgetavern.com/wp-content/uploads/2020/06/one-more-round-karaoke.png
END:VEVENT
BEGIN:VEVENT
DTSTART;TZID=America/New_York:20201108T193000
DTEND;TZID=America/New_York:20201108T223000
DTSTAMP:20260422T235426
CREATED:20201101T180528Z
LAST-MODIFIED:20201101T180528Z
UID:2807-1604863800-1604874600@theforgetavern.com
SUMMARY:Sunday Karaoke with One More Round
DESCRIPTION:Join us Sunday for karaoke madness! \nThe Forge Tavern presents your chance to be a star with One More Round Karaoke starting at 7:30 every Sunday.
URL:https://theforgetavern.com/event/sunday-karaoke-with-one-more-round-13/
LOCATION:The Forge Tavern\, 1375 Bethel Rd\, Columbus\, OH\, 43220\, United States
CATEGORIES:Karaoke
ATTACH;FMTTYPE=image/png:https://theforgetavern.com/wp-content/uploads/2020/06/one-more-round-karaoke.png
END:VEVENT
BEGIN:VEVENT
DTSTART;TZID=America/New_York:20201101T193000
DTEND;TZID=America/New_York:20201101T223000
DTSTAMP:20260422T235426
CREATED:20201101T180253Z
LAST-MODIFIED:20201101T180253Z
UID:2805-1604259000-1604269800@theforgetavern.com
SUMMARY:Sunday Karaoke with One More Round
DESCRIPTION:Join us Sunday for karaoke madness! \nThe Forge Tavern presents your chance to be a star with One More Round Karaoke starting at 7:30 every Sunday.
URL:https://theforgetavern.com/event/sunday-karaoke-with-one-more-round-12/
LOCATION:The Forge Tavern\, 1375 Bethel Rd\, Columbus\, OH\, 43220\, United States
CATEGORIES:Karaoke
ATTACH;FMTTYPE=image/png:https://theforgetavern.com/wp-content/uploads/2020/06/one-more-round-karaoke.png
END:VEVENT
BEGIN:VEVENT
DTSTART;TZID=America/New_York:20201018T193000
DTEND;TZID=America/New_York:20201018T223000
DTSTAMP:20260422T235426
CREATED:20200927T204849Z
LAST-MODIFIED:20200927T205107Z
UID:2705-1603049400-1603060200@theforgetavern.com
SUMMARY:Sunday Karaoke with One More Round
DESCRIPTION:Join us Sunday for karaoke madness! \nThe Forge Tavern presents your chance to be a star with One More Round Karaoke starting at 7:30 every Sunday.
URL:https://theforgetavern.com/event/sunday-karaoke-with-one-more-round-11/
LOCATION:The Forge Tavern\, 1375 Bethel Rd\, Columbus\, OH\, 43220\, United States
CATEGORIES:Karaoke
ATTACH;FMTTYPE=image/png:https://theforgetavern.com/wp-content/uploads/2020/06/one-more-round-karaoke.png
END:VEVENT
BEGIN:VEVENT
DTSTART;TZID=America/New_York:20201004T193000
DTEND;TZID=America/New_York:20201004T223000
DTSTAMP:20260422T235426
CREATED:20200927T204636Z
LAST-MODIFIED:20200927T204636Z
UID:2703-1601839800-1601850600@theforgetavern.com
SUMMARY:Sunday Karaoke with One More Round
DESCRIPTION:Join us Sunday for karaoke madness! \nThe Forge Tavern presents your chance to be a star with One More Round Karaoke starting at 7:30 every Sunday.
URL:https://theforgetavern.com/event/sunday-karaoke-with-one-more-round-10/
LOCATION:The Forge Tavern\, 1375 Bethel Rd\, Columbus\, OH\, 43220\, United States
CATEGORIES:Karaoke
ATTACH;FMTTYPE=image/png:https://theforgetavern.com/wp-content/uploads/2020/06/one-more-round-karaoke.png
END:VEVENT
BEGIN:VEVENT
DTSTART;TZID=America/New_York:20200927T193000
DTEND;TZID=America/New_York:20200927T223000
DTSTAMP:20260422T235426
CREATED:20200904T230734Z
LAST-MODIFIED:20200904T230734Z
UID:2670-1601235000-1601245800@theforgetavern.com
SUMMARY:Sunday Karaoke with One More Round
DESCRIPTION:Join us Sunday for karaoke madness! \nThe Forge Tavern presents your chance to be a star with One More Round Karaoke starting at 7:30 every Sunday.
URL:https://theforgetavern.com/event/sunday-karaoke-with-one-more-round-9/
LOCATION:The Forge Tavern\, 1375 Bethel Rd\, Columbus\, OH\, 43220\, United States
CATEGORIES:Karaoke
ATTACH;FMTTYPE=image/png:https://theforgetavern.com/wp-content/uploads/2020/06/one-more-round-karaoke.png
END:VEVENT
BEGIN:VEVENT
DTSTART;TZID=America/New_York:20200920T193000
DTEND;TZID=America/New_York:20200920T223000
DTSTAMP:20260422T235426
CREATED:20200904T230542Z
LAST-MODIFIED:20200904T230542Z
UID:2668-1600630200-1600641000@theforgetavern.com
SUMMARY:Sunday Karaoke with One More Round
DESCRIPTION:Join us Sunday for karaoke madness! \nThe Forge Tavern presents your chance to be a star with One More Round Karaoke starting at 7:30 every Sunday.
URL:https://theforgetavern.com/event/sunday-karaoke-with-one-more-round-8/
LOCATION:The Forge Tavern\, 1375 Bethel Rd\, Columbus\, OH\, 43220\, United States
CATEGORIES:Karaoke
ATTACH;FMTTYPE=image/png:https://theforgetavern.com/wp-content/uploads/2020/06/one-more-round-karaoke.png
END:VEVENT
BEGIN:VEVENT
DTSTART;TZID=America/New_York:20200913T193000
DTEND;TZID=America/New_York:20200913T223000
DTSTAMP:20260422T235426
CREATED:20200904T230401Z
LAST-MODIFIED:20200904T230401Z
UID:2665-1600025400-1600036200@theforgetavern.com
SUMMARY:Sunday Karaoke with One More Round
DESCRIPTION:Join us Sunday for karaoke madness! \nThe Forge Tavern presents your chance to be a star with One More Round Karaoke starting at 7:30 every Sunday.
URL:https://theforgetavern.com/event/sunday-karaoke-with-one-more-round-7/
LOCATION:The Forge Tavern\, 1375 Bethel Rd\, Columbus\, OH\, 43220\, United States
CATEGORIES:Karaoke
ATTACH;FMTTYPE=image/png:https://theforgetavern.com/wp-content/uploads/2020/06/one-more-round-karaoke.png
END:VEVENT
BEGIN:VEVENT
DTSTART;TZID=America/New_York:20200906T193000
DTEND;TZID=America/New_York:20200906T223000
DTSTAMP:20260422T235426
CREATED:20200904T230001Z
LAST-MODIFIED:20200904T230001Z
UID:2663-1599420600-1599431400@theforgetavern.com
SUMMARY:Sunday Karaoke with One More Round
DESCRIPTION:Join us Sunday for karaoke madness! \nThe Forge Tavern presents your chance to be a star with One More Round Karaoke starting at 7:30 every Sunday.
URL:https://theforgetavern.com/event/sunday-karaoke-with-one-more-round-6/
LOCATION:The Forge Tavern\, 1375 Bethel Rd\, Columbus\, OH\, 43220\, United States
CATEGORIES:Karaoke
ATTACH;FMTTYPE=image/png:https://theforgetavern.com/wp-content/uploads/2020/06/one-more-round-karaoke.png
END:VEVENT
BEGIN:VEVENT
DTSTART;TZID=America/New_York:20200830T193000
DTEND;TZID=America/New_York:20200830T223000
DTSTAMP:20260422T235426
CREATED:20200816T011955Z
LAST-MODIFIED:20200816T011955Z
UID:2594-1598815800-1598826600@theforgetavern.com
SUMMARY:Sunday Karaoke with One More Round
DESCRIPTION:Join us Sunday for karaoke madness! \nThe Forge Tavern presents your chance to be a star with One More Round Karaoke starting at 7:30 every Sunday.
URL:https://theforgetavern.com/event/sunday-karaoke-with-one-more-round-5/
LOCATION:The Forge Tavern\, 1375 Bethel Rd\, Columbus\, OH\, 43220\, United States
CATEGORIES:Karaoke
ATTACH;FMTTYPE=image/png:https://theforgetavern.com/wp-content/uploads/2020/06/one-more-round-karaoke.png
END:VEVENT
BEGIN:VEVENT
DTSTART;TZID=America/New_York:20200816T193000
DTEND;TZID=America/New_York:20200816T223000
DTSTAMP:20260422T235426
CREATED:20200816T011715Z
LAST-MODIFIED:20200816T011715Z
UID:2592-1597606200-1597617000@theforgetavern.com
SUMMARY:Sunday Karaoke with One More Round
DESCRIPTION:Join us Sunday for karaoke madness! \nThe Forge Tavern presents your chance to be a star with One More Round Karaoke starting at 7:30 every Sunday.
URL:https://theforgetavern.com/event/sunday-karaoke-with-one-more-round-4/
LOCATION:The Forge Tavern\, 1375 Bethel Rd\, Columbus\, OH\, 43220\, United States
CATEGORIES:Karaoke
ATTACH;FMTTYPE=image/png:https://theforgetavern.com/wp-content/uploads/2020/06/one-more-round-karaoke.png
END:VEVENT
BEGIN:VEVENT
DTSTART;TZID=America/New_York:20200809T193000
DTEND;TZID=America/New_York:20200809T223000
DTSTAMP:20260422T235426
CREATED:20200816T011508Z
LAST-MODIFIED:20200816T011508Z
UID:2590-1597001400-1597012200@theforgetavern.com
SUMMARY:Sunday Karaoke with One More Round
DESCRIPTION:Join us Sunday for karaoke madness! \nThe Forge Tavern presents your chance to be a star with One More Round Karaoke starting at 7:30 every Sunday.
URL:https://theforgetavern.com/event/sunday-karaoke-with-one-more-round-3/
LOCATION:The Forge Tavern\, 1375 Bethel Rd\, Columbus\, OH\, 43220\, United States
CATEGORIES:Karaoke
ATTACH;FMTTYPE=image/png:https://theforgetavern.com/wp-content/uploads/2020/06/one-more-round-karaoke.png
END:VEVENT
BEGIN:VEVENT
DTSTART;TZID=America/New_York:20200705T193000
DTEND;TZID=America/New_York:20200705T233000
DTSTAMP:20260422T235426
CREATED:20200626T214528Z
LAST-MODIFIED:20200626T214557Z
UID:2477-1593977400-1593991800@theforgetavern.com
SUMMARY:Karaoke with One More Round
DESCRIPTION:Join us Sunday for karaoke madness! \nThe Forge Tavern presents your chance to be a star with One More Round Karaoke starting at 7:30 every Sunday.
URL:https://theforgetavern.com/event/karaoke-with-one-more-round-2/
LOCATION:The Forge Tavern\, 1375 Bethel Rd\, Columbus\, OH\, 43220\, United States
CATEGORIES:Karaoke
ATTACH;FMTTYPE=image/png:https://theforgetavern.com/wp-content/uploads/2020/06/one-more-round-karaoke.png
END:VEVENT
BEGIN:VEVENT
DTSTART;TZID=America/New_York:20200628T193000
DTEND;TZID=America/New_York:20200628T233000
DTSTAMP:20260422T235426
CREATED:20200626T213939Z
LAST-MODIFIED:20200626T213939Z
UID:2472-1593372600-1593387000@theforgetavern.com
SUMMARY:Karaoke with One More Round!
DESCRIPTION:Join us Sunday for karaoke madness! \nThe Forge Tavern presents your chance to be a star with One More Round Karaoke starting at 7:30 every Sunday.
URL:https://theforgetavern.com/event/karaoke-with-one-more-round/
LOCATION:The Forge Tavern\, 1375 Bethel Rd\, Columbus\, OH\, 43220\, United States
CATEGORIES:Karaoke
ATTACH;FMTTYPE=image/png:https://theforgetavern.com/wp-content/uploads/2020/06/one-more-round-karaoke.png
END:VEVENT
BEGIN:VEVENT
DTSTART;TZID=America/New_York:20191229T203000
DTEND;TZID=America/New_York:20191229T235900
DTSTAMP:20260422T235426
CREATED:20191117T073444Z
LAST-MODIFIED:20191123T000554Z
UID:1251-1577651400-1577663940@theforgetavern.com
SUMMARY:Get Amped Up - Karaoke Style
DESCRIPTION:Join The Forge Tavern and Amped Up Karaoke for another night of fun! Amped Up Karaoke has a wide variety of songs to choose from and you can do it all from your smart phone!
URL:https://theforgetavern.com/event/get-amped-up-karaoke-style-30/
LOCATION:OH
CATEGORIES:Karaoke
ATTACH;FMTTYPE=image/jpeg:https://theforgetavern.com/wp-content/uploads/2019/05/karaoke.jpg
END:VEVENT
BEGIN:VEVENT
DTSTART;TZID=America/New_York:20191222T203000
DTEND;TZID=America/New_York:20191222T235900
DTSTAMP:20260422T235426
CREATED:20191117T073355Z
LAST-MODIFIED:20191123T000703Z
UID:1249-1577046600-1577059140@theforgetavern.com
SUMMARY:Get Amped Up - Karaoke Style
DESCRIPTION:Join The Forge Tavern and Amped Up Karaoke for another night of fun!  Amped Up Karaoke has a wide variety of songs to choose from and you can do it all from your smart phone!
URL:https://theforgetavern.com/event/get-amped-up-karaoke-style-29/
LOCATION:OH
CATEGORIES:Karaoke
ATTACH;FMTTYPE=image/jpeg:https://theforgetavern.com/wp-content/uploads/2019/05/karaoke.jpg
END:VEVENT
BEGIN:VEVENT
DTSTART;TZID=America/New_York:20191215T203000
DTEND;TZID=America/New_York:20191215T235900
DTSTAMP:20260422T235426
CREATED:20191117T073152Z
LAST-MODIFIED:20191123T001159Z
UID:1245-1576441800-1576454340@theforgetavern.com
SUMMARY:Get Amped Up - Karaoke Style
DESCRIPTION:Join The Forge Tavern and Amped Up Karaoke for another night of fun! Amped Up Karaoke has a wide variety of songs to choose from and you can do it all from your smart phone!
URL:https://theforgetavern.com/event/get-amped-up-karaoke-style-27/
LOCATION:OH
CATEGORIES:Karaoke
ATTACH;FMTTYPE=image/jpeg:https://theforgetavern.com/wp-content/uploads/2019/05/karaoke.jpg
END:VEVENT
BEGIN:VEVENT
DTSTART;TZID=America/New_York:20191208T203000
DTEND;TZID=America/New_York:20191208T235900
DTSTAMP:20260422T235426
CREATED:20191117T073307Z
LAST-MODIFIED:20191123T001417Z
UID:1247-1575837000-1575849540@theforgetavern.com
SUMMARY:Get Amped Up - Karaoke Style
DESCRIPTION:Join The Forge Tavern and Amped Up Karaoke for another night of fun!  Amped Up Karaoke has a wide variety of songs to choose from and you can do it all from your smart phone!
URL:https://theforgetavern.com/event/get-amped-up-karaoke-style-28/
LOCATION:OH
CATEGORIES:Karaoke
ATTACH;FMTTYPE=image/jpeg:https://theforgetavern.com/wp-content/uploads/2019/05/karaoke.jpg
END:VEVENT
BEGIN:VEVENT
DTSTART;TZID=America/New_York:20191124T203000
DTEND;TZID=America/New_York:20191124T235900
DTSTAMP:20260422T235426
CREATED:20191117T073019Z
LAST-MODIFIED:20191123T001615Z
UID:1241-1574627400-1574639940@theforgetavern.com
SUMMARY:Get Amped Up - Karaoke Style
DESCRIPTION:Join The Forge Tavern and Amped Up Karaoke for another night of fun!  Amped Up Karaoke has a wide variety of songs to choose from and you can do it all from your smart phone!
URL:https://theforgetavern.com/event/get-amped-up-karaoke-style-25/
LOCATION:OH
CATEGORIES:Karaoke
ATTACH;FMTTYPE=image/jpeg:https://theforgetavern.com/wp-content/uploads/2019/05/karaoke.jpg
END:VEVENT
BEGIN:VEVENT
DTSTART;TZID=America/New_York:20190630T203000
DTEND;TZID=America/New_York:20190630T235900
DTSTAMP:20260422T235426
CREATED:20190519T025423Z
LAST-MODIFIED:20190621T170116Z
UID:732-1561926600-1561939140@theforgetavern.com
SUMMARY:Get Amped Up - Karaoke Style!
DESCRIPTION:Join Amped Up Karaoke for some singing fun! 8:30pm – 12:30am every Sunday.
URL:https://theforgetavern.com/event/get-amped-up-karaoke-style-15/
LOCATION:OH
CATEGORIES:Karaoke,Music
ATTACH;FMTTYPE=image/jpeg:https://theforgetavern.com/wp-content/uploads/2019/05/karaoke.jpg
END:VEVENT
END:VCALENDAR