BEGIN:VCALENDAR
VERSION:2.0
PRODID:-//The Forge Tavern - ECPv6.15.20//NONSGML v1.0//EN
CALSCALE:GREGORIAN
METHOD:PUBLISH
X-WR-CALNAME:The Forge Tavern
X-ORIGINAL-URL:https://theforgetavern.com
X-WR-CALDESC:Events for The Forge Tavern
REFRESH-INTERVAL;VALUE=DURATION:PT1H
X-Robots-Tag:noindex
X-PUBLISHED-TTL:PT1H
BEGIN:VTIMEZONE
TZID:America/New_York
BEGIN:DAYLIGHT
TZOFFSETFROM:-0500
TZOFFSETTO:-0400
TZNAME:EDT
DTSTART:20180311T070000
END:DAYLIGHT
BEGIN:STANDARD
TZOFFSETFROM:-0400
TZOFFSETTO:-0500
TZNAME:EST
DTSTART:20181104T060000
END:STANDARD
BEGIN:DAYLIGHT
TZOFFSETFROM:-0500
TZOFFSETTO:-0400
TZNAME:EDT
DTSTART:20190310T070000
END:DAYLIGHT
BEGIN:STANDARD
TZOFFSETFROM:-0400
TZOFFSETTO:-0500
TZNAME:EST
DTSTART:20191103T060000
END:STANDARD
BEGIN:DAYLIGHT
TZOFFSETFROM:-0500
TZOFFSETTO:-0400
TZNAME:EDT
DTSTART:20200308T070000
END:DAYLIGHT
BEGIN:STANDARD
TZOFFSETFROM:-0400
TZOFFSETTO:-0500
TZNAME:EST
DTSTART:20201101T060000
END:STANDARD
BEGIN:DAYLIGHT
TZOFFSETFROM:-0500
TZOFFSETTO:-0400
TZNAME:EDT
DTSTART:20210314T070000
END:DAYLIGHT
BEGIN:STANDARD
TZOFFSETFROM:-0400
TZOFFSETTO:-0500
TZNAME:EST
DTSTART:20211107T060000
END:STANDARD
BEGIN:DAYLIGHT
TZOFFSETFROM:-0500
TZOFFSETTO:-0400
TZNAME:EDT
DTSTART:20220313T070000
END:DAYLIGHT
BEGIN:STANDARD
TZOFFSETFROM:-0400
TZOFFSETTO:-0500
TZNAME:EST
DTSTART:20221106T060000
END:STANDARD
BEGIN:DAYLIGHT
TZOFFSETFROM:-0500
TZOFFSETTO:-0400
TZNAME:EDT
DTSTART:20230312T070000
END:DAYLIGHT
BEGIN:STANDARD
TZOFFSETFROM:-0400
TZOFFSETTO:-0500
TZNAME:EST
DTSTART:20231105T060000
END:STANDARD
BEGIN:DAYLIGHT
TZOFFSETFROM:-0500
TZOFFSETTO:-0400
TZNAME:EDT
DTSTART:20240310T070000
END:DAYLIGHT
BEGIN:STANDARD
TZOFFSETFROM:-0400
TZOFFSETTO:-0500
TZNAME:EST
DTSTART:20241103T060000
END:STANDARD
END:VTIMEZONE
BEGIN:VEVENT
DTSTART;TZID=America/New_York:20231222T200000
DTEND;TZID=America/New_York:20231222T230000
DTSTAMP:20260423T034231
CREATED:20231126T231305Z
LAST-MODIFIED:20231222T221850Z
UID:11653-1703275200-1703286000@theforgetavern.com
SUMMARY:Ugly Sweater Concert Featuring 2D6
DESCRIPTION:Join us for the holiday party of the season! Ring in your holiday with 2D6 and an ugly sweater! \nThe Forge Tavern is welcoming 2D6 to our stage to get your holiday weekend started right! \nWe’re offering this FREE CONCERT as our gift to you for the season. \n2D6 with be taking the stage at 8pm.  Costume contest will be featured between sets\, so get here early to sign up for the contest.  Themed cocktail menu. \nUgly Sweater Contest \nLive Music \nThemed Drinks \nEvery great adventure begins in the Tavern- The Forge Tavern! \nLet your holiday adventure begin! \nClick on the RSVP ticket to reserve your seat.  RSVP’s will have priority seating.  Walk in’s welcome if seating is available. \n  \n 
URL:https://theforgetavern.com/event/ugly-sweater-concert-featuring-2d6/
CATEGORIES:Holiday event,Holidays,Music
ATTACH;FMTTYPE=image/jpeg:https://theforgetavern.com/wp-content/uploads/2023/11/Ugly-Swetaers-landscape-scaled-e1700708596461.jpg
END:VEVENT
BEGIN:VEVENT
DTSTART;TZID=America/New_York:20230519T193000
DTEND;TZID=America/New_York:20230519T233000
DTSTAMP:20260423T034231
CREATED:20230415T164134Z
LAST-MODIFIED:20230518T174346Z
UID:8923-1684524600-1684539000@theforgetavern.com
SUMMARY:Fairy Tea Party
DESCRIPTION:Fairy Tea Party – Featuring Jameson’s Folly and Ramblin’ Rhythms Bellydance. \nThat’s right!  You may know the belly dance group from the Ohio Renaissance Festival!  We’re excited to invite them to our stage for the very first time for this very special event!  Many of you know some of the performers of Jameson’s Folly from the Ohio Renaissance Festival as well from various groups.  With TWO special groups\, you won’t want to miss this event! \nRamblin’ Rhythms Bellydance will take the stage at 8:00 pm. \nWhat is a Fairy Tea Party?  It’s an event with performers\, a fantasy themed drink menu and so much fun!  It’s a chance for you to put your fun fantasy garb on and cosplay for the day as a fairy\, elf\, or whatever fantasy character you choose to come as. \n**JUST IN!  – A special visit with Titania and Oberon! \nThe Forge Tavern offers great drinks and food with a drink menu specially crafted for this event and tonight will be full of merriment!  Come join us for our Third Annual – FAIRY TEA PARTY! \nGrab your tickets while they last!  Seating will be limited. \nTickets are non-transferrable and non-refundable.  No re-sell on tickets permitted for our events.
URL:https://theforgetavern.com/event/fairy-tea-party/
LOCATION:The Forge Tavern\, 1375 Bethel Rd\, Columbus\, OH\, 43220\, United States
CATEGORIES:Music,Tasting
ATTACH;FMTTYPE=image/jpeg:https://theforgetavern.com/wp-content/uploads/2023/04/Tea-Party-Poster-web-5-19-23-e1681587289747.jpg
END:VEVENT
BEGIN:VEVENT
DTSTART;TZID=America/New_York:20220814T180000
DTEND;TZID=America/New_York:20220814T210000
DTSTAMP:20260423T034231
CREATED:20220618T225125Z
LAST-MODIFIED:20220809T202353Z
UID:5459-1660500000-1660510800@theforgetavern.com
SUMMARY:Fairy Tea Party Featuring Jameson's Folly
DESCRIPTION:Fairy Tea Party with Jameson’s Folly and special guests Titania and Oberon! \nJameson’s Folly takes the stage at 7:00 PM \nThe Forge Tavern is excited to welcome Jameson’s Folly back to our venue! Dress in your best fairy or fairy tale outfits and join us for another fantasy filled evening. Mingle with the fey. We will have special fey guests to mingle with prior to the band’s performance. Event begins at 6pm and goes on until 9pm. Join us in the fairy realm and enjoy Celtic music. Enjoy specialty tea drinks\, including adult tea beverages. \nYour ticket includes: Mingle with the fairies before the band takes the stage. Photo op! Jameson’s Folly for a 2 hour performance. A night of fairy fun! Don’t miss out on this special event! \nThis is a ticketed event. You must have a ticket to attend. Gather your friends and join us for this magical event! \nWe have both table tickets and individual. Individual seating will be at open tables (staff will guide you). There will be no refunds issued. You will be seated at the table you have paid for. \nFOOD AND DRINKS:\nWe will have a special menu for this event with themed drinks. Some of our regular menu options may not be available in order to bring to you our specialty themed menu. If you have dietary restrictions\, you may message us at least 14 days prior to the event. You may call us at 614-815-0205 at least 14 days prior to event to inquire about menu items. We typically don’t have any nuts in any of our items\, including pastry or dessert items.
URL:https://theforgetavern.com/event/fairy-tea-party-featuring-jamesons-folly-2/
CATEGORIES:Music
ATTACH;FMTTYPE=image/jpeg:https://theforgetavern.com/wp-content/uploads/2022/08/Tea-Party-Poster-web-e1659563333899.jpg
END:VEVENT
BEGIN:VEVENT
DTSTART;TZID=America/New_York:20200905T170000
DTEND;TZID=America/New_York:20200905T230000
DTSTAMP:20260423T034231
CREATED:20200828T142608Z
LAST-MODIFIED:20200830T044008Z
UID:2605-1599325200-1599346800@theforgetavern.com
SUMMARY:Pirate's Party - Featuring Pirate's Creed
DESCRIPTION:Pirate’s Party – Featuring Pirate’s Creed \nPirate’s Creed takes the stage from 7-8pm! \nThe Forge Tavern is excited to welcome Pirate’s Creed to our venue! Dress in your best Pirate Attire and join us for our very first Pirate Party! \nThis is a ticketed event. You must purchase your ticket in order to attend. Tickets can only be purchased as a full table. We have a few options for seating sizes. Please read the table size and requirements carefully. There will be no refunds issued. You will be seated at the table you have paid for. If you paid for outside seating\, there will be no indoor seating available. If we don’t sell out of indoor space an upgrade may be available at the pricing listed below. \nCaptain’s Table: $100.00 per table\, can seat up to 10 people Only 1 of these available.  This table is located off to the side.  It is partially obstructed from the stage but in it’s own semi-private set up. \nThe First Mate – $60.00 per table – Can seat up to 6 people 2 of these available. \nThe Bosun – $40.00 per table – Can seat up to 4 people. There will be 4 of these tables available. \nBelow Deck! – $30.00 per table – Can seat up to 4 people each. 4 available. Please note\, this is in our front room.  It will not be in the room with the stage. They will be obstructed view seating. \nOverboard! – $20.00 per table – Can seat 3 – 4 people. Overboard is OUTSIDE SEATING ONLY! The band will not be visible and music will not be prominent. We have 4 of these tables available. Our outside seating is open sky seating. There is no covering. \nWhen purchasing your table\, please take into consideration the size for seating. For example\, A table that will seat up to 4 people cannot have a group of 5 seated at it. We are seating to keep up with the state mandates for distancing. We appreciate everyone’s cooperation. \nMasks are required when not actively eating and drinking. Masks must be worn when you are standing up at any time (except for the band while performing). If you don’t have your own mask\, we do have a selection available for purchase. They are $10.00 per mask. \nFOOD AND DRINKS:\nWe will have a special menu for this event with themed food and drinks. Our regular menu options may not be available in order to bring to you our specialty themed menu.  No carry-ins or outside food/drink permitted. \nAlcohol sales will run up to 10pm as per the new state order. We cannot serve alcohol after that time. All alcoholic beverages must be cleared by 11pm according to the new rules for the state of Ohio. We appreciate your cooperation. \n  \nAlso note:  If we sell out\, or close to it\, the band may perform an additional set!  Get your friends together and join us for our Pirate’s Party!!  Your support will help support musicians from the Renaissance Festival circuit.  If this event is successful\, there will be more to come!
URL:https://theforgetavern.com/event/pirates-party-featuring-pirates-creed/
LOCATION:The Forge Tavern\, 1375 Bethel Rd\, Columbus\, OH\, 43220\, United States
CATEGORIES:Music
END:VEVENT
BEGIN:VEVENT
DTSTART;TZID=America/New_York:20190630T203000
DTEND;TZID=America/New_York:20190630T235900
DTSTAMP:20260423T034231
CREATED:20190519T025423Z
LAST-MODIFIED:20190621T170116Z
UID:732-1561926600-1561939140@theforgetavern.com
SUMMARY:Get Amped Up - Karaoke Style!
DESCRIPTION:Join Amped Up Karaoke for some singing fun! 8:30pm – 12:30am every Sunday.
URL:https://theforgetavern.com/event/get-amped-up-karaoke-style-15/
CATEGORIES:Karaoke,Music
ATTACH;FMTTYPE=image/jpeg:https://theforgetavern.com/wp-content/uploads/2019/05/karaoke.jpg
END:VEVENT
BEGIN:VEVENT
DTSTART;TZID=America/New_York:20190113T203000
DTEND;TZID=America/New_York:20190113T235900
DTSTAMP:20260423T034231
CREATED:20181227T115902Z
LAST-MODIFIED:20190108T140015Z
UID:67-1547411400-1547423940@theforgetavern.com
SUMMARY:Get Amped Up - Karaoke Style
DESCRIPTION:We’re excited to work with Amped Up Karaoke on Sundays! Come join us from 8:30pm to 12:30am for music\, drinks and fun!
URL:https://theforgetavern.com/event/get-amped-up-karaoke-style-2/
LOCATION:The Forge Bar\, 1375 Bethel Road\, Columbus\, OH\, 43220\, United States
CATEGORIES:Music
END:VEVENT
BEGIN:VEVENT
DTSTART;TZID=America/New_York:20190106T200000
DTEND;TZID=America/New_York:20190106T235900
DTSTAMP:20260423T034231
CREATED:20181227T115647Z
LAST-MODIFIED:20190103T054229Z
UID:65-1546804800-1546819140@theforgetavern.com
SUMMARY:Get Amped Up - Karaoke Style
DESCRIPTION:We’re excited to work with Amped Up Karaoke on Sundays! Come join us from 8pm to 12am for music\, drinks and fun!
URL:https://theforgetavern.com/event/get-amped-up-karaoke-style/
LOCATION:The Forge Bar\, 1375 Bethel Road\, Columbus\, OH\, 43220\, United States
CATEGORIES:Music
END:VEVENT
END:VCALENDAR