BEGIN:VCALENDAR
VERSION:2.0
PRODID:-//The Forge Tavern - ECPv6.15.20//NONSGML v1.0//EN
CALSCALE:GREGORIAN
METHOD:PUBLISH
X-WR-CALNAME:The Forge Tavern
X-ORIGINAL-URL:https://theforgetavern.com
X-WR-CALDESC:Events for The Forge Tavern
REFRESH-INTERVAL;VALUE=DURATION:PT1H
X-Robots-Tag:noindex
X-PUBLISHED-TTL:PT1H
BEGIN:VTIMEZONE
TZID:America/New_York
BEGIN:DAYLIGHT
TZOFFSETFROM:-0500
TZOFFSETTO:-0400
TZNAME:EDT
DTSTART:20230312T070000
END:DAYLIGHT
BEGIN:STANDARD
TZOFFSETFROM:-0400
TZOFFSETTO:-0500
TZNAME:EST
DTSTART:20231105T060000
END:STANDARD
BEGIN:DAYLIGHT
TZOFFSETFROM:-0500
TZOFFSETTO:-0400
TZNAME:EDT
DTSTART:20240310T070000
END:DAYLIGHT
BEGIN:STANDARD
TZOFFSETFROM:-0400
TZOFFSETTO:-0500
TZNAME:EST
DTSTART:20241103T060000
END:STANDARD
BEGIN:DAYLIGHT
TZOFFSETFROM:-0500
TZOFFSETTO:-0400
TZNAME:EDT
DTSTART:20250309T070000
END:DAYLIGHT
BEGIN:STANDARD
TZOFFSETFROM:-0400
TZOFFSETTO:-0500
TZNAME:EST
DTSTART:20251102T060000
END:STANDARD
END:VTIMEZONE
BEGIN:VEVENT
DTSTART;TZID=America/New_York:20240126T190000
DTEND;TZID=America/New_York:20240126T213000
DTSTAMP:20260425T064652
CREATED:20240106T203912Z
LAST-MODIFIED:20240106T214236Z
UID:12257-1706295600-1706304600@theforgetavern.com
SUMMARY:Winter Adventure Party
DESCRIPTION:Winter Adventure Party! \nWe have a NEW winter cocktail menu! \nThis is your chance to try them all! \nYour ticket price includes samples of the new menu and other exclusive information and a chance to earn prizes. PLUS: Play the part of an adventurer as we all try to take down the monster wreaking havoc on the tavern! – Get your chance to roll and see if your strike damages the beast! – We’ve added a fun game to slay! \nWe’ll have a monstrously great time! \nTickets are non-refundable and non-transferrable.
URL:https://theforgetavern.com/event/winter-adventure-party/
CATEGORIES:Tasting
ATTACH;FMTTYPE=image/png:https://theforgetavern.com/wp-content/uploads/2024/01/Snowball-Fight-png-e1704577319877.png
END:VEVENT
END:VCALENDAR