BEGIN:VCALENDAR
VERSION:2.0
PRODID:-//The Forge Tavern - ECPv6.15.20//NONSGML v1.0//EN
CALSCALE:GREGORIAN
METHOD:PUBLISH
X-WR-CALNAME:The Forge Tavern
X-ORIGINAL-URL:https://theforgetavern.com
X-WR-CALDESC:Events for The Forge Tavern
REFRESH-INTERVAL;VALUE=DURATION:PT1H
X-Robots-Tag:noindex
X-PUBLISHED-TTL:PT1H
BEGIN:VTIMEZONE
TZID:America/New_York
BEGIN:DAYLIGHT
TZOFFSETFROM:-0500
TZOFFSETTO:-0400
TZNAME:EDT
DTSTART:20250309T070000
END:DAYLIGHT
BEGIN:STANDARD
TZOFFSETFROM:-0400
TZOFFSETTO:-0500
TZNAME:EST
DTSTART:20251102T060000
END:STANDARD
BEGIN:DAYLIGHT
TZOFFSETFROM:-0500
TZOFFSETTO:-0400
TZNAME:EDT
DTSTART:20260308T070000
END:DAYLIGHT
BEGIN:STANDARD
TZOFFSETFROM:-0400
TZOFFSETTO:-0500
TZNAME:EST
DTSTART:20261101T060000
END:STANDARD
BEGIN:DAYLIGHT
TZOFFSETFROM:-0500
TZOFFSETTO:-0400
TZNAME:EDT
DTSTART:20270314T070000
END:DAYLIGHT
BEGIN:STANDARD
TZOFFSETFROM:-0400
TZOFFSETTO:-0500
TZNAME:EST
DTSTART:20271107T060000
END:STANDARD
END:VTIMEZONE
BEGIN:VEVENT
DTSTART;TZID=America/New_York:20260330T190000
DTEND;TZID=America/New_York:20260330T223000
DTSTAMP:20260425T091519
CREATED:20260130T235113Z
LAST-MODIFIED:20260330T064254Z
UID:22100-1774897200-1774909800@theforgetavern.com
SUMMARY:Wizarding Wine & Cocktail Dinner
DESCRIPTION:Wizarding Wine & Cocktail Dinner\nStep into an enchanting evening inspired by the wizarding world. Guests will be welcomed into the Great Hall\, where the Sorting Ceremony awaits. Once sorted\, a Hogwarts professor will guide you to your seat to begin the night’s festivities. \nEnjoy a Butterbeer and opening appetizer as you mingle with fellow witches and wizards. Then let the feast begin—each course thoughtfully paired with wine or themed cocktails. Throughout the evening\, our visiting wizard will guide you through the flavors\, stories\, and magic woven into every dish. \nMenu\n\nPumpkin Pasties\nPear & Beet Salad\nPotato & Sausage Soup\nStuffed Cornish Hens\nApple Crumble with Butterbeer Sauce\nDessert Candy Treats\n\nJoin us for a night of spellbinding flavors\, whimsical fun\, and unforgettable wizarding charm. \nGrab your discount tickets today!  Original price $75.00 per ticket.  Discount available through February 28\, 2026. \nDietary Accommodations\nFood alterations for allergies or vegetarian preferences are available with advance notice. Please notify us at least 14 days prior to the event so we can accommodate your needs. Contact us at 614-815-0205 with preference concerns.  \n\nTickets are non-refundable and non-transferable. Feel free to call us at 614-815-0205 if you need to change your reservation\, at least 2 weeks prior to the event. No transfers or refund policy keeps scammers at bay. Be safe. Only purchase your tickets directly from The Forge Tavern.
URL:https://theforgetavern.com/event/wizards-wine-cocktail-dinner/
ATTACH;FMTTYPE=image/jpeg:https://theforgetavern.com/wp-content/uploads/2026/01/Wizarding-Wine-Dinner-3-30-26-e1769823251324.jpg
END:VEVENT
BEGIN:VEVENT
DTSTART;TZID=America/New_York:20260402T200000
DTEND;TZID=America/New_York:20260402T220000
DTSTAMP:20260425T091519
CREATED:20260307T012338Z
LAST-MODIFIED:20260307T012338Z
UID:22707-1775160000-1775167200@theforgetavern.com
SUMMARY:Thursday Trivia - Disney Villains
DESCRIPTION:Do you know the square root of an isosceles triangle? Or how many pigs fit in a blanket? Or how many cow farts it takes to fuel a combustion engine? Well\, we don’t either\, but if you know some actual general knowledge trivial things and/or some cool and nerdy themed trivial things\, then The Forge Tavern Trivia Night is for you. \nAll you need to join is a smartphone or tablet\, a team (or just yourself\, you plucky trivia adventurer)\, and the taste for some great food and drinks. We have cool trophies and prizes\, so you really don’t have any excuse not to join us. Unless you’re chicken\, McFly. \nGeneral Knowledge trivia starts at 8pm. The main event\, Disney Villains trivia\, brings you a basket of apples at 9pm. \nRemember! We’re serving great food and drinks\, so arrive hungry (and thirsty!) and leave satisfied. \nOur trivia fills up fast! A reservation can guarantee that your team gets a seat. Make your reservations now before they’re all gone! Reservations held until 8:05 pm. \nThere is a two drink (or food/beverage equivalent) minimum required for all trivia participants. Tickets are not refundable or transferable.
URL:https://theforgetavern.com/event/thursday-trivia-disney-villains-5/
LOCATION:The Forge Tavern\, 1375 Bethel Rd\, Columbus\, OH\, 43220\, United States
CATEGORIES:Trivia
ATTACH;FMTTYPE=image/jpeg:https://theforgetavern.com/wp-content/uploads/2026/03/disney-villians-4-2-26-FB-e1772845544370.jpg
END:VEVENT
BEGIN:VEVENT
DTSTART;TZID=America/New_York:20260405T080000
DTEND;TZID=America/New_York:20260405T230000
DTSTAMP:20260425T091519
CREATED:20260405T000911Z
LAST-MODIFIED:20260405T000911Z
UID:23062-1775376000-1775430000@theforgetavern.com
SUMMARY:Closed - Easter
DESCRIPTION:Have a Happy Easter!  We’ll resume normal hours again 4/8/26. \n 
URL:https://theforgetavern.com/event/closed-easter-2/
END:VEVENT
BEGIN:VEVENT
DTSTART;TZID=America/New_York:20260409T200000
DTEND;TZID=America/New_York:20260409T220000
DTSTAMP:20260425T091519
CREATED:20260312T223629Z
LAST-MODIFIED:20260312T223629Z
UID:22768-1775764800-1775772000@theforgetavern.com
SUMMARY:Thursday Trivia - Alien & Predator
DESCRIPTION:Do you know the square root of an isosceles triangle? Or how many pigs fit in a blanket? Or how many cow farts it takes to fuel a combustion engine? Well\, we don’t either\, but if you know some actual general knowledge trivial things and/or some cool and nerdy themed trivial things\, then The Forge Tavern Trivia Night is for you. \nAll you need to join is a smartphone or tablet\, a team (or just yourself\, you plucky trivia adventurer)\, and the taste for some great food and drinks. We have cool trophies and prizes\, so you really don’t have any excuse not to join us. Unless you’re chicken\, McFly. \nGeneral Knowledge trivia starts at 8pm. The main event\, Alien & Predator trivia\, hunt you down at 9pm. \nRemember! We’re serving great food and drinks\, so arrive hungry (and thirsty!) and leave satisfied. \nOur trivia fills up fast! A reservation can guarantee that your team gets a seat. Make your reservations now before they’re all gone! Reservations held until 8:05 pm. \nThere is a two drink (or food/beverage equivalent) minimum required for all trivia participants. Tickets are not refundable or transferable.
URL:https://theforgetavern.com/event/thursday-trivia-alien-predator/
LOCATION:The Forge Tavern\, 1375 Bethel Rd\, Columbus\, OH\, 43220\, United States
CATEGORIES:Trivia
ATTACH;FMTTYPE=image/jpeg:https://theforgetavern.com/wp-content/uploads/2026/03/Alien-Predator-4-9-26-FB-e1773354812710.jpg
END:VEVENT
BEGIN:VEVENT
DTSTART;TZID=America/New_York:20260410T190000
DTEND;TZID=America/New_York:20260410T220000
DTSTAMP:20260425T091519
CREATED:20260304T232553Z
LAST-MODIFIED:20260331T195726Z
UID:22660-1775847600-1775858400@theforgetavern.com
SUMMARY:Spring Drink Release Adventure Party
DESCRIPTION:Spring Drink Release Adventure Party at The Forge Tavern\nOur new Spring/Summer Cocktail Menu is ready to debut\, and we’re celebrating with a full‑on tavern adventure! Join us for an evening of fresh flavors\, behind‑the‑scenes stories\, and a little monster‑slaying mayhem. \nWhat to Expect\n\nExclusive premiere of our brand‑new seasonal cocktails.\nA story about the Forge Characters and start of the adventure.\nA chance to earn prizes through challenges and discoveries\nA tavern‑wide mini‑quest where you’ll play the role of an adventurer\n\nRoll the dice to see if your strike lands\nWork together to defeat the creature threatening the tavern\nEnjoy a light\, playful game woven throughout the night\n\n\n\nWhy You’ll Love It\nWe had a blast crafting this menu\, and this event is your chance to experience it the way we intended—full of flavor\, fun\, and a touch of fantasy. Whether you’re here for the cocktails\, the camaraderie\, or the quest\, it’s going to be a magically good time. \nImportant Notes\n\nTickets include access to all event activities.\nTickets are non‑refundable and non‑transferable.\nPlease purchase tickets directly from The Forge Tavern to ensure you’re on the official guest list.
URL:https://theforgetavern.com/event/spring-drink-release-adventure-party/
END:VEVENT
BEGIN:VEVENT
DTSTART;TZID=America/New_York:20260416T200000
DTEND;TZID=America/New_York:20260416T220000
DTSTAMP:20260425T091519
CREATED:20260320T005423Z
LAST-MODIFIED:20260320T005423Z
UID:22863-1776369600-1776376800@theforgetavern.com
SUMMARY:Thursday Trivia - Pokemon
DESCRIPTION:Do you know the square root of an isosceles triangle? Or how many pigs fit in a blanket? Or how many cow farts it takes to fuel a combustion engine? Well\, we don’t either\, but if you know some actual general knowledge trivial things and/or some cool and nerdy themed trivial things\, then The Forge Tavern Trivia Night is for you. \nAll you need to join is a smartphone or tablet\, a team (or just yourself\, you plucky trivia adventurer)\, and the taste for some great food and drinks. We have cool trophies and prizes\, so you really don’t have any excuse not to join us. Unless you’re chicken\, McFly. \nGeneral Knowledge trivia starts at 8pm. The main event\, Pokemon trivia\, evolves at 9pm. \nRemember! We’re serving great food and drinks\, so arrive hungry (and thirsty!) and leave satisfied. \nOur trivia fills up fast! A reservation can guarantee that your team gets a seat. Make your reservations now before they’re all gone! Reservations held until 8:05 pm. \nThere is a two drink (or food/beverage equivalent) minimum required for all trivia participants. Tickets are not refundable or transferable.
URL:https://theforgetavern.com/event/thursday-trivia-pokemon-7/
LOCATION:The Forge Tavern\, 1375 Bethel Rd\, Columbus\, OH\, 43220\, United States
CATEGORIES:Trivia
ATTACH;FMTTYPE=image/jpeg:https://theforgetavern.com/wp-content/uploads/2026/03/Pokemon-4-16-26-FB-e1773967459184.jpg
END:VEVENT
BEGIN:VEVENT
DTSTART;TZID=America/New_York:20260417T200000
DTEND;TZID=America/New_York:20260417T230000
DTSTAMP:20260425T091519
CREATED:20260201T220608Z
LAST-MODIFIED:20260417T215255Z
UID:22152-1776456000-1776466800@theforgetavern.com
SUMMARY:Whiskey Witches Spring Flight Event
DESCRIPTION:Whiskey Witches Spring Flight Event\nFriday\, April 17\, 2026 \nThe Whiskey Witches will be providing the music. We’ll be serving up the flights! \nFriday\, April 17\, 2026 \nJoin the Whiskey Witches\, known for their music and fun at the Ohio Renaissance Festival for an evening of spirited storytelling\, and live music. The Forge Tavern offers several flight menus.  We’ll be serving up a new one with the Whiskey Witches! \nEnjoy live music by the Whiskey Witches as you sip\, savor\, and explore the rich flavors of our new whiskey flight. Whether you’re a seasoned whiskey lover or just beginning your journey\, this enchanted night promises warmth\, laughter\, and a touch of mischief. \nGet your tickets for a night of lively entertainment and sip along with the Whiskey Witches! \nTicket Policy\nTickets for this event are non‑refundable and non‑transferrable. If you need to adjust your reservation\, we’re always happy to work with you directly to find a solution. \nThis policy helps protect our guests from scam attempts and ensures everyone has a safe\, reliable experience. For your security\, always purchase tickets directly through ForgeTavern.com. \n 
URL:https://theforgetavern.com/event/bourbon-scotch-tasting-with-the-whiskey-witches/
ATTACH;FMTTYPE=image/jpeg:https://theforgetavern.com/wp-content/uploads/2026/02/whiskey-witches3.jpg
END:VEVENT
BEGIN:VEVENT
DTSTART;TZID=America/New_York:20260419T193000
DTEND;TZID=America/New_York:20260419T230000
DTSTAMP:20260425T091519
CREATED:20260414T043030Z
LAST-MODIFIED:20260414T043030Z
UID:23178-1776627000-1776639600@theforgetavern.com
SUMMARY:Sunday Karaoke!  & Open Gaming
DESCRIPTION:Join us every Sunday for Open Gaming all night and karaoke starting at 7:30 pm! \n 
URL:https://theforgetavern.com/event/sunday-karaoke-open-gaming-8/
END:VEVENT
BEGIN:VEVENT
DTSTART;TZID=America/New_York:20260423T200000
DTEND;TZID=America/New_York:20260423T220000
DTSTAMP:20260425T091519
CREATED:20260327T230309Z
LAST-MODIFIED:20260423T153658Z
UID:22978-1776974400-1776981600@theforgetavern.com
SUMMARY:Thursday Trivia - Spongebob
DESCRIPTION:Do you know the square root of an isosceles triangle? Or how many pigs fit in a blanket? Or how many cow farts it takes to fuel a combustion engine? Well\, we don’t either\, but if you know some actual general knowledge trivial things and/or some cool and nerdy themed trivial things\, then The Forge Tavern Trivia Night is for you. \nAll you need to join is a smartphone or tablet\, a team (or just yourself\, you plucky trivia adventurer)\, and the taste for some great food and drinks. We have cool trophies and prizes\, so you really don’t have any excuse not to join us. Unless you’re chicken\, McFly. \nGeneral Knowledge trivia starts at 8pm. The main event\, Spongebob trivia\, flips your Krabby Patty at 9pm. \nRemember! We’re serving great food and drinks\, so arrive hungry (and thirsty!) and leave satisfied. \nOur trivia fills up fast! A reservation can guarantee that your team gets a seat. Make your reservations now before they’re all gone! Reservations held until 8:05 pm. \nThere is a two drink (or food/beverage equivalent) minimum required for all trivia participants. Tickets are not refundable or transferable.
URL:https://theforgetavern.com/event/thursday-trivia-spongebob-3/
LOCATION:The Forge Tavern\, 1375 Bethel Rd\, Columbus\, OH\, 43220\, United States
CATEGORIES:Trivia
ATTACH;FMTTYPE=image/jpeg:https://theforgetavern.com/wp-content/uploads/2026/03/spongebob-4-23-26-FB-e1774649975156.jpg
END:VEVENT
BEGIN:VEVENT
DTSTART;TZID=America/New_York:20260426T160000
DTEND;TZID=America/New_York:20260426T193000
DTSTAMP:20260425T091519
CREATED:20260228T003731Z
LAST-MODIFIED:20260306T155213Z
UID:22630-1777219200-1777231800@theforgetavern.com
SUMMARY:Ladies’ Night DnD with Lindsay
DESCRIPTION:Ladies’ Night RPG at the Forge Tavern\nFeaturing Game Master Lindsay\nGather your courage\, adventurers—on this enchanted evening\, the Forge Tavern opens its doors to a realm shaped by wit\, wonder\, and women who refuse to roll anything less than destiny. \nStep into a world where Lindsay weaves quests with the flick of a quill and summons chaos with a single raised eyebrow. Whether you’re a seasoned heroine\, a first‑time adventurer\, or simply curious about the mysteries of the dice\, this night is crafted for camaraderie\, creativity\, and a touch of tavern‑born magic. \nWhat Awaits You\n\nA welcoming table of fellow ladies ready to quest\, scheme\, and laugh together\nA one‑shot adventure spun by Lindsay—equal parts daring\, delightful\, and delightfully unhinged\nCharacters forged on the spot or brought from your own legend (pre-generated character sheets provided)\nOrder food/drinks from our themed fantasy menus and roll for initiative! (Food/drink purchase required for participation)\n\nThe Vibe\nThink: a cozy fantasy inn and every woman at the table is the hero of her own tale. Expect supportive energy\, epic moments\, and the kind of storytelling that becomes tavern lore. \nWhy Ladies Night?  We want each woman (or woman presenting) to enjoy the empowerment of playing their character in their own way.  The decisions are completely yours. \nTickets are non-transferable and non-refundable.  Space is extremely limited for this event!
URL:https://theforgetavern.com/event/ladies-night-dnd-with-lindsay/
CATEGORIES:Dungeons & Dragons,Game event,Learn to Play
END:VEVENT
BEGIN:VEVENT
DTSTART;TZID=America/New_York:20260426T193000
DTEND;TZID=America/New_York:20260426T230000
DTSTAMP:20260425T091519
CREATED:20260414T043139Z
LAST-MODIFIED:20260414T043139Z
UID:23180-1777231800-1777244400@theforgetavern.com
SUMMARY:Open Gaming & Karaoke
DESCRIPTION:Join us for Open Gaming all night and Karaoke starting at 7:30!
URL:https://theforgetavern.com/event/open-gaming-karaoke/
END:VEVENT
BEGIN:VEVENT
DTSTART;TZID=America/New_York:20260430T200000
DTEND;TZID=America/New_York:20260430T220000
DTSTAMP:20260425T091519
CREATED:20260409T230405Z
LAST-MODIFIED:20260409T230405Z
UID:23114-1777579200-1777586400@theforgetavern.com
SUMMARY:Thursday Trivia - Dreamworks Animation
DESCRIPTION:Do you know the square root of an isosceles triangle? Or how many pigs fit in a blanket? Or how many cow farts it takes to fuel a combustion engine? Well\, we don’t either\, but if you know some actual general knowledge trivial things and/or some cool and nerdy themed trivial things\, then The Forge Tavern Trivia Night is for you. \nAll you need to join is a smartphone or tablet\, a team (or just yourself\, you plucky trivia adventurer)\, and the taste for some great food and drinks. We have cool trophies and prizes\, so you really don’t have any excuse not to join us. Unless you’re chicken\, McFly. \nGeneral Knowledge trivia starts at 8pm. The main event\, Dreamworks Animation trivia\, trains its dragon at 9pm. \nRemember! We’re serving great food and drinks\, so arrive hungry (and thirsty!) and leave satisfied. \nOur trivia fills up fast! A reservation can guarantee that your team gets a seat. Make your reservations now before they’re all gone! Reservations held until 8:05 pm. \nThere is a two drink (or food/beverage equivalent) minimum required for all trivia participants. Tickets are not refundable or transferable.
URL:https://theforgetavern.com/event/thursday-trivia-dreamworks-animation-2/
LOCATION:The Forge Tavern\, 1375 Bethel Rd\, Columbus\, OH\, 43220\, United States
CATEGORIES:Trivia
ATTACH;FMTTYPE=image/jpeg:https://theforgetavern.com/wp-content/uploads/2026/04/dreamworks-4-30-26-FB-e1775773286519.jpg
END:VEVENT
BEGIN:VEVENT
DTSTART;TZID=America/New_York:20260503T193000
DTEND;TZID=America/New_York:20260503T230000
DTSTAMP:20260425T091519
CREATED:20260414T043251Z
LAST-MODIFIED:20260414T043251Z
UID:23182-1777836600-1777849200@theforgetavern.com
SUMMARY:Open Gaming & Karaoke
DESCRIPTION:Join us for Open Gaming all night and Karaoke starting at 7:30!
URL:https://theforgetavern.com/event/open-gaming-karaoke-2/
END:VEVENT
BEGIN:VEVENT
DTSTART;TZID=America/New_York:20260507T200000
DTEND;TZID=America/New_York:20260507T220000
DTSTAMP:20260425T091519
CREATED:20260409T230949Z
LAST-MODIFIED:20260409T230949Z
UID:23123-1778184000-1778191200@theforgetavern.com
SUMMARY:Thursday Trivia - Star Wars
DESCRIPTION:Do you know the square root of an isosceles triangle? Or how many pigs fit in a blanket? Or how many cow farts it takes to fuel a combustion engine? Well\, we don’t either\, but if you know some actual general knowledge trivial things and/or some cool and nerdy themed trivial things\, then The Forge Tavern Trivia Night is for you. \nAll you need to join is a smartphone or tablet\, a team (or just yourself\, you plucky trivia adventurer)\, and the taste for some great food and drinks. We have cool trophies and prizes\, so you really don’t have any excuse not to join us. Unless you’re chicken\, McFly. \nGeneral Knowledge trivia starts at 8pm. The main event\, Star Wars trivia\, uses the force at 9pm. \nRemember! We’re serving great food and drinks\, so arrive hungry (and thirsty!) and leave satisfied. \nOur trivia fills up fast! A reservation can guarantee that your team gets a seat. Make your reservations now before they’re all gone! Reservations held until 8:05 pm. \nThere is a two drink (or food/beverage equivalent) minimum required for all trivia participants. Tickets are not refundable or transferable.
URL:https://theforgetavern.com/event/thursday-trivia-star-wars-10/
LOCATION:The Forge Tavern\, 1375 Bethel Rd\, Columbus\, OH\, 43220\, United States
CATEGORIES:Trivia
ATTACH;FMTTYPE=image/jpeg:https://theforgetavern.com/wp-content/uploads/2026/04/star-wars-5-7-26-FB-e1775773330291.jpg
END:VEVENT
BEGIN:VEVENT
DTSTART;TZID=America/New_York:20260510T193000
DTEND;TZID=America/New_York:20260510T230000
DTSTAMP:20260425T091519
CREATED:20260414T043340Z
LAST-MODIFIED:20260414T043340Z
UID:23184-1778441400-1778454000@theforgetavern.com
SUMMARY:Open Gaming & Karaoke
DESCRIPTION:Join us for Open Gaming all night and Karaoke starting at 7:30!
URL:https://theforgetavern.com/event/open-gaming-karaoke-3/
END:VEVENT
BEGIN:VEVENT
DTSTART;TZID=America/New_York:20260514T200000
DTEND;TZID=America/New_York:20260514T220000
DTSTAMP:20260425T091519
CREATED:20260417T023939Z
LAST-MODIFIED:20260417T023939Z
UID:23220-1778788800-1778796000@theforgetavern.com
SUMMARY:Thursday Trivia - Retro Video Gaming
DESCRIPTION:Do you know the square root of an isosceles triangle? Or how many pigs fit in a blanket? Or how many cow farts it takes to fuel a combustion engine? Well\, we don’t either\, but if you know some actual general knowledge trivial things and/or some cool and nerdy themed trivial things\, then The Forge Tavern Trivia Night is for you. \nAll you need to join is a smartphone or tablet\, a team (or just yourself\, you plucky trivia adventurer)\, and the taste for some great food and drinks. We have cool trophies and prizes\, so you really don’t have any excuse not to join us. Unless you’re chicken\, McFly. \nGeneral Knowledge trivia starts at 8pm. The main event\, Retro Video Gaming trivia\, informs you that ‘all your base are belong to us’ at 9pm. \nRemember! We’re serving great food and drinks\, so arrive hungry (and thirsty!) and leave satisfied. \nOur trivia fills up fast! A reservation can guarantee that your team gets a seat. Make your reservations now before they’re all gone! Reservations held until 8:05 pm. \nThere is a two drink (or food/beverage equivalent) minimum required for all trivia participants. Tickets are not refundable or transferable.
URL:https://theforgetavern.com/event/thursday-trivia-retro-video-gaming-3/
LOCATION:The Forge Tavern\, 1375 Bethel Rd\, Columbus\, OH\, 43220\, United States
CATEGORIES:Trivia
ATTACH;FMTTYPE=image/jpeg:https://theforgetavern.com/wp-content/uploads/2026/04/Retro-Video-Gaming-5-14-26-FB-e1776393294214.jpg
END:VEVENT
BEGIN:VEVENT
DTSTART;TZID=America/New_York:20260517T193000
DTEND;TZID=America/New_York:20260517T230000
DTSTAMP:20260425T091519
CREATED:20260414T043418Z
LAST-MODIFIED:20260414T043418Z
UID:23186-1779046200-1779058800@theforgetavern.com
SUMMARY:Open Gaming & Karoke
DESCRIPTION:Join us for Open Gaming all night and Karaoke starting at 7:30!
URL:https://theforgetavern.com/event/open-gaming-karoke/
END:VEVENT
BEGIN:VEVENT
DTSTART;TZID=America/New_York:20260522T193000
DTEND;TZID=America/New_York:20260522T223000
DTSTAMP:20260425T091519
CREATED:20260419T033859Z
LAST-MODIFIED:20260419T033859Z
UID:23248-1779478200-1779489000@theforgetavern.com
SUMMARY:Potions & Embers - A Smore's Cocktail Pairing
DESCRIPTION:This was so popular\, it’s been requested again!  So\, here we go with another Potions and Embers! \n  \nGather round\, travelers.\nTonight we embark on a cozy\, enchanted evening where firelight meets fantasy. Join us for a curated flight of magical cocktails\, each inspired by realms of myth and lore\, crafted to pair perfectly with tabletop roasted s’mores. \nAs the embers glow\, you’ll sip potions infused with chocolate\, bourbon cream\, marshmallow\, and enchanted flavors fit for fae courts\, wandering wizards\, and halfling heroes alike. Create your own roasted masterpiece at our mini campfire stations\, then raise a glass to warm nights\, good company\, and a little bit of mischief. \nWhether you come seeking sweet comfort\, bold spirits\, or a taste of adventure\, this will be a night of cocktails\, campfire magic\, and fantasy indulgence. \nWelcome to Potions and Embers\,  the fireside fantasy roast. \n21+ Only \nYour fee covers making tabletop smore’s.   We’ll have flights & cocktails available for purchase.  We’ll try to host this on the patio\, weather permitting. \nTickets are non-refundable and non-transferable.  Avoid scams\, be sure to buy your tickets directly from The Forge Tavern!
URL:https://theforgetavern.com/event/potions-embers-a-smores-cocktail-pairing-2/
END:VEVENT
BEGIN:VEVENT
DTSTART;TZID=America/New_York:20260524T193000
DTEND;TZID=America/New_York:20260524T230000
DTSTAMP:20260425T091519
CREATED:20260414T043603Z
LAST-MODIFIED:20260414T043603Z
UID:23190-1779651000-1779663600@theforgetavern.com
SUMMARY:Open Gaming & Karaoke
DESCRIPTION:Join us for Open Gaming all night and Karaoke starting at 7:30!
URL:https://theforgetavern.com/event/open-gaming-karaoke-5/
END:VEVENT
BEGIN:VEVENT
DTSTART;TZID=America/New_York:20260531T193000
DTEND;TZID=America/New_York:20260531T230000
DTSTAMP:20260425T091519
CREATED:20260414T043655Z
LAST-MODIFIED:20260414T043655Z
UID:23192-1780255800-1780268400@theforgetavern.com
SUMMARY:Open Gaming & Karaoke
DESCRIPTION:Join us for Open Gaming all night and Karaoke starting at 7:30!
URL:https://theforgetavern.com/event/open-gaming-karaoke-6/
END:VEVENT
BEGIN:VEVENT
DTSTART;TZID=America/New_York:20260607T193000
DTEND;TZID=America/New_York:20260607T230000
DTSTAMP:20260425T091519
CREATED:20260414T043516Z
LAST-MODIFIED:20260414T043836Z
UID:23188-1780860600-1780873200@theforgetavern.com
SUMMARY:Open Gaming & Karaoke
DESCRIPTION:Join us for Open Gaming all night and Karaoke starting at 7:30!
URL:https://theforgetavern.com/event/open-gaming-karaoke-4/
END:VEVENT
BEGIN:VEVENT
DTSTART;TZID=America/New_York:20260627T160000
DTEND;TZID=America/New_York:20260627T190000
DTSTAMP:20260425T091519
CREATED:20260419T004654Z
LAST-MODIFIED:20260419T004654Z
UID:23245-1782576000-1782586800@theforgetavern.com
SUMMARY:FREE RPG Day
DESCRIPTION:FREE RPG Day at The Forge Tavern\nAdventure calls\, heroes! Join us for FREE RPG Day\, where the dice are plentiful\, the quests are lighthearted\, and the rewards are real. \nStop in anytime to play a game\, sip on your favorite beverage or cocktail\, or grab some tavern fare to earn stamps toward free loot throughout the day. Whether you’re a seasoned adventurer or brand‑new to tabletop quests\, there’s a seat at the table for you. \nWhat’s Happening\n\nFREE DICE for all participants\nStaff on hand to help teach and run select games\nStamp‑earning challenges tied to food\, drinks\, and gameplay\nA casual\, drop‑in atmosphere perfect for trying something new or bringing your party along\n\nGather your friends\, roll some dice\, and celebrate the joy of tabletop gaming with us. Your next great adventure starts at The Forge Tavern. \n  \n\n 
URL:https://theforgetavern.com/event/free-rpg-day-2/
ATTACH;FMTTYPE=image/jpeg:https://theforgetavern.com/wp-content/uploads/2026/04/free-RPG-day-photo.jpg
END:VEVENT
END:VCALENDAR