BEGIN:VCALENDAR
VERSION:2.0
PRODID:-//The Forge Tavern - ECPv6.15.20//NONSGML v1.0//EN
CALSCALE:GREGORIAN
METHOD:PUBLISH
X-WR-CALNAME:The Forge Tavern
X-ORIGINAL-URL:https://theforgetavern.com
X-WR-CALDESC:Events for The Forge Tavern
REFRESH-INTERVAL;VALUE=DURATION:PT1H
X-Robots-Tag:noindex
X-PUBLISHED-TTL:PT1H
BEGIN:VTIMEZONE
TZID:America/New_York
BEGIN:DAYLIGHT
TZOFFSETFROM:-0500
TZOFFSETTO:-0400
TZNAME:EDT
DTSTART:20240310T070000
END:DAYLIGHT
BEGIN:STANDARD
TZOFFSETFROM:-0400
TZOFFSETTO:-0500
TZNAME:EST
DTSTART:20241103T060000
END:STANDARD
BEGIN:DAYLIGHT
TZOFFSETFROM:-0500
TZOFFSETTO:-0400
TZNAME:EDT
DTSTART:20250309T070000
END:DAYLIGHT
BEGIN:STANDARD
TZOFFSETFROM:-0400
TZOFFSETTO:-0500
TZNAME:EST
DTSTART:20251102T060000
END:STANDARD
BEGIN:DAYLIGHT
TZOFFSETFROM:-0500
TZOFFSETTO:-0400
TZNAME:EDT
DTSTART:20260308T070000
END:DAYLIGHT
BEGIN:STANDARD
TZOFFSETFROM:-0400
TZOFFSETTO:-0500
TZNAME:EST
DTSTART:20261101T060000
END:STANDARD
END:VTIMEZONE
BEGIN:VEVENT
DTSTART;TZID=America/New_York:20250713T163000
DTEND;TZID=America/New_York:20250713T203000
DTSTAMP:20260423T192143
CREATED:20250627T230453Z
LAST-MODIFIED:20250627T230644Z
UID:19310-1752424200-1752438600@theforgetavern.com
SUMMARY:Sunday Social (Deception Games)
DESCRIPTION:Our In-House Board Game Specialist is brewing up some social Sunday games! \nLet’s get social! \nTo participate:  Show up!  Order food/drink.  Our  Game Specialist will take care of the rest. \nDoors open at 4pm.
URL:https://theforgetavern.com/event/sunday-social-deception-games-7/
END:VEVENT
BEGIN:VEVENT
DTSTART;TZID=America/New_York:20250711T190000
DTEND;TZID=America/New_York:20250711T220000
DTSTAMP:20260423T192143
CREATED:20250607T220905Z
LAST-MODIFIED:20250711T212851Z
UID:19054-1752260400-1752271200@theforgetavern.com
SUMMARY:Cider Tasting featuring Hellbranch Cider
DESCRIPTION:James from Hellbranch Cider will be joining us for our first CIDER TASTING event! \nLet’s give him a warm\, Forge Tavern welcome! \nWe’ll taste 5 fun ciders – featuring local ciders from Hellbranch. \nThis is a ticketed event.  No refunds or transfers (to keep scammers from scamming). \n 
URL:https://theforgetavern.com/event/cider-tasting-featuring-hellbranch-cider/
END:VEVENT
BEGIN:VEVENT
DTSTART;TZID=America/New_York:20250710T200000
DTEND;TZID=America/New_York:20250710T220000
DTSTAMP:20260423T192143
CREATED:20250620T041850Z
LAST-MODIFIED:20250710T231413Z
UID:19208-1752177600-1752184800@theforgetavern.com
SUMMARY:Thursday Trivia - Apocalyptic Video Games
DESCRIPTION:Do you know the square root of an isosceles triangle? Or how many pigs fit in a blanket? Or how many cow farts it takes to fuel a combustion engine? Well\, we don’t either\, but if you know some actual general knowledge trivial things and/or some cool and nerdy themed trivial things\, then The Forge Tavern Trivia Night is for you. \nAll you need to join is a smartphone or tablet\, a team (or just yourself\, you plucky trivia adventurer)\, and the taste for some great food and drinks. We have cool trophies and prizes\, so you really don’t have any excuse not to join us. Unless you’re chicken\, McFly. \nGeneral Knowledge trivia starts at 8pm. The main event\, Apocalyptic Video Game trivia\, fights off cordyceps infected zombies at 9pm. \nRemember! We’re serving great food and drinks\, so arrive hungry (and thirsty!) and leave satisfied. \nOur trivia fills up fast! A reservation can guarantee that your team gets a seat. Make your reservations now before they’re all gone! Reservations held until 8:05 pm. \nThere is a two drink (or food/beverage equivalent) minimum required for all trivia participants. Tickets are not refundable or transferable.
URL:https://theforgetavern.com/event/thursday-trivia-apocalyptic-video-games-2/
LOCATION:The Forge Tavern\, 1375 Bethel Rd\, Columbus\, OH\, 43220\, United States
CATEGORIES:Trivia
ATTACH;FMTTYPE=image/jpeg:https://theforgetavern.com/wp-content/uploads/2025/06/Apocalyptic-Video-Games-7-10-25-FB-e1750393646560.jpg
END:VEVENT
BEGIN:VEVENT
DTSTART;TZID=America/New_York:20250710T180000
DTEND;TZID=America/New_York:20250710T220000
DTSTAMP:20260423T192143
CREATED:20250627T223158Z
LAST-MODIFIED:20250628T000806Z
UID:19303-1752170400-1752184800@theforgetavern.com
SUMMARY:D&D Workshop: Charactercraft
DESCRIPTION:Thursday TTRPG Series \nTo participate:  Show up!  Order food/drink.  Our  Game Specialist will take care of the rest. \nThis week: \nLevel up your roleplaying skills in this interactive workshop that explores principles of proactive roleplaying that make for engaging games your party will talk about and remember long after a session ends. This workshop is perfect for any roleplayer who wants to expand their creativity\, deepen their character\, and grow their improv abilities. \nWe’ll be using tools such as the board game Adventure Party\, The Game Master’s Handbook of Proactive Roleplaying: Guidelines and Strategies for Running PC-driven Narratives in 5E adventures by Jonah Fishel\, and The Ultimate RPG Campfire Card Deck by James D’Amato. We’ll also be engaging in some creative improv exercises to teach you strategies for coming up with ideas on the fly. \nBring an existing D&D character you’re already in a campaign with\, a new character you’ve been wanting to flesh out\, or use one of our pre-generated characters.
URL:https://theforgetavern.com/event/dd-workshop-charactercraft/
END:VEVENT
BEGIN:VEVENT
DTSTART;TZID=America/New_York:20250706T163000
DTEND;TZID=America/New_York:20250706T200300
DTSTAMP:20260423T192143
CREATED:20250627T223616Z
LAST-MODIFIED:20250627T223616Z
UID:19305-1751819400-1751832180@theforgetavern.com
SUMMARY:Sunday Social (Deception Games)
DESCRIPTION:Our In-House Board Game Sommelier is brewing up some social Sunday games! \nLet’s get social! \nTo participate:  Show up!  Order food/drink.  Our  Game Specialist will take care of the rest. \nDoors open at 4pm.
URL:https://theforgetavern.com/event/sunday-social-deception-games-6/
END:VEVENT
BEGIN:VEVENT
DTSTART;TZID=America/New_York:20250706T163000
DTEND;TZID=America/New_York:20250706T193000
DTSTAMP:20260423T192143
CREATED:20250611T145124Z
LAST-MODIFIED:20250611T150644Z
UID:19099-1751819400-1751830200@theforgetavern.com
SUMMARY:Dungeons and Dragons One Shot
DESCRIPTION:Join game master Matt! \nMatt is a seasoned DM and is partnering with us at the Forge Tavern to run some D&D sessions! \nSingle evening of D&D in a self-contained adventure. \nProvided:  Pre-generated character sheets & pencils for use. \nWhat you’ll need to bring:  Your own dice.  Players handbook if you have one\, but not required. (We do have them for sale if you want to purchase dice or the handbook) \nRequired:  2 cocktail minimum OR Food/drink equivalent for any event. \nTickets are non-refundable and non-transferrable.
URL:https://theforgetavern.com/event/dungeons-and-dragons-one-shot-4/
END:VEVENT
BEGIN:VEVENT
DTSTART;TZID=America/New_York:20250706T073000
DTEND;TZID=America/New_York:20250706T230000
DTSTAMP:20260423T192143
CREATED:20250618T235634Z
LAST-MODIFIED:20250618T235634Z
UID:19179-1751787000-1751842800@theforgetavern.com
SUMMARY:Sunday Karaoke
DESCRIPTION:Join our house KJ’s every Sunday for a night of karaoke fun! \nKaraoke starts at 7:30 and runs until 11pm (close). \n  \nOpen gaming in both rooms during any event.
URL:https://theforgetavern.com/event/sunday-karaoke-37/
END:VEVENT
BEGIN:VEVENT
DTSTART;TZID=America/New_York:20250703T200000
DTEND;TZID=America/New_York:20250703T220000
DTSTAMP:20260423T192143
CREATED:20250605T234326Z
LAST-MODIFIED:20250605T234326Z
UID:19023-1751572800-1751580000@theforgetavern.com
SUMMARY:Thursday Trivia - Disney Villains
DESCRIPTION:Do you know the square root of an isosceles triangle? Or how many pigs fit in a blanket? Or how many cow farts it takes to fuel a combustion engine? Well\, we don’t either\, but if you know some actual general knowledge trivial things and/or some cool and nerdy themed trivial things\, then The Forge Tavern Trivia Night is for you. \nAll you need to join is a smartphone or tablet\, a team (or just yourself\, you plucky trivia adventurer)\, and the taste for some great food and drinks. We have cool trophies and prizes\, so you really don’t have any excuse not to join us. Unless you’re chicken\, McFly. \nGeneral Knowledge trivia starts at 8pm. The main event\, Disney Villains trivia\, has their dastardly plans foiled at 9pm. \nRemember! We’re serving great food and drinks\, so arrive hungry (and thirsty!) and leave satisfied. \nOur trivia fills up fast! A reservation can guarantee that your team gets a seat. Make your reservations now before they’re all gone! Reservations held until 8:05 pm. \nThere is a two drink (or food/beverage equivalent) minimum required for all trivia participants. Tickets are not refundable or transferable.
URL:https://theforgetavern.com/event/thursday-trivia-disney-villains-4/
LOCATION:The Forge Tavern\, 1375 Bethel Rd\, Columbus\, OH\, 43220\, United States
CATEGORIES:Trivia
ATTACH;FMTTYPE=image/jpeg:https://theforgetavern.com/wp-content/uploads/2025/06/disney-villians-7-3-25-FB-e1749165339273.jpg
END:VEVENT
BEGIN:VEVENT
DTSTART;TZID=America/New_York:20250629T193000
DTEND;TZID=America/New_York:20250629T230000
DTSTAMP:20260423T192143
CREATED:20250523T172938Z
LAST-MODIFIED:20250523T172938Z
UID:18897-1751225400-1751238000@theforgetavern.com
SUMMARY:Sunday Karaoke
DESCRIPTION:Join our house KJ’s every Sunday for a night of karaoke fun! \nKaraoke starts at 7:30 and runs until 11pm (close).
URL:https://theforgetavern.com/event/sunday-karaoke-36/
END:VEVENT
BEGIN:VEVENT
DTSTART;TZID=America/New_York:20250629T163000
DTEND;TZID=America/New_York:20250629T193000
DTSTAMP:20260423T192143
CREATED:20250523T175416Z
LAST-MODIFIED:20250523T175416Z
UID:18913-1751214600-1751225400@theforgetavern.com
SUMMARY:Sunday Social (Deception Games)
DESCRIPTION:Our In-House Board Game Sommelier is brewing up some social Sunday games! \nLet’s get social! \nTo participate:  Show up!  Order food/drink.  Our Sommelier will take care of the rest. \nDoors open at 4pm.
URL:https://theforgetavern.com/event/sunday-social-deception-games-5/
END:VEVENT
BEGIN:VEVENT
DTSTART;TZID=America/New_York:20250626T200000
DTEND;TZID=America/New_York:20250626T220000
DTSTAMP:20260423T192143
CREATED:20250605T233720Z
LAST-MODIFIED:20250605T233720Z
UID:19017-1750968000-1750975200@theforgetavern.com
SUMMARY:Thursday Trivia - Nicktoons
DESCRIPTION:Do you know the square root of an isosceles triangle? Or how many pigs fit in a blanket? Or how many cow farts it takes to fuel a combustion engine? Well\, we don’t either\, but if you know some actual general knowledge trivial things and/or some cool and nerdy themed trivial things\, then The Forge Tavern Trivia Night is for you. \nAll you need to join is a smartphone or tablet\, a team (or just yourself\, you plucky trivia adventurer)\, and the taste for some great food and drinks. We have cool trophies and prizes\, so you really don’t have any excuse not to join us. Unless you’re chicken\, McFly. \nGeneral Knowledge trivia starts at 8pm. The main event\, Nicktoons trivia\, flips your Krabby Patty at 9pm. \nRemember! We’re serving great food and drinks\, so arrive hungry (and thirsty!) and leave satisfied. \nOur trivia fills up fast! A reservation can guarantee that your team gets a seat. Make your reservations now before they’re all gone! Reservations held until 8:05 pm. \nThere is a two drink (or food/beverage equivalent) minimum required for all trivia participants. Tickets are not refundable or transferable.
URL:https://theforgetavern.com/event/thursday-trivia-nicktoons-3/
LOCATION:The Forge Tavern\, 1375 Bethel Rd\, Columbus\, OH\, 43220\, United States
CATEGORIES:Trivia
ATTACH;FMTTYPE=image/jpeg:https://theforgetavern.com/wp-content/uploads/2025/06/Nicktoons-6-26-25-FB-e1749165444241.jpg
END:VEVENT
BEGIN:VEVENT
DTSTART;TZID=America/New_York:20250626T180000
DTEND;TZID=America/New_York:20250626T210000
DTSTAMP:20260423T192143
CREATED:20250613T221249Z
LAST-MODIFIED:20250613T221249Z
UID:19145-1750960800-1750971600@theforgetavern.com
SUMMARY:TTRPG- D&D Character Creation
DESCRIPTION:Join us every Thursday night for our NEW Thursday TTRPG program. \nThis week:  D&D Character Creation \nOur game specialist has some fun-filled adventures.   Join us Thursday to roll dice and compete the adventures! \nEvery Thursday\, our Game Specialist will take you through some well known and not-so-well known Role Play Games. \nDue to the nature of these events\, the end time may run over or under the scheduled time. \nAs with any of our events\, there is a 2 cocktail minimum or food/drink equivalent. \nSeating will be limited.  This is a ticketed event. \nTickets are non-refundable and non-transferable.  This policy keeps fraudulent ticket sellers from ruining your fun!  If you purchase tickets and are unable to make it\, please call 614-815-0205.  We’re always happy to help. \n 
URL:https://theforgetavern.com/event/ttrpg-dd-character-creation/
END:VEVENT
BEGIN:VEVENT
DTSTART;TZID=America/New_York:20250625T080000
DTEND;TZID=America/New_York:20250625T170000
DTSTAMP:20260423T192143
CREATED:20250523T173111Z
LAST-MODIFIED:20250607T224140Z
UID:18899-1750838400-1750870800@theforgetavern.com
SUMMARY:Board Game Meet Up
DESCRIPTION:Fourth Wednesday Board Game Meet up! \nJoin Erin us for an evening of TTBG!  Our Board Game Specialist will be on hand to help with game play.  We have plenty of seating for you to join in. \n5:30 – 11pm \nNo fee for this event\, simply order food/drink to participate. \nEvery Great Adventure Begins at the Tavern — The Forge Tavern! \nLet your adventure begin!
URL:https://theforgetavern.com/event/board-game-meet-up-2/
END:VEVENT
BEGIN:VEVENT
DTSTART;TZID=America/New_York:20250622T193000
DTEND;TZID=America/New_York:20250622T230000
DTSTAMP:20260423T192143
CREATED:20250523T172904Z
LAST-MODIFIED:20250523T172904Z
UID:18895-1750620600-1750633200@theforgetavern.com
SUMMARY:Sunday Karaoke
DESCRIPTION:Join our house KJ’s every Sunday for a night of karaoke fun! \nKaraoke starts at 7:30 and runs until 11pm (close).
URL:https://theforgetavern.com/event/sunday-karaoke-35/
END:VEVENT
BEGIN:VEVENT
DTSTART;TZID=America/New_York:20250622T163000
DTEND;TZID=America/New_York:20250622T193000
DTSTAMP:20260423T192143
CREATED:20250523T175300Z
LAST-MODIFIED:20250523T175300Z
UID:18911-1750609800-1750620600@theforgetavern.com
SUMMARY:Sunday Social (Deception Games)
DESCRIPTION:Our In-House Board Game Sommelier is brewing up some social Sunday games! \nLet’s get social! \nTo participate:  Show up!  Order food/drink.  Our Sommelier will take care of the rest. \nDoors open at 4pm.
URL:https://theforgetavern.com/event/sunday-social-deception-games-4/
END:VEVENT
BEGIN:VEVENT
DTSTART;TZID=America/New_York:20250621T163000
DTEND;TZID=America/New_York:20250621T193000
DTSTAMP:20260423T192143
CREATED:20250607T231657Z
LAST-MODIFIED:20250607T231657Z
UID:19060-1750523400-1750534200@theforgetavern.com
SUMMARY:FREE RPG Day
DESCRIPTION:Join us for FREE RPG day! Stop in and order food/drink and the games are free! Erin is your host. She’s conjuring up something fun! \nWe have free merchandise to give away with purchase of food/drink. \nStop in\, play games and grab some food/drink. \n 
URL:https://theforgetavern.com/event/free-rpg-day/
END:VEVENT
BEGIN:VEVENT
DTSTART;TZID=America/New_York:20250619T200000
DTEND;TZID=America/New_York:20250619T220000
DTSTAMP:20260423T192143
CREATED:20250522T232056Z
LAST-MODIFIED:20250619T204211Z
UID:18868-1750363200-1750370400@theforgetavern.com
SUMMARY:Thursday Trivia - Board Games
DESCRIPTION:Do you know the square root of an isosceles triangle? Or how many pigs fit in a blanket? Or how many cow farts it takes to fuel a combustion engine? Well\, we don’t either\, but if you know some actual general knowledge trivial things and/or some cool and nerdy themed trivial things\, then The Forge Tavern Trivia Night is for you. \nAll you need to join is a smartphone or tablet\, a team (or just yourself\, you plucky trivia adventurer)\, and the taste for some great food and drinks. We have cool trophies and prizes\, so you really don’t have any excuse not to join us. Unless you’re chicken\, McFly. \nGeneral Knowledge trivia starts at 8pm. The main event\, Board Games trivia\, gets wood for sheep at 9pm. \nRemember! We’re serving great food and drinks\, so arrive hungry (and thirsty!) and leave satisfied. \nOur trivia fills up fast! A reservation can guarantee that your team gets a seat. Make your reservations now before they’re all gone! Reservations held until 8:05 pm. \nThere is a two drink (or food/beverage equivalent) minimum required for all trivia participants. Tickets are not refundable or transferable.
URL:https://theforgetavern.com/event/thursday-trivia-board-games/
LOCATION:The Forge Tavern\, 1375 Bethel Rd\, Columbus\, OH\, 43220\, United States
CATEGORIES:Trivia
ATTACH;FMTTYPE=image/jpeg:https://theforgetavern.com/wp-content/uploads/2025/05/Boardgames-6-19-25-FB-e1747953881557.jpg
END:VEVENT
BEGIN:VEVENT
DTSTART;TZID=America/New_York:20250619T180000
DTEND;TZID=America/New_York:20250619T210000
DTSTAMP:20260423T192143
CREATED:20250613T144501Z
LAST-MODIFIED:20250619T161628Z
UID:19131-1750356000-1750366800@theforgetavern.com
SUMMARY:TTRPG- Venture into Role Playing
DESCRIPTION:Join us every Thursday night for our NEW Thursday TTRPG program. \nThis week:  Venture into Role Playing Games \nOur game specialist has some fun-filled adventures.  Are you witty enough to use your character to complete the adventures in a creative and fun descriptive scene?  Join us Thursday to roll dice and compete the adventures! \nEvery Thursday\, our Game Specialist will take you through some well known and not-so-well known Role Play Games. \nAs with any of our events\, there is a 2 cocktail minimum or food/drink equivalent. \nSeating will be limited.  This is a ticketed event. \nTickets are non-refundable and non-transferable.  This policy keeps fraudulent ticket sellers from ruining your fun!  If you purchase tickets and are unable to make it\, please call 614-815-0205.  We’re always happy to help. \n 
URL:https://theforgetavern.com/event/ttrpg-venture-into-role-playing/
END:VEVENT
BEGIN:VEVENT
DTSTART;TZID=America/New_York:20250615T193000
DTEND;TZID=America/New_York:20250615T230000
DTSTAMP:20260423T192143
CREATED:20250523T172832Z
LAST-MODIFIED:20250523T172832Z
UID:18893-1750015800-1750028400@theforgetavern.com
SUMMARY:Sunday Karaoke
DESCRIPTION:Join our house KJ’s every Sunday for a night of karaoke fun! \nKaraoke starts at 7:30 and runs until 11pm (close).
URL:https://theforgetavern.com/event/sunday-karaoke-34/
END:VEVENT
BEGIN:VEVENT
DTSTART;TZID=America/New_York:20250615T163000
DTEND;TZID=America/New_York:20250615T193000
DTSTAMP:20260423T192143
CREATED:20250523T175208Z
LAST-MODIFIED:20250607T034155Z
UID:18909-1750005000-1750015800@theforgetavern.com
SUMMARY:Sunday Social (Deception Games)
DESCRIPTION:Our In-House Board Game Specialist is brewing up some social Sunday games! \nLet’s get social! \nTo participate:  Show up!  Order food/drink.  Our Sommelier will take care of the rest. \nDoors open at 4pm.
URL:https://theforgetavern.com/event/sunday-social-deception-games-3/
END:VEVENT
BEGIN:VEVENT
DTSTART;TZID=America/New_York:20250612T200000
DTEND;TZID=America/New_York:20250612T220000
DTSTAMP:20260423T192143
CREATED:20250522T224912Z
LAST-MODIFIED:20250522T224912Z
UID:18862-1749758400-1749765600@theforgetavern.com
SUMMARY:Thursday Trivia - Video Games Iconic Characters
DESCRIPTION:Do you know the square root of an isosceles triangle? Or how many pigs fit in a blanket? Or how many cow farts it takes to fuel a combustion engine? Well\, we don’t either\, but if you know some actual general knowledge trivial things and/or some cool and nerdy themed trivial things\, then The Forge Tavern Trivia Night is for you. \nAll you need to join is a smartphone or tablet\, a team (or just yourself\, you plucky trivia adventurer)\, and the taste for some great food and drinks. We have cool trophies and prizes\, so you really don’t have any excuse not to join us. Unless you’re chicken\, McFly. \nGeneral Knowledge trivia starts at 8pm. The main event\, Iconic Video Games Characters trivia\, respawns at 9pm. \nRemember! We’re serving great food and drinks\, so arrive hungry (and thirsty!) and leave satisfied. \nOur trivia fills up fast! A reservation can guarantee that your team gets a seat. Make your reservations now before they’re all gone! Reservations held until 8:05 pm. \nThere is a two drink (or food/beverage equivalent) minimum required for all trivia participants. Tickets are not refundable or transferable.
URL:https://theforgetavern.com/event/thursday-trivia-video-games-iconic-characters-2/
LOCATION:The Forge Tavern\, 1375 Bethel Rd\, Columbus\, OH\, 43220\, United States
CATEGORIES:Trivia
ATTACH;FMTTYPE=image/jpeg:https://theforgetavern.com/wp-content/uploads/2025/05/Video-Games-Iconic-Characters-6-12-25-FB-e1747953842673.jpg
END:VEVENT
BEGIN:VEVENT
DTSTART;TZID=America/New_York:20250612T180000
DTEND;TZID=America/New_York:20250612T210000
DTSTAMP:20260423T192143
CREATED:20250524T004916Z
LAST-MODIFIED:20250613T144223Z
UID:18921-1749751200-1749762000@theforgetavern.com
SUMMARY:Thursday TTRPG - D & D Character Creation
DESCRIPTION:Join us every Thursday night for our NEW Thursday TTRPG program. \nThis week:  Venture into Role Playing Games \nOur game specialist has some fun-filled adventures.  Are you witty enough to use your character to complete the adventures in a creative and fun descriptive scene?  Join us Thursday to roll dice and compete the adventures! \nEvery Thursday\, our Game Specialist will take you through some well known and not-so-well known Role Play Games. \nAs with any of our events\, there is a 2 cocktail minimum or food/drink equivalent. \nSeating will be limited.  This is a ticketed event. \nTickets are non-refundable and non-transferable.  This policy keeps fraudulent ticket sellers from ruining your fun!  If you purchase tickets and are unable to make it\, please call 614-815-0205.  We’re always happy to help. \n 
URL:https://theforgetavern.com/event/thursday-ttrpg-d-d-character-creation/
END:VEVENT
BEGIN:VEVENT
DTSTART;TZID=America/New_York:20250608T193000
DTEND;TZID=America/New_York:20250608T230000
DTSTAMP:20260423T192143
CREATED:20250523T172759Z
LAST-MODIFIED:20250523T172759Z
UID:18891-1749411000-1749423600@theforgetavern.com
SUMMARY:Sunday Karaoke
DESCRIPTION:Join our house KJ’s every Sunday for a night of karaoke fun! \nKaraoke starts at 7:30 and runs until 11pm (close).
URL:https://theforgetavern.com/event/sunday-karaoke-33/
END:VEVENT
BEGIN:VEVENT
DTSTART;TZID=America/New_York:20250608T163000
DTEND;TZID=America/New_York:20250608T193000
DTSTAMP:20260423T192143
CREATED:20250523T175103Z
LAST-MODIFIED:20250523T175103Z
UID:18907-1749400200-1749411000@theforgetavern.com
SUMMARY:Sunday Social (Deception Games)
DESCRIPTION:Our In-House Board Game Sommelier is brewing up some social Sunday games! \nLet’s get social! \nTo participate:  Show up!  Order food/drink.  Our Sommelier will take care of the rest. \nDoors open at 4pm.
URL:https://theforgetavern.com/event/sunday-social-deception-games-2/
END:VEVENT
BEGIN:VEVENT
DTSTART;TZID=America/New_York:20250606T170000
DTEND;TZID=America/New_York:20250606T235900
DTSTAMP:20260423T192143
CREATED:20250514T213419Z
LAST-MODIFIED:20250514T213419Z
UID:18791-1749229200-1749254340@theforgetavern.com
SUMMARY:National Donut Day Flight!
DESCRIPTION:Join us for donut night!  Your choice of 4 different donut cocktails or get a while flight! \n  \n 
URL:https://theforgetavern.com/event/national-donut-day-flight/
CATEGORIES:Tasting
ATTACH;FMTTYPE=image/jpeg:https://theforgetavern.com/wp-content/uploads/2025/05/donut-flight.jpg
END:VEVENT
BEGIN:VEVENT
DTSTART;TZID=America/New_York:20250605T200000
DTEND;TZID=America/New_York:20250605T220000
DTSTAMP:20260423T192143
CREATED:20250511T012127Z
LAST-MODIFIED:20250605T215206Z
UID:18749-1749153600-1749160800@theforgetavern.com
SUMMARY:Thursday Trivia - Marvel Cinematic Universe
DESCRIPTION:Do you know the square root of an isosceles triangle? Or how many pigs fit in a blanket? Or how many cow farts it takes to fuel a combustion engine? Well\, we don’t either\, but if you know some actual general knowledge trivial things and/or some cool and nerdy themed trivial things\, then The Forge Tavern Trivia Night is for you. \nAll you need to join is a smartphone or tablet\, a team (or just yourself\, you plucky trivia adventurer)\, and the taste for some great food and drinks. We have cool trophies and prizes\, so you really don’t have any excuse not to join us. Unless you’re chicken\, McFly. \nGeneral Knowledge trivia starts at 8pm. The main event\, MCU trivia\, jumps into this multiverse at 9pm. \nRemember! We’re serving great food and drinks\, so arrive hungry (and thirsty!) and leave satisfied. \nOur trivia fills up fast! A reservation can guarantee that your team gets a seat. Make your reservations now before they’re all gone! Reservations held until 8:05 pm. \nThere is a two drink (or food/beverage equivalent) minimum required for all trivia participants. Tickets are not refundable or transferable.
URL:https://theforgetavern.com/event/thursday-trivia-marvel-cinematic-universe/
LOCATION:The Forge Tavern\, 1375 Bethel Rd\, Columbus\, OH\, 43220\, United States
CATEGORIES:Trivia
ATTACH;FMTTYPE=image/jpeg:https://theforgetavern.com/wp-content/uploads/2025/05/MCU-6-5-25-FB-e1746925877725.jpg
END:VEVENT
BEGIN:VEVENT
DTSTART;TZID=America/New_York:20250601T193000
DTEND;TZID=America/New_York:20250601T230000
DTSTAMP:20260423T192143
CREATED:20250523T172722Z
LAST-MODIFIED:20250523T172722Z
UID:18889-1748806200-1748818800@theforgetavern.com
SUMMARY:Sunday Karaoke
DESCRIPTION:Join our house KJ’s every Sunday for a night of karaoke fun! \nKaraoke starts at 7:30 and runs until 11pm (close).
URL:https://theforgetavern.com/event/sunday-karaoke-32/
END:VEVENT
BEGIN:VEVENT
DTSTART;TZID=America/New_York:20250601T163000
DTEND;TZID=America/New_York:20250601T193000
DTSTAMP:20260423T192143
CREATED:20250523T173816Z
LAST-MODIFIED:20250531T221131Z
UID:18905-1748795400-1748806200@theforgetavern.com
SUMMARY:Sunday Social (Deception Games)
DESCRIPTION:Our In-House Board Game Specialist is brewing up some social Sunday games! \nLet’s get social! \nTo participate:  Show up!  Order food/drink.  Our Game Specialist will take care of the rest. \nDoors open at 4pm. \n  \n 
URL:https://theforgetavern.com/event/sunday-social-deception-games/
END:VEVENT
BEGIN:VEVENT
DTSTART;TZID=America/New_York:20250601T163000
DTEND;TZID=America/New_York:20250601T193000
DTSTAMP:20260423T192143
CREATED:20250514T220518Z
LAST-MODIFIED:20250601T024306Z
UID:18798-1748795400-1748806200@theforgetavern.com
SUMMARY:Wire & Wine - Moon Pendant
DESCRIPTION:We’re doing another fun free-form wire jewelry class –with WINE! \nFee includes all the materials needed to complete your choice of 2 moon pendants and the glass of wine to get you through! Tools provided.  Simply reserve your seat\, tell your friends to reserve theirs too\, join us to enjoy a drink and make these cool moon pendants! \nSpace is limited so\, reserve your seat now!
URL:https://theforgetavern.com/event/wire-wine-moon-pendant/
ATTACH;FMTTYPE=image/jpeg:https://theforgetavern.com/wp-content/uploads/2025/05/moon-pendant.jpg
END:VEVENT
BEGIN:VEVENT
DTSTART;TZID=America/New_York:20250529T200000
DTEND;TZID=America/New_York:20250529T220000
DTSTAMP:20260423T192143
CREATED:20250511T011524Z
LAST-MODIFIED:20250529T033909Z
UID:18743-1748548800-1748556000@theforgetavern.com
SUMMARY:Thursday Trivia - Dungeons & Dragons
DESCRIPTION:Do you know the square root of an isosceles triangle? Or how many pigs fit in a blanket? Or how many cow farts it takes to fuel a combustion engine? Well\, we don’t either\, but if you know some actual general knowledge trivial things and/or some cool and nerdy themed trivial things\, then The Forge Tavern Trivia Night is for you. \nAll you need to join is a smartphone or tablet\, a team (or just yourself\, you plucky trivia adventurer)\, and the taste for some great food and drinks. We have cool trophies and prizes\, so you really don’t have any excuse not to join us. Unless you’re chicken\, McFly. \nGeneral Knowledge trivia starts at 8pm. The main event\, D&D trivia\, Saves vs Confusion at 9pm. \nRemember! We’re serving great food and drinks\, so arrive hungry (and thirsty!) and leave satisfied. \nOur trivia fills up fast! A reservation can guarantee that your team gets a seat. Make your reservations now before they’re all gone! Reservations held until 8:05 pm. \nThere is a two drink (or food/beverage equivalent) minimum required for all trivia participants. Tickets are not refundable or transferable.
URL:https://theforgetavern.com/event/thursday-trivia-dungeons-dragons-5/
LOCATION:The Forge Tavern\, 1375 Bethel Rd\, Columbus\, OH\, 43220\, United States
CATEGORIES:Trivia
ATTACH;FMTTYPE=image/jpeg:https://theforgetavern.com/wp-content/uploads/2025/05/Dungeons-Dragons-5-29-25-FB-e1746925852499.jpg
END:VEVENT
END:VCALENDAR