BEGIN:VCALENDAR
VERSION:2.0
PRODID:-//The Forge Tavern - ECPv6.15.20//NONSGML v1.0//EN
CALSCALE:GREGORIAN
METHOD:PUBLISH
X-WR-CALNAME:The Forge Tavern
X-ORIGINAL-URL:https://theforgetavern.com
X-WR-CALDESC:Events for The Forge Tavern
REFRESH-INTERVAL;VALUE=DURATION:PT1H
X-Robots-Tag:noindex
X-PUBLISHED-TTL:PT1H
BEGIN:VTIMEZONE
TZID:America/New_York
BEGIN:DAYLIGHT
TZOFFSETFROM:-0500
TZOFFSETTO:-0400
TZNAME:EDT
DTSTART:20250309T070000
END:DAYLIGHT
BEGIN:STANDARD
TZOFFSETFROM:-0400
TZOFFSETTO:-0500
TZNAME:EST
DTSTART:20251102T060000
END:STANDARD
BEGIN:DAYLIGHT
TZOFFSETFROM:-0500
TZOFFSETTO:-0400
TZNAME:EDT
DTSTART:20260308T070000
END:DAYLIGHT
BEGIN:STANDARD
TZOFFSETFROM:-0400
TZOFFSETTO:-0500
TZNAME:EST
DTSTART:20261101T060000
END:STANDARD
BEGIN:DAYLIGHT
TZOFFSETFROM:-0500
TZOFFSETTO:-0400
TZNAME:EDT
DTSTART:20270314T070000
END:DAYLIGHT
BEGIN:STANDARD
TZOFFSETFROM:-0400
TZOFFSETTO:-0500
TZNAME:EST
DTSTART:20271107T060000
END:STANDARD
END:VTIMEZONE
BEGIN:VEVENT
DTSTART;TZID=America/New_York:20260522T193000
DTEND;TZID=America/New_York:20260522T223000
DTSTAMP:20260422T220544
CREATED:20260419T033859Z
LAST-MODIFIED:20260419T033859Z
UID:23248-1779478200-1779489000@theforgetavern.com
SUMMARY:Potions & Embers - A Smore's Cocktail Pairing
DESCRIPTION:This was so popular\, it’s been requested again!  So\, here we go with another Potions and Embers! \n  \nGather round\, travelers.\nTonight we embark on a cozy\, enchanted evening where firelight meets fantasy. Join us for a curated flight of magical cocktails\, each inspired by realms of myth and lore\, crafted to pair perfectly with tabletop roasted s’mores. \nAs the embers glow\, you’ll sip potions infused with chocolate\, bourbon cream\, marshmallow\, and enchanted flavors fit for fae courts\, wandering wizards\, and halfling heroes alike. Create your own roasted masterpiece at our mini campfire stations\, then raise a glass to warm nights\, good company\, and a little bit of mischief. \nWhether you come seeking sweet comfort\, bold spirits\, or a taste of adventure\, this will be a night of cocktails\, campfire magic\, and fantasy indulgence. \nWelcome to Potions and Embers\,  the fireside fantasy roast. \n21+ Only \nYour fee covers making tabletop smore’s.   We’ll have flights & cocktails available for purchase.  We’ll try to host this on the patio\, weather permitting. \nTickets are non-refundable and non-transferable.  Avoid scams\, be sure to buy your tickets directly from The Forge Tavern!
URL:https://theforgetavern.com/event/potions-embers-a-smores-cocktail-pairing-2/
END:VEVENT
BEGIN:VEVENT
DTSTART;TZID=America/New_York:20260524T193000
DTEND;TZID=America/New_York:20260524T230000
DTSTAMP:20260422T220544
CREATED:20260414T043603Z
LAST-MODIFIED:20260414T043603Z
UID:23190-1779651000-1779663600@theforgetavern.com
SUMMARY:Open Gaming & Karaoke
DESCRIPTION:Join us for Open Gaming all night and Karaoke starting at 7:30!
URL:https://theforgetavern.com/event/open-gaming-karaoke-5/
END:VEVENT
BEGIN:VEVENT
DTSTART;TZID=America/New_York:20260531T193000
DTEND;TZID=America/New_York:20260531T230000
DTSTAMP:20260422T220544
CREATED:20260414T043655Z
LAST-MODIFIED:20260414T043655Z
UID:23192-1780255800-1780268400@theforgetavern.com
SUMMARY:Open Gaming & Karaoke
DESCRIPTION:Join us for Open Gaming all night and Karaoke starting at 7:30!
URL:https://theforgetavern.com/event/open-gaming-karaoke-6/
END:VEVENT
BEGIN:VEVENT
DTSTART;TZID=America/New_York:20260607T193000
DTEND;TZID=America/New_York:20260607T230000
DTSTAMP:20260422T220544
CREATED:20260414T043516Z
LAST-MODIFIED:20260414T043836Z
UID:23188-1780860600-1780873200@theforgetavern.com
SUMMARY:Open Gaming & Karaoke
DESCRIPTION:Join us for Open Gaming all night and Karaoke starting at 7:30!
URL:https://theforgetavern.com/event/open-gaming-karaoke-4/
END:VEVENT
BEGIN:VEVENT
DTSTART;TZID=America/New_York:20260627T160000
DTEND;TZID=America/New_York:20260627T190000
DTSTAMP:20260422T220544
CREATED:20260419T004654Z
LAST-MODIFIED:20260419T004654Z
UID:23245-1782576000-1782586800@theforgetavern.com
SUMMARY:FREE RPG Day
DESCRIPTION:FREE RPG Day at The Forge Tavern\nAdventure calls\, heroes! Join us for FREE RPG Day\, where the dice are plentiful\, the quests are lighthearted\, and the rewards are real. \nStop in anytime to play a game\, sip on your favorite beverage or cocktail\, or grab some tavern fare to earn stamps toward free loot throughout the day. Whether you’re a seasoned adventurer or brand‑new to tabletop quests\, there’s a seat at the table for you. \nWhat’s Happening\n\nFREE DICE for all participants\nStaff on hand to help teach and run select games\nStamp‑earning challenges tied to food\, drinks\, and gameplay\nA casual\, drop‑in atmosphere perfect for trying something new or bringing your party along\n\nGather your friends\, roll some dice\, and celebrate the joy of tabletop gaming with us. Your next great adventure starts at The Forge Tavern. \n  \n\n 
URL:https://theforgetavern.com/event/free-rpg-day-2/
ATTACH;FMTTYPE=image/jpeg:https://theforgetavern.com/wp-content/uploads/2026/04/free-RPG-day-photo.jpg
END:VEVENT
END:VCALENDAR