BEGIN:VCALENDAR
VERSION:2.0
PRODID:-//The Forge Tavern - ECPv6.15.20//NONSGML v1.0//EN
CALSCALE:GREGORIAN
METHOD:PUBLISH
X-ORIGINAL-URL:https://theforgetavern.com
X-WR-CALDESC:Events for The Forge Tavern
REFRESH-INTERVAL;VALUE=DURATION:PT1H
X-Robots-Tag:noindex
X-PUBLISHED-TTL:PT1H
BEGIN:VTIMEZONE
TZID:America/New_York
BEGIN:DAYLIGHT
TZOFFSETFROM:-0500
TZOFFSETTO:-0400
TZNAME:EDT
DTSTART:20230312T070000
END:DAYLIGHT
BEGIN:STANDARD
TZOFFSETFROM:-0400
TZOFFSETTO:-0500
TZNAME:EST
DTSTART:20231105T060000
END:STANDARD
BEGIN:DAYLIGHT
TZOFFSETFROM:-0500
TZOFFSETTO:-0400
TZNAME:EDT
DTSTART:20240310T070000
END:DAYLIGHT
BEGIN:STANDARD
TZOFFSETFROM:-0400
TZOFFSETTO:-0500
TZNAME:EST
DTSTART:20241103T060000
END:STANDARD
BEGIN:DAYLIGHT
TZOFFSETFROM:-0500
TZOFFSETTO:-0400
TZNAME:EDT
DTSTART:20250309T070000
END:DAYLIGHT
BEGIN:STANDARD
TZOFFSETFROM:-0400
TZOFFSETTO:-0500
TZNAME:EST
DTSTART:20251102T060000
END:STANDARD
END:VTIMEZONE
BEGIN:VEVENT
DTSTART;TZID=America/New_York:20240303T190000
DTEND;TZID=America/New_York:20240303T230000
DTSTAMP:20260425T201123
CREATED:20240220T062200Z
LAST-MODIFIED:20240220T062200Z
UID:12883-1709492400-1709506800@theforgetavern.com
SUMMARY:Sunday Night Karaoke
DESCRIPTION:Join us Sunday for karaoke madness! \nThe Forge Tavern presents:  Sunday Night Karaoke!   \nFAQ:  Karaoke will be going on in our back room.  We still have OPEN GAMING all night long in both rooms! \nJoin us for a fun night of singing and games and just pure fun! \nSee you this Sunday! \nDoors open at 4pm\, Karaoke starts at 7pm.
URL:https://theforgetavern.com/event/sunday-night-karaoke-7/
LOCATION:OH
END:VEVENT
BEGIN:VEVENT
DTSTART;TZID=America/New_York:20240307T200000
DTEND;TZID=America/New_York:20240307T220000
DTSTAMP:20260425T201123
CREATED:20240216T223623Z
LAST-MODIFIED:20240216T223623Z
UID:12768-1709841600-1709848800@theforgetavern.com
SUMMARY:Thursday Trivia - The Simpsons
DESCRIPTION:Do you know the square root of an isosceles triangle? Or how many pigs fit in a blanket? Or how many cow farts it takes to fuel a combustion engine? Well\, we don’t either\, but if you know some actual general knowledge trivial things and/or some cool and nerdy themed trivial things\, then The Forge Tavern Trivia Night is for you. \nAll you need to join is a smartphone or tablet\, a team (or just yourself\, you plucky trivia adventurer)\, and the taste for some great food and drinks. We have cool trophies and prizes\, so you really don’t have any excuse not to join us. Unless you’re chicken\, McFly. \nGeneral Knowledge trivia starts at 8pm. The main event\, The Simpsons trivia\, orders a Flaming Moe at 9pm. \nRemember! We’re serving great food and drinks\, so arrive hungry (and thirsty!) and leave satisfied. \nOur trivia fills up fast! A reservation can guarantee that your team gets a seat. Make your reservations now before they’re all gone! Reservations held until 8:05 pm. \nThere is a two drink (or food/beverage equivalent) minimum required for all trivia participants. Tickets are not refundable or transferable.
URL:https://theforgetavern.com/event/thursday-trivia-the-simpsons-2/
LOCATION:The Forge Tavern\, 1375 Bethel Rd\, Columbus\, OH\, 43220\, United States
CATEGORIES:Trivia
ATTACH;FMTTYPE=image/jpeg:https://theforgetavern.com/wp-content/uploads/2024/02/simpsons-3-7-24-FB-e1708121562723.jpg
END:VEVENT
BEGIN:VEVENT
DTSTART;TZID=America/New_York:20240314T200000
DTEND;TZID=America/New_York:20240314T220000
DTSTAMP:20260425T201123
CREATED:20240216T224527Z
LAST-MODIFIED:20240314T211157Z
UID:12774-1710446400-1710453600@theforgetavern.com
SUMMARY:Thursday Trivia - Luck O' the Irish
DESCRIPTION:Do you know the square root of an isosceles triangle? Or how many pigs fit in a blanket? Or how many cow farts it takes to fuel a combustion engine? Well\, we don’t either\, but if you know some actual general knowledge trivial things and/or some cool and nerdy themed trivial things\, then The Forge Tavern Trivia Night is for you. \nAll you need to join is a smartphone or tablet\, a team (or just yourself\, you plucky trivia adventurer)\, and the taste for some great food and drinks. We have cool trophies and prizes\, so you really don’t have any excuse not to join us. Unless you’re chicken\, McFly. \nGeneral Knowledge trivia starts at 8pm. The main event\, Luck O’ the Irish trivia\, finds its pot o’ gold at 9pm. \nRemember! We’re serving great food and drinks\, so arrive hungry (and thirsty!) and leave satisfied. \nOur trivia fills up fast! A reservation can guarantee that your team gets a seat. Make your reservations now before they’re all gone! Reservations held until 8:05 pm. \nThere is a two drink (or food/beverage equivalent) minimum required for all trivia participants. Tickets are not refundable or transferable.
URL:https://theforgetavern.com/event/thursday-trivia-luck-o-the-irish-4/
LOCATION:The Forge Tavern\, 1375 Bethel Rd\, Columbus\, OH\, 43220\, United States
CATEGORIES:Trivia
ATTACH;FMTTYPE=image/jpeg:https://theforgetavern.com/wp-content/uploads/2024/02/luck-o-the-irish-3-14-24-FB-e1708121589116.jpg
END:VEVENT
BEGIN:VEVENT
DTSTART;TZID=America/New_York:20240315T190000
DTEND;TZID=America/New_York:20240315T230000
DTSTAMP:20260425T201123
CREATED:20240111T013828Z
LAST-MODIFIED:20240307T000529Z
UID:12340-1710529200-1710543600@theforgetavern.com
SUMMARY:St. Paddy's Day Weekend Celebration - Featuring Jameson's Folly
DESCRIPTION:Get your green on! \nWe’re kicking off St. Patty’s Day weekend – green style! \nWe will have live music featuring Jameson’s Folly from 8-10 pm. Tickets $20.00 online (below link) or $25.00 at the door. Jameson’s Folly is a Celtic music band. You may recognize some of them from the Ohio Renaissance Festival. We’re excited to have them back for this special event. Don’t miss this one! \nThis is a ticketed event.  No entry without a ticket for this event.  $20 now or $25 at the door. No exceptions. \nFAQ:  Open gaming in both rooms if you choose to game.  You must have a ticket for entry. Specialty cocktail and mocktail menus for the evening\, live music and games!  Join us to kick off St. Patty’s Day weekend right. \nGet your tickets while they last! \nTickets are non-refundable and non-transferable. \n 
URL:https://theforgetavern.com/event/st-pattys-day-weekend-celebration-featuring-jamesons-folly/
LOCATION:OH
END:VEVENT
BEGIN:VEVENT
DTSTART;TZID=America/New_York:20240317T190000
DTEND;TZID=America/New_York:20240317T230000
DTSTAMP:20260425T201123
CREATED:20240313T155626Z
LAST-MODIFIED:20240313T155626Z
UID:13175-1710702000-1710716400@theforgetavern.com
SUMMARY:Sunday Night Karaoke
DESCRIPTION:oin us Sunday for karaoke madness! \nThe Forge Tavern presents:  Sunday Night Karaoke!   \nFAQ:  Karaoke will be going on in our back room.  We still have OPEN GAMING all night long in both rooms! \nJoin us for a fun night of singing and games and just pure fun! \nSee you this Sunday! \nDoors open at 4pm\, Karaoke starts at 7pm.
URL:https://theforgetavern.com/event/sunday-night-karaoke-8/
LOCATION:OH
END:VEVENT
BEGIN:VEVENT
DTSTART;TZID=America/New_York:20240321T200000
DTEND;TZID=America/New_York:20240321T220000
DTSTAMP:20260425T201123
CREATED:20240216T225112Z
LAST-MODIFIED:20240216T225112Z
UID:12780-1711051200-1711058400@theforgetavern.com
SUMMARY:Thursday Trivia - Star Trek
DESCRIPTION:Do you know the square root of an isosceles triangle? Or how many pigs fit in a blanket? Or how many cow farts it takes to fuel a combustion engine? Well\, we don’t either\, but if you know some actual general knowledge trivial things and/or some cool and nerdy themed trivial things\, then The Forge Tavern Trivia Night is for you. \nAll you need to join is a smartphone or tablet\, a team (or just yourself\, you plucky trivia adventurer)\, and the taste for some great food and drinks. We have cool trophies and prizes\, so you really don’t have any excuse not to join us. Unless you’re chicken\, McFly. \nGeneral Knowledge trivia starts at 8pm. The main event\, Star Trek trivia\, boldly goes where no one has gone before at 9pm. \nRemember! We’re serving great food and drinks\, so arrive hungry (and thirsty!) and leave satisfied. \nOur trivia fills up fast! A reservation can guarantee that your team gets a seat. Make your reservations now before they’re all gone! Reservations held until 8:05 pm. \nThere is a two drink (or food/beverage equivalent) minimum required for all trivia participants. Tickets are not refundable or transferable.
URL:https://theforgetavern.com/event/thursday-trivia-star-trek-4/
LOCATION:The Forge Tavern\, 1375 Bethel Rd\, Columbus\, OH\, 43220\, United States
CATEGORIES:Trivia
ATTACH;FMTTYPE=image/jpeg:https://theforgetavern.com/wp-content/uploads/2024/02/Star-Trek-trivia-3-21-24-FB-e1708121363445.jpg
END:VEVENT
BEGIN:VEVENT
DTSTART;TZID=America/New_York:20240324T190000
DTEND;TZID=America/New_York:20240324T230000
DTSTAMP:20260425T201123
CREATED:20240313T155711Z
LAST-MODIFIED:20240313T155711Z
UID:13177-1711306800-1711321200@theforgetavern.com
SUMMARY:Sunday Night Karaoke
DESCRIPTION:oin us Sunday for karaoke madness! \nThe Forge Tavern presents:  Sunday Night Karaoke!   \nFAQ:  Karaoke will be going on in our back room.  We still have OPEN GAMING all night long in both rooms! \nJoin us for a fun night of singing and games and just pure fun! \nSee you this Sunday! \nDoors open at 4pm\, Karaoke starts at 7pm.
URL:https://theforgetavern.com/event/sunday-night-karaoke-9/
LOCATION:OH
END:VEVENT
BEGIN:VEVENT
DTSTART;TZID=America/New_York:20240328T200000
DTEND;TZID=America/New_York:20240328T220000
DTSTAMP:20260425T201123
CREATED:20240216T225922Z
LAST-MODIFIED:20240216T225922Z
UID:12787-1711656000-1711663200@theforgetavern.com
SUMMARY:Thursday Trivia - Boardgames
DESCRIPTION:Do you know the square root of an isosceles triangle? Or how many pigs fit in a blanket? Or how many cow farts it takes to fuel a combustion engine? Well\, we don’t either\, but if you know some actual general knowledge trivial things and/or some cool and nerdy themed trivial things\, then The Forge Tavern Trivia Night is for you. \nAll you need to join is a smartphone or tablet\, a team (or just yourself\, you plucky trivia adventurer)\, and the taste for some great food and drinks. We have cool trophies and prizes\, so you really don’t have any excuse not to join us. Unless you’re chicken\, McFly. \nGeneral Knowledge trivia starts at 8pm. The main event\, Boardgames trivia\, rolls the dice and takes its turn at 9pm. \nRemember! We’re serving great food and drinks\, so arrive hungry (and thirsty!) and leave satisfied. \nOur trivia fills up fast! A reservation can guarantee that your team gets a seat. Make your reservations now before they’re all gone! Reservations held until 8:05 pm. \nThere is a two drink (or food/beverage equivalent) minimum required for all trivia participants. Tickets are not refundable or transferable.
URL:https://theforgetavern.com/event/thursday-trivia-boardgames/
LOCATION:The Forge Tavern\, 1375 Bethel Rd\, Columbus\, OH\, 43220\, United States
CATEGORIES:Trivia
ATTACH;FMTTYPE=image/jpeg:https://theforgetavern.com/wp-content/uploads/2024/02/Boardgames-3-28-24-FB-e1708121394219.jpg
END:VEVENT
BEGIN:VEVENT
DTSTART;TZID=America/New_York:20240329T190000
DTEND;TZID=America/New_York:20240329T230000
DTSTAMP:20260425T201123
CREATED:20240204T061304Z
LAST-MODIFIED:20240324T033526Z
UID:12627-1711738800-1711753200@theforgetavern.com
SUMMARY:Pirate Party Featuring Pirates Creed
DESCRIPTION:Pirate Party! \nPirate’s Creed takes the stage from 8-10pm \nThe Forge Tavern is excited to welcome Pirate’s Creed back to our venue! Dress in your best Pirate Attire and join us for another fantastic Pirate Party! \nThis is a ticketed event. Grab your tickets now! This event always sells out. \nFOOD AND DRINKS:\nWe will have a special drink menu for this event with themed drinks. Our regular menu options may not be available in order to bring to you our specialty themed menu.
URL:https://theforgetavern.com/event/pirate-party-featuring-pirates-creed-4/
LOCATION:OH
END:VEVENT
BEGIN:VEVENT
DTSTART;TZID=America/New_York:20240331T080000
DTEND;TZID=America/New_York:20240331T170000
DTSTAMP:20260425T201123
CREATED:20240313T160332Z
LAST-MODIFIED:20240313T160332Z
UID:13184-1711872000-1711904400@theforgetavern.com
SUMMARY:Closed Easter Sunday
DESCRIPTION:We will be closed to give our staff time to spend with Family. \nWe will resume normal business hours on Wednesday.
URL:https://theforgetavern.com/event/closed-easter-sunday-2/
LOCATION:OH
END:VEVENT
END:VCALENDAR