BEGIN:VCALENDAR
VERSION:2.0
PRODID:-//The Forge Tavern - ECPv6.15.20//NONSGML v1.0//EN
CALSCALE:GREGORIAN
METHOD:PUBLISH
X-WR-CALNAME:The Forge Tavern
X-ORIGINAL-URL:https://theforgetavern.com
X-WR-CALDESC:Events for The Forge Tavern
REFRESH-INTERVAL;VALUE=DURATION:PT1H
X-Robots-Tag:noindex
X-PUBLISHED-TTL:PT1H
BEGIN:VTIMEZONE
TZID:America/New_York
BEGIN:DAYLIGHT
TZOFFSETFROM:-0500
TZOFFSETTO:-0400
TZNAME:EDT
DTSTART:20230312T070000
END:DAYLIGHT
BEGIN:STANDARD
TZOFFSETFROM:-0400
TZOFFSETTO:-0500
TZNAME:EST
DTSTART:20231105T060000
END:STANDARD
BEGIN:DAYLIGHT
TZOFFSETFROM:-0500
TZOFFSETTO:-0400
TZNAME:EDT
DTSTART:20240310T070000
END:DAYLIGHT
BEGIN:STANDARD
TZOFFSETFROM:-0400
TZOFFSETTO:-0500
TZNAME:EST
DTSTART:20241103T060000
END:STANDARD
BEGIN:DAYLIGHT
TZOFFSETFROM:-0500
TZOFFSETTO:-0400
TZNAME:EDT
DTSTART:20250309T070000
END:DAYLIGHT
BEGIN:STANDARD
TZOFFSETFROM:-0400
TZOFFSETTO:-0500
TZNAME:EST
DTSTART:20251102T060000
END:STANDARD
END:VTIMEZONE
BEGIN:VEVENT
DTSTART;TZID=America/New_York:20240404T200000
DTEND;TZID=America/New_York:20240404T220000
DTSTAMP:20260425T182403
CREATED:20240216T230527Z
LAST-MODIFIED:20240216T230527Z
UID:12793-1712260800-1712268000@theforgetavern.com
SUMMARY:Thursday Trivia - Disney * Pixar
DESCRIPTION:Do you know the square root of an isosceles triangle? Or how many pigs fit in a blanket? Or how many cow farts it takes to fuel a combustion engine? Well\, we don’t either\, but if you know some actual general knowledge trivial things and/or some cool and nerdy themed trivial things\, then The Forge Tavern Trivia Night is for you. \nAll you need to join is a smartphone or tablet\, a team (or just yourself\, you plucky trivia adventurer)\, and the taste for some great food and drinks. We have cool trophies and prizes\, so you really don’t have any excuse not to join us. Unless you’re chicken\, McFly. \nGeneral Knowledge trivia starts at 8pm. The main event\, Disney*Pixar trivia\, travels to infinity and beyond at 9pm. \nRemember! We’re serving great food and drinks\, so arrive hungry (and thirsty!) and leave satisfied. \nOur trivia fills up fast! A reservation can guarantee that your team gets a seat. Make your reservations now before they’re all gone! Reservations held until 8:05 pm. \nThere is a two drink (or food/beverage equivalent) minimum required for all trivia participants. Tickets are not refundable or transferable.
URL:https://theforgetavern.com/event/thursday-trivia-disney-pixar-3/
LOCATION:The Forge Tavern\, 1375 Bethel Rd\, Columbus\, OH\, 43220\, United States
CATEGORIES:Trivia
ATTACH;FMTTYPE=image/jpeg:https://theforgetavern.com/wp-content/uploads/2024/02/disney-pixar-4-4-24-FB-e1708121420205.jpg
END:VEVENT
BEGIN:VEVENT
DTSTART;TZID=America/New_York:20240407T190000
DTEND;TZID=America/New_York:20240407T230000
DTSTAMP:20260425T182403
CREATED:20240313T155822Z
LAST-MODIFIED:20240313T155838Z
UID:13179-1712516400-1712530800@theforgetavern.com
SUMMARY:Sunday Night Karaoke
DESCRIPTION:Join us Sunday for karaoke madness! \nThe Forge Tavern presents:  Sunday Night Karaoke!   \nFAQ:  Karaoke will be going on in our back room.  We still have OPEN GAMING all night long in both rooms! \nJoin us for a fun night of singing and games and just pure fun! \nSee you this Sunday! \nDoors open at 4pm\, Karaoke starts at 7pm.
URL:https://theforgetavern.com/event/sunday-night-karaoke-10/
LOCATION:OH
END:VEVENT
BEGIN:VEVENT
DTSTART;TZID=America/New_York:20240410T190000
DTEND;TZID=America/New_York:20240410T223000
DTSTAMP:20260425T182403
CREATED:20240327T023535Z
LAST-MODIFIED:20240327T023706Z
UID:13422-1712775600-1712788200@theforgetavern.com
SUMMARY:Open Gaming Night- Sponsored by The Barony of the Middle Marches SCA
DESCRIPTION:Join our SCA friends The Barony of the Middle Marches for a night of open gaming fun! We’ll provide the board games.\nCome hungry and thirsty! The Forge Tavern has a food and cocktail/mocktail menu.\n\nThis event is open to anyone at no charge. To support our venue\, simply order food/drinks!
URL:https://theforgetavern.com/event/open-gaming-night-sponsored-by-the-barony-of-the-middle-marches-sca/
LOCATION:OH
END:VEVENT
BEGIN:VEVENT
DTSTART;TZID=America/New_York:20240411T200000
DTEND;TZID=America/New_York:20240411T220000
DTSTAMP:20260425T182403
CREATED:20240320T215707Z
LAST-MODIFIED:20240411T212521Z
UID:13288-1712865600-1712872800@theforgetavern.com
SUMMARY:Thursday Trivia - Batman
DESCRIPTION:Do you know the square root of an isosceles triangle? Or how many pigs fit in a blanket? Or how many cow farts it takes to fuel a combustion engine? Well\, we don’t either\, but if you know some actual general knowledge trivial things and/or some cool and nerdy themed trivial things\, then The Forge Tavern Trivia Night is for you. \nAll you need to join is a smartphone or tablet\, a team (or just yourself\, you plucky trivia adventurer)\, and the taste for some great food and drinks. We have cool trophies and prizes\, so you really don’t have any excuse not to join us. Unless you’re chicken\, McFly. \nGeneral Knowledge trivia starts at 8pm. The main event\, Batman trivia\, responds to the Bat Signal at 9pm. \nRemember! We’re serving great food and drinks\, so arrive hungry (and thirsty!) and leave satisfied. \nOur trivia fills up fast! A reservation can guarantee that your team gets a seat. Make your reservations now before they’re all gone! Reservations held until 8:05 pm. \nThere is a two drink (or food/beverage equivalent) minimum required for all trivia participants. Tickets are not refundable or transferable.
URL:https://theforgetavern.com/event/thursday-trivia-batman/
LOCATION:The Forge Tavern\, 1375 Bethel Rd\, Columbus\, OH\, 43220\, United States
CATEGORIES:Trivia
ATTACH;FMTTYPE=image/jpeg:https://theforgetavern.com/wp-content/uploads/2024/03/Cinematic-Batman-4-11-24-FB-e1710970940151.jpg
END:VEVENT
BEGIN:VEVENT
DTSTART;TZID=America/New_York:20240412T190000
DTEND;TZID=America/New_York:20240412T220000
DTSTAMP:20260425T182403
CREATED:20240320T151733Z
LAST-MODIFIED:20240321T004746Z
UID:13277-1712948400-1712959200@theforgetavern.com
SUMMARY:Spring/Summer Drink Release Adventure
DESCRIPTION:New Spring/Summer Drinks with Character Release Party! \nWe have a NEW spring/summer cocktail menu we’re ready to release!  Come adventure with us! \nWe had a great time putting together some new cool cocktails and we want to share them with you.  Grab your tickets now and join us while we unveil our new menu and talk about what went into the making of the new cocktails.  We have more stories to tell and monsters to slay! \nYour ticket price includes samples of the new menu and other exclusive information and a chance to earn prizes. PLUS:  Play the part of an adventurer as we all try to take down the monster wreaking havoc on the tavern!  – Get your chance to roll and see if your strike damages the beast!  – We’ve added a fun game to slay! \nWe’ll have a monstrously great time! \nTickets are non-refundable and non-transferrable. – Buy your tickets directly from us\, not a 3rd party seller.  
URL:https://theforgetavern.com/event/spring-summer-drink-release-adventure/
LOCATION:OH
END:VEVENT
BEGIN:VEVENT
DTSTART;TZID=America/New_York:20240414T190000
DTEND;TZID=America/New_York:20240414T230000
DTSTAMP:20260425T182403
CREATED:20240313T155924Z
LAST-MODIFIED:20240313T155924Z
UID:13182-1713121200-1713135600@theforgetavern.com
SUMMARY:Sunday Night Karaoke
DESCRIPTION:Join us Sunday for karaoke madness! \nThe Forge Tavern presents:  Sunday Night Karaoke!   \nFAQ:  Karaoke will be going on in our back room.  We still have OPEN GAMING all night long in both rooms! \nJoin us for a fun night of singing and games and just pure fun! \nSee you this Sunday! \nDoors open at 4pm\, Karaoke starts at 7pm.
URL:https://theforgetavern.com/event/sunday-night-karaoke-11/
LOCATION:OH
END:VEVENT
BEGIN:VEVENT
DTSTART;TZID=America/New_York:20240418T200000
DTEND;TZID=America/New_York:20240418T220000
DTSTAMP:20260425T182403
CREATED:20240320T220749Z
LAST-MODIFIED:20240418T014123Z
UID:13294-1713470400-1713477600@theforgetavern.com
SUMMARY:Thursday Trivia - Nicktoons
DESCRIPTION:Do you know the square root of an isosceles triangle? Or how many pigs fit in a blanket? Or how many cow farts it takes to fuel a combustion engine? Well\, we don’t either\, but if you know some actual general knowledge trivial things and/or some cool and nerdy themed trivial things\, then The Forge Tavern Trivia Night is for you. \nAll you need to join is a smartphone or tablet\, a team (or just yourself\, you plucky trivia adventurer)\, and the taste for some great food and drinks. We have cool trophies and prizes\, so you really don’t have any excuse not to join us. Unless you’re chicken\, McFly. \nGeneral Knowledge trivia starts at 8pm. The main event\, Nicktoons trivia\, animates at 9pm. \nRemember! We’re serving great food and drinks\, so arrive hungry (and thirsty!) and leave satisfied. \nOur trivia fills up fast! A reservation can guarantee that your team gets a seat. Make your reservations now before they’re all gone! Reservations held until 8:05 pm. \nThere is a two drink (or food/beverage equivalent) minimum required for all trivia participants. Tickets are not refundable or transferable.
URL:https://theforgetavern.com/event/thursday-trivia-nicktoons-2/
LOCATION:The Forge Tavern\, 1375 Bethel Rd\, Columbus\, OH\, 43220\, United States
CATEGORIES:Trivia
ATTACH;FMTTYPE=image/jpeg:https://theforgetavern.com/wp-content/uploads/2024/03/Nicktoons-4-18-24-FB-e1710970914380.jpg
END:VEVENT
BEGIN:VEVENT
DTSTART;TZID=America/New_York:20240419T190000
DTEND;TZID=America/New_York:20240419T220000
DTSTAMP:20260425T182403
CREATED:20240110T072207Z
LAST-MODIFIED:20240419T184903Z
UID:12308-1713553200-1713564000@theforgetavern.com
SUMMARY:Fairy Tea Party - Featuring Celtica Fae & Sprout!
DESCRIPTION:Fairy Tea Party – Featuring Celtica Fae \nWhat is a Fairy Tea Party?  It’s an event with performers\, a fantasy themed drink menu and so much fun!  It’s a chance for you to put your fun fantasy garb on and cosplay for the day as a fairy\, elf\, or whatever fantasy character you choose to come as. \nThis year we’re featuring Celtica Fae!  Celtica Fae is a musical band of the magical fairy realm!  Music in the style of Celtic\, Irish and Scottish music\, with a splash of children’s tunes in the styling of folk music. Celtica Fae performs music full of instrumental and vocal charm and provide their audience with a bit of laughter\,  jokes and pleasure from the land of Faerie. Songs talk about legend\, the fey\, and other myths that lurk deep in their hearts. They might also do a bit of Gaming music\, given the chance. \nCeltica Fae takes the stage at 8pm. \n  \nJust in:  Sprout will be joining us for photos and fun!  https://www.facebook.com/SproutTheFaeOfSeeds/ \nThe Forge Tavern offers great drinks and food with a drink menu specially crafted for this event and tonight will be full of merriment!  Come join us for our Fourth Annual – FAIRY TEA PARTY! \nFeel free to dress as a whimsical fae or come as you are!  Whatever suits your fancy.  Keep in mind\, we are a family friendly venue. \nGrab your tickets while they last!  Seating will be limited. \nTickets are non-transferrable and non-refundable.  No re-sell on tickets permitted for our events.
URL:https://theforgetavern.com/event/fairy-tea-party-featuring-celtica-fae/
LOCATION:OH
ATTACH;FMTTYPE=image/jpeg:https://theforgetavern.com/wp-content/uploads/2024/01/celtica-fae4.jpg
END:VEVENT
BEGIN:VEVENT
DTSTART;TZID=America/New_York:20240420T180000
DTEND;TZID=America/New_York:20240420T235000
DTSTAMP:20260425T182403
CREATED:20240401T055031Z
LAST-MODIFIED:20240401T055114Z
UID:13527-1713636000-1713657000@theforgetavern.com
SUMMARY:Celebrity D&D  Charity Livestream Viewing Party
DESCRIPTION:Join us at The Forge Tavern for a viewing party featuring Todd Stashwick’s Nerd Circus and Legends of Eleanora – A D&D Livestream event.\n\n\n \n\n\nWhat you’ll be part of:\n\n\nLivestream viewing party\nDress as your favorite D&D Character OR just come as yourself.\n\n\nA chance to participate in the Charity benefitting The Pablove Foundation.\n\n\nThis is a ticketed event – 100% of ticket sales will be donated directly to The Pablove Foundation through this event.\n\n\n\nSpecialty Cocktails – Some directly from Todd Stashwick’s book “Mystic Libations”  Find your copy here: https://www.traderbrandon.com/products/mystic-libations-1\n\n\n\nRaffle – Forge Tavern Merch will be raffled off. 100% of raffle proceeds will go to The Pablove Foundation through this event.\n\n\n \n\n\nThe Forge Tavern is also donating a portion of food/drink sales to this Charity.\n\n\n \n\n\nThe livestream starts promptly at 8pm EDT \n\n\n \n\n\nCan’t make it the night of the livestream? You do not have to be present to donate! The Forge Tavern will start a donation jar and raffle information this week! You can also purchase a non-attendee ticket.  100% of all ticket sales are donation ONLY.   Ticket sales are 100% donated to the charity.\n\n\nCheck out who will be part of the D&D Livestream!\n\n\nIf the livestream exceeds our business hours\, we will stay open until the livestream ends.\n\nWe’re offering two types of tickets\, Attendee and Non-Attendee.  If you’re attending the viewing party\, please choose Attendee.  If you just want to donate through The Forge Tavern\, select Non-Attendee.  Feel free to donate as many Non-Attendee tickets as you like.  Again\, 100% of ticket sales will be donated to The Pablove Foundation\, a non-profit pediatric cancer foundation through this event.
URL:https://theforgetavern.com/event/celebrity-dd-charity-livestream-viewing-party/
LOCATION:OH
ATTACH;FMTTYPE=image/jpeg:https://theforgetavern.com/wp-content/uploads/2024/04/tstashwick-livestream.jpg
END:VEVENT
BEGIN:VEVENT
DTSTART;TZID=America/New_York:20240421T190000
DTEND;TZID=America/New_York:20240421T230000
DTSTAMP:20260425T182403
CREATED:20240327T023910Z
LAST-MODIFIED:20240327T023910Z
UID:13425-1713726000-1713740400@theforgetavern.com
SUMMARY:Sunday Night Karaoke
DESCRIPTION:Join us Sunday for karaoke madness! \nThe Forge Tavern presents:  Sunday Night Karaoke!   \nFAQ:  Karaoke will be going on in our back room.  We still have OPEN GAMING all night long in both rooms! \nJoin us for a fun night of singing and games and just pure fun! \nSee you this Sunday! \nDoors open at 4pm\, Karaoke starts at 7pm.
URL:https://theforgetavern.com/event/sunday-night-karaoke-12/
LOCATION:OH
END:VEVENT
BEGIN:VEVENT
DTSTART;TZID=America/New_York:20240425T200000
DTEND;TZID=America/New_York:20240425T220000
DTSTAMP:20260425T182403
CREATED:20240326T230635Z
LAST-MODIFIED:20240326T230635Z
UID:13399-1714075200-1714082400@theforgetavern.com
SUMMARY:Thursday Trivia - Pokemon
DESCRIPTION:Do you know the square root of an isosceles triangle? Or how many pigs fit in a blanket? Or how many cow farts it takes to fuel a combustion engine? Well\, we don’t either\, but if you know some actual general knowledge trivial things and/or some cool and nerdy themed trivial things\, then The Forge Tavern Trivia Night is for you. \nAll you need to join is a smartphone or tablet\, a team (or just yourself\, you plucky trivia adventurer)\, and the taste for some great food and drinks. We have cool trophies and prizes\, so you really don’t have any excuse not to join us. Unless you’re chicken\, McFly. \nGeneral Knowledge trivia starts at 8pm. The main event\, Pokemon trivia\, catches ‘em all at 9pm. \nRemember! We’re serving great food and drinks\, so arrive hungry (and thirsty!) and leave satisfied. \nOur trivia fills up fast! A reservation can guarantee that your team gets a seat. Make your reservations now before they’re all gone! Reservations held until 8:05 pm. \nThere is a two drink (or food/beverage equivalent) minimum required for all trivia participants. Tickets are not refundable or transferable.
URL:https://theforgetavern.com/event/thursday-trivia-pokemon-4/
LOCATION:The Forge Tavern\, 1375 Bethel Rd\, Columbus\, OH\, 43220\, United States
CATEGORIES:Trivia
ATTACH;FMTTYPE=image/jpeg:https://theforgetavern.com/wp-content/uploads/2024/03/Pokemon-4-25-24-FB-e1711494115254.jpg
END:VEVENT
BEGIN:VEVENT
DTSTART;TZID=America/New_York:20240428T190000
DTEND;TZID=America/New_York:20240428T230000
DTSTAMP:20260425T182403
CREATED:20240327T024003Z
LAST-MODIFIED:20240327T024003Z
UID:13427-1714330800-1714345200@theforgetavern.com
SUMMARY:Sunday Night Karaoke
DESCRIPTION:Join us Sunday for karaoke madness! \nThe Forge Tavern presents:  Sunday Night Karaoke!   \nFAQ:  Karaoke will be going on in our back room.  We still have OPEN GAMING all night long in both rooms! \nJoin us for a fun night of singing and games and just pure fun! \nSee you this Sunday! \nDoors open at 4pm\, Karaoke starts at 7pm.
URL:https://theforgetavern.com/event/sunday-night-karaoke-13/
LOCATION:OH
END:VEVENT
END:VCALENDAR