BEGIN:VCALENDAR
VERSION:2.0
PRODID:-//The Forge Tavern - ECPv6.15.20//NONSGML v1.0//EN
CALSCALE:GREGORIAN
METHOD:PUBLISH
X-ORIGINAL-URL:https://theforgetavern.com
X-WR-CALDESC:Events for The Forge Tavern
REFRESH-INTERVAL;VALUE=DURATION:PT1H
X-Robots-Tag:noindex
X-PUBLISHED-TTL:PT1H
BEGIN:VTIMEZONE
TZID:America/New_York
BEGIN:DAYLIGHT
TZOFFSETFROM:-0500
TZOFFSETTO:-0400
TZNAME:EDT
DTSTART:20240310T070000
END:DAYLIGHT
BEGIN:STANDARD
TZOFFSETFROM:-0400
TZOFFSETTO:-0500
TZNAME:EST
DTSTART:20241103T060000
END:STANDARD
BEGIN:DAYLIGHT
TZOFFSETFROM:-0500
TZOFFSETTO:-0400
TZNAME:EDT
DTSTART:20250309T070000
END:DAYLIGHT
BEGIN:STANDARD
TZOFFSETFROM:-0400
TZOFFSETTO:-0500
TZNAME:EST
DTSTART:20251102T060000
END:STANDARD
BEGIN:DAYLIGHT
TZOFFSETFROM:-0500
TZOFFSETTO:-0400
TZNAME:EDT
DTSTART:20260308T070000
END:DAYLIGHT
BEGIN:STANDARD
TZOFFSETFROM:-0400
TZOFFSETTO:-0500
TZNAME:EST
DTSTART:20261101T060000
END:STANDARD
END:VTIMEZONE
BEGIN:VEVENT
DTSTART;TZID=America/New_York:20250501T200000
DTEND;TZID=America/New_York:20250501T220000
DTSTAMP:20260424T183134
CREATED:20250410T230252Z
LAST-MODIFIED:20250410T230252Z
UID:18356-1746129600-1746136800@theforgetavern.com
SUMMARY:Thursday Trivia - Star Wars
DESCRIPTION:Do you know the square root of an isosceles triangle? Or how many pigs fit in a blanket? Or how many cow farts it takes to fuel a combustion engine? Well\, we don’t either\, but if you know some actual general knowledge trivial things and/or some cool and nerdy themed trivial things\, then The Forge Tavern Trivia Night is for you. \nAll you need to join is a smartphone or tablet\, a team (or just yourself\, you plucky trivia adventurer)\, and the taste for some great food and drinks. We have cool trophies and prizes\, so you really don’t have any excuse not to join us. Unless you’re chicken\, McFly. \nGeneral Knowledge trivia starts at 8pm. The main event\, Star Wars trivia\, uses the force at 9pm. \nRemember! We’re serving great food and drinks\, so arrive hungry (and thirsty!) and leave satisfied. \nOur trivia fills up fast! A reservation can guarantee that your team gets a seat. Make your reservations now before they’re all gone! Reservations held until 8:05 pm. \nThere is a two drink (or food/beverage equivalent) minimum required for all trivia participants. Tickets are not refundable or transferable.
URL:https://theforgetavern.com/event/thursday-trivia-star-wars-9/
LOCATION:The Forge Tavern\, 1375 Bethel Rd\, Columbus\, OH\, 43220\, United States
CATEGORIES:Trivia
ATTACH;FMTTYPE=image/jpeg:https://theforgetavern.com/wp-content/uploads/2025/04/Star-Wars-5-1-25-FB-e1744325348922.jpg
END:VEVENT
BEGIN:VEVENT
DTSTART;TZID=America/New_York:20250502T190000
DTEND;TZID=America/New_York:20250502T233000
DTSTAMP:20260424T183134
CREATED:20250403T205351Z
LAST-MODIFIED:20250404T195448Z
UID:18281-1746212400-1746228600@theforgetavern.com
SUMMARY:Fairy Tea Party Featuring: Celtica Fae & BRAVE the SEA
DESCRIPTION:Fairy Tea Party – Featuring Celtica Fae & Brave the Sea \nWhat is a Fairy Tea Party?  It’s an event with performers\, a fantasy themed drink menu and so much fun!  It’s a chance for you to put your fun fantasy garb on and cosplay for the day as a fairy\, elf\, or whatever fantasy character you choose to come as. \nThis year we’re featuring Brave the Sea with  Celtica Fae.  Who knows what magical fun we’ll have waiting for you\, with our themed cocktail menus! \nCeltica Fae takes the stage at 7pm. Brave the Sea will go on around 8pm. \nThe Forge Tavern offers great drinks and food with a drink menu specially crafted for this event and tonight will be full of merriment!  Come join us for our Fourth Annual – FAIRY TEA PARTY! \nFeel free to dress as a whimsical fae or come as you are!  Whatever suits your fancy.  Keep in mind\, we are a family friendly venue. \nGrab your tickets while they last!  Seating will be limited. \n**Doors open at 5pm.  Stop in early to order food/drink and play a game before the show!  We have hundreds of board games in our library.  Check it out! \nTickets are non-transferrable and non-refundable.  No re-sell on tickets permitted for our events. Carry in food\, drinks including water bottles not permitted.
URL:https://theforgetavern.com/event/fairy-tea-party-featuring-celtica-fae-brave-the-sea/
ATTACH;FMTTYPE=image/jpeg:https://theforgetavern.com/wp-content/uploads/2025/04/Faeries-landscape.jpg
END:VEVENT
BEGIN:VEVENT
DTSTART;TZID=America/New_York:20250504T193000
DTEND;TZID=America/New_York:20250504T230000
DTSTAMP:20260424T183134
CREATED:20250417T005411Z
LAST-MODIFIED:20250417T010832Z
UID:18444-1746387000-1746399600@theforgetavern.com
SUMMARY:Sunday Karaoke - Star Wars Cosplay Karaoke
DESCRIPTION:Join our house KJ’s every Sunday for a night of karaoke fun! \nKaraoke starts at 7:30 and runs until 11pm (close). \nTONIGHT:  Cosplay your favorite Star Wars or other fun character.  May the 4th be with you! \n 
URL:https://theforgetavern.com/event/sunday-karaoke-star-wars-cosplay-karaoke/
LOCATION:The Forge Tavern\, 1375 Bethel Rd\, Columbus\, OH\, 43220\, United States
CATEGORIES:Karaoke
END:VEVENT
BEGIN:VEVENT
DTSTART;TZID=America/New_York:20250508T200000
DTEND;TZID=America/New_York:20250508T220000
DTSTAMP:20260424T183134
CREATED:20250410T230724Z
LAST-MODIFIED:20250503T015318Z
UID:18362-1746734400-1746741600@theforgetavern.com
SUMMARY:Thursday Trivia - Minecraft
DESCRIPTION:Do you know the square root of an isosceles triangle? Or how many pigs fit in a blanket? Or how many cow farts it takes to fuel a combustion engine? Well\, we don’t either\, but if you know some actual general knowledge trivial things and/or some cool and nerdy themed trivial things\, then The Forge Tavern Trivia Night is for you. \nAll you need to join is a smartphone or tablet\, a team (or just yourself\, you plucky trivia adventurer)\, and the taste for some great food and drinks. We have cool trophies and prizes\, so you really don’t have any excuse not to join us. Unless you’re chicken\, McFly. \nGeneral Knowledge trivia starts at 8pm. The main event\, Minecraft trivia\, uses its stone axe at 9pm. \nRemember! We’re serving great food and drinks\, so arrive hungry (and thirsty!) and leave satisfied. \nOur trivia fills up fast! A reservation can guarantee that your team gets a seat. Make your reservations now before they’re all gone! Reservations held until 8:05 pm. \nThere is a two drink (or food/beverage equivalent) minimum required for all trivia participants. Tickets are not refundable or transferable.
URL:https://theforgetavern.com/event/thursday-trivia-minecraft/
LOCATION:The Forge Tavern\, 1375 Bethel Rd\, Columbus\, OH\, 43220\, United States
CATEGORIES:Trivia
ATTACH;FMTTYPE=image/jpeg:https://theforgetavern.com/wp-content/uploads/2025/04/Minecraft-5-8-25-FB-e1744325376405.jpg
END:VEVENT
BEGIN:VEVENT
DTSTART;TZID=America/New_York:20250511T163000
DTEND;TZID=America/New_York:20250511T193000
DTSTAMP:20260424T183134
CREATED:20250418T024059Z
LAST-MODIFIED:20250511T192202Z
UID:18454-1746981000-1746991800@theforgetavern.com
SUMMARY:Wire & Wine- Mother's Day Tree of Life Pendant
DESCRIPTION:Wire and Wine – Tree of Life Pendant – GREAT as a Mother’s Day gift! \nJoin us for another wire wrapping class!  This one is open to any skill level. \n$40.00 includes the tools  to use and materials for the pendants.  Class is open to any age. \nOnly those 21 and over with proof of valid ID will be served alcohol.  Those under 21 or those who prefer not to drink wine\, we will have a seasonal option available for you as well! \nYou will complete 2 full pendants. \nGive something hand made
URL:https://theforgetavern.com/event/wire-wine-mothers-day-tree-of-life-pendant/
ATTACH;FMTTYPE=image/jpeg:https://theforgetavern.com/wp-content/uploads/2025/04/tree-of-life.jpg
END:VEVENT
BEGIN:VEVENT
DTSTART;TZID=America/New_York:20250511T193000
DTEND;TZID=America/New_York:20250511T230000
DTSTAMP:20260424T183134
CREATED:20250417T005458Z
LAST-MODIFIED:20250417T010933Z
UID:18446-1746991800-1747004400@theforgetavern.com
SUMMARY:Sunday Karaoke
DESCRIPTION:Join our house KJ’s every Sunday for a night of karaoke fun! \nKaraoke starts at 7:30 and runs until 11pm (close).
URL:https://theforgetavern.com/event/sunday-karaoke-29/
LOCATION:The Forge Tavern\, 1375 Bethel Rd\, Columbus\, OH\, 43220\, United States
CATEGORIES:Karaoke
END:VEVENT
BEGIN:VEVENT
DTSTART;TZID=America/New_York:20250515T200000
DTEND;TZID=America/New_York:20250515T220000
DTSTAMP:20260424T183134
CREATED:20250419T032955Z
LAST-MODIFIED:20250515T224734Z
UID:18464-1747339200-1747346400@theforgetavern.com
SUMMARY:Thursday Trivia - Fantasy Flicks (Movies & Series)
DESCRIPTION:Do you know the square root of an isosceles triangle? Or how many pigs fit in a blanket? Or how many cow farts it takes to fuel a combustion engine? Well\, we don’t either\, but if you know some actual general knowledge trivial things and/or some cool and nerdy themed trivial things\, then The Forge Tavern Trivia Night is for you. \nAll you need to join is a smartphone or tablet\, a team (or just yourself\, you plucky trivia adventurer)\, and the taste for some great food and drinks. We have cool trophies and prizes\, so you really don’t have any excuse not to join us. Unless you’re chicken\, McFly. \nGeneral Knowledge trivia starts at 8pm. The main event\, Fantasy Flicks trivia\, pulls the sword from the stone at 9pm. \nRemember! We’re serving great food and drinks\, so arrive hungry (and thirsty!) and leave satisfied. \nOur trivia fills up fast! A reservation can guarantee that your team gets a seat. Make your reservations now before they’re all gone! Reservations held until 8:05 pm. \nThere is a two drink (or food/beverage equivalent) minimum required for all trivia participants. Tickets are not refundable or transferable.
URL:https://theforgetavern.com/event/thursday-trivia-fantasy-flicks-movies-series/
LOCATION:The Forge Tavern\, 1375 Bethel Rd\, Columbus\, OH\, 43220\, United States
CATEGORIES:Trivia
ATTACH;FMTTYPE=image/jpeg:https://theforgetavern.com/wp-content/uploads/2025/04/Fantasy-Flicks-5-15-25-FB-e1745033087653.jpg
END:VEVENT
BEGIN:VEVENT
DTSTART;TZID=America/New_York:20250518T193000
DTEND;TZID=America/New_York:20250518T230000
DTSTAMP:20260424T183134
CREATED:20250417T010347Z
LAST-MODIFIED:20250417T011040Z
UID:18448-1747596600-1747609200@theforgetavern.com
SUMMARY:Sunday Karaoke
DESCRIPTION:Join our house KJ’s every Sunday for a night of karaoke fun! \nKaraoke starts at 7:30 and runs until 11pm (close).
URL:https://theforgetavern.com/event/sunday-karaoke-30/
LOCATION:The Forge Tavern\, 1375 Bethel Rd\, Columbus\, OH\, 43220\, United States
CATEGORIES:Karaoke
END:VEVENT
BEGIN:VEVENT
DTSTART;TZID=America/New_York:20250522T200000
DTEND;TZID=America/New_York:20250522T220000
DTSTAMP:20260424T183134
CREATED:20250430T230455Z
LAST-MODIFIED:20250430T230455Z
UID:18634-1747944000-1747951200@theforgetavern.com
SUMMARY:Thursday Trivia - Hogwart's Summer Holiday
DESCRIPTION:Do you know the square root of an isosceles triangle? Or how many pigs fit in a blanket? Or how many cow farts it takes to fuel a combustion engine? Well\, we don’t either\, but if you know some actual general knowledge trivial things and/or some cool and nerdy themed trivial things\, then The Forge Tavern Trivia Night is for you. \nAll you need to join is a smartphone or tablet\, a team (or just yourself\, you plucky trivia adventurer)\, and the taste for some great food and drinks. We have cool trophies and prizes\, so you really don’t have any excuse not to join us. Unless you’re chicken\, McFly. \nGeneral Knowledge trivia starts at 8pm. The main event\, Hogwart’s Summer Holiday: Harry Potter trivia\, returns to 4 Privet Drive for the summer at 9pm. \nRemember! We’re serving great food and drinks\, so arrive hungry (and thirsty!) and leave satisfied. \nOur trivia fills up fast! A reservation can guarantee that your team gets a seat. Make your reservations now before they’re all gone! Reservations held until 8:05 pm. \nThere is a two drink (or food/beverage equivalent) minimum required for all trivia participants. Tickets are not refundable or transferable.
URL:https://theforgetavern.com/event/thursday-trivia-hogwarts-summer-holiday/
LOCATION:The Forge Tavern\, 1375 Bethel Rd\, Columbus\, OH\, 43220\, United States
CATEGORIES:Trivia
ATTACH;FMTTYPE=image/jpeg:https://theforgetavern.com/wp-content/uploads/2025/04/Harry-Potter-Hogwarts-Summer-Holiday-5-22-25-FB-e1746053368267.jpg
END:VEVENT
BEGIN:VEVENT
DTSTART;TZID=America/New_York:20250525T193000
DTEND;TZID=America/New_York:20250525T230000
DTSTAMP:20260424T183134
CREATED:20250511T013819Z
LAST-MODIFIED:20250511T013819Z
UID:18755-1748201400-1748214000@theforgetavern.com
SUMMARY:Sunday Karaoke
DESCRIPTION:Join our house KJ’s every Sunday for a night of karaoke fun! \nKaraoke starts at 7:30 and runs until 11pm (close).
URL:https://theforgetavern.com/event/sunday-karaoke-31/
END:VEVENT
BEGIN:VEVENT
DTSTART;TZID=America/New_York:20250528T180000
DTEND;TZID=America/New_York:20250528T230000
DTSTAMP:20260424T183134
CREATED:20250522T052630Z
LAST-MODIFIED:20250523T181121Z
UID:18855-1748455200-1748473200@theforgetavern.com
SUMMARY:Board Game Meet Up
DESCRIPTION:Fourth Wednesday Board Game Meet up! \nJoin Erin us for an evening of TTBG!  Our Board Game Sommelier will be on hand to help with game play.  We have plenty of seating for you to join in. \n5:30 – 11pm \nNo fee for this event\, simply order food/drink to participate. \nEvery Great Adventure Begins at the Tavern — The Forge Tavern! \nLet your adventure begin! \n  \n 
URL:https://theforgetavern.com/event/board-game-meet-up/
ATTACH;FMTTYPE=image/webp:https://theforgetavern.com/wp-content/uploads/2025/05/board-game-library.webp
END:VEVENT
BEGIN:VEVENT
DTSTART;TZID=America/New_York:20250529T200000
DTEND;TZID=America/New_York:20250529T220000
DTSTAMP:20260424T183134
CREATED:20250511T011524Z
LAST-MODIFIED:20250529T033909Z
UID:18743-1748548800-1748556000@theforgetavern.com
SUMMARY:Thursday Trivia - Dungeons & Dragons
DESCRIPTION:Do you know the square root of an isosceles triangle? Or how many pigs fit in a blanket? Or how many cow farts it takes to fuel a combustion engine? Well\, we don’t either\, but if you know some actual general knowledge trivial things and/or some cool and nerdy themed trivial things\, then The Forge Tavern Trivia Night is for you. \nAll you need to join is a smartphone or tablet\, a team (or just yourself\, you plucky trivia adventurer)\, and the taste for some great food and drinks. We have cool trophies and prizes\, so you really don’t have any excuse not to join us. Unless you’re chicken\, McFly. \nGeneral Knowledge trivia starts at 8pm. The main event\, D&D trivia\, Saves vs Confusion at 9pm. \nRemember! We’re serving great food and drinks\, so arrive hungry (and thirsty!) and leave satisfied. \nOur trivia fills up fast! A reservation can guarantee that your team gets a seat. Make your reservations now before they’re all gone! Reservations held until 8:05 pm. \nThere is a two drink (or food/beverage equivalent) minimum required for all trivia participants. Tickets are not refundable or transferable.
URL:https://theforgetavern.com/event/thursday-trivia-dungeons-dragons-5/
LOCATION:The Forge Tavern\, 1375 Bethel Rd\, Columbus\, OH\, 43220\, United States
CATEGORIES:Trivia
ATTACH;FMTTYPE=image/jpeg:https://theforgetavern.com/wp-content/uploads/2025/05/Dungeons-Dragons-5-29-25-FB-e1746925852499.jpg
END:VEVENT
END:VCALENDAR