BEGIN:VCALENDAR
VERSION:2.0
PRODID:-//The Forge Tavern - ECPv6.15.20//NONSGML v1.0//EN
CALSCALE:GREGORIAN
METHOD:PUBLISH
X-ORIGINAL-URL:https://theforgetavern.com
X-WR-CALDESC:Events for The Forge Tavern
REFRESH-INTERVAL;VALUE=DURATION:PT1H
X-Robots-Tag:noindex
X-PUBLISHED-TTL:PT1H
BEGIN:VTIMEZONE
TZID:America/New_York
BEGIN:DAYLIGHT
TZOFFSETFROM:-0500
TZOFFSETTO:-0400
TZNAME:EDT
DTSTART:20240310T070000
END:DAYLIGHT
BEGIN:STANDARD
TZOFFSETFROM:-0400
TZOFFSETTO:-0500
TZNAME:EST
DTSTART:20241103T060000
END:STANDARD
BEGIN:DAYLIGHT
TZOFFSETFROM:-0500
TZOFFSETTO:-0400
TZNAME:EDT
DTSTART:20250309T070000
END:DAYLIGHT
BEGIN:STANDARD
TZOFFSETFROM:-0400
TZOFFSETTO:-0500
TZNAME:EST
DTSTART:20251102T060000
END:STANDARD
BEGIN:DAYLIGHT
TZOFFSETFROM:-0500
TZOFFSETTO:-0400
TZNAME:EDT
DTSTART:20260308T070000
END:DAYLIGHT
BEGIN:STANDARD
TZOFFSETFROM:-0400
TZOFFSETTO:-0500
TZNAME:EST
DTSTART:20261101T060000
END:STANDARD
END:VTIMEZONE
BEGIN:VEVENT
DTSTART;TZID=America/New_York:20250219T170000
DTEND;TZID=America/New_York:20250219T230000
DTSTAMP:20260424T072513
CREATED:20250130T164843Z
LAST-MODIFIED:20250130T164945Z
UID:17151-1739984400-1740006000@theforgetavern.com
SUMMARY:Magic the Gathering - Casual Commander
DESCRIPTION:Magic the Gathering \nWe offer a fun space for you to play casual commander!  It’s easy to join\, just bring your decks.  We have a great selection of cocktails\, beers and food for you to enjoy while you play. \nCards and accessories available in our retail portion if you’re looking for boosters\, card sleeves or deck boxes. \n2-Cocktail minimum or food/drink equivalent. (Yes\, you can include retail for your minimum!) \nEvery Great Adventure begins at the Tavern — The Forge Tavern \nLet your adventure begin!
URL:https://theforgetavern.com/event/magic-the-gathering-casual-commander-13/
CATEGORIES:Magic the Gathering
END:VEVENT
BEGIN:VEVENT
DTSTART;TZID=America/New_York:20250226T170000
DTEND;TZID=America/New_York:20250226T230000
DTSTAMP:20260424T072513
CREATED:20250130T165054Z
LAST-MODIFIED:20250130T165237Z
UID:17153-1740589200-1740610800@theforgetavern.com
SUMMARY:Magic the Gathering - Casual Commander
DESCRIPTION:Magic the Gathering \nWe offer a fun space for you to play casual commander!  It’s easy to join\, just bring your decks.  We have a great selection of cocktails\, beers and food for you to enjoy while you play. \nCards and accessories available in our retail portion if you’re looking for boosters\, card sleeves or deck boxes. \n2-Cocktail minimum or food/drink equivalent. (Yes\, you can include retail for your minimum!) \nEvery Great Adventure begins at the Tavern — The Forge Tavern \nLet your adventure begin!
URL:https://theforgetavern.com/event/magic-the-gathering-casual-commander-14/
CATEGORIES:Magic the Gathering
END:VEVENT
END:VCALENDAR